BEGIN:VCALENDAR
VERSION:2.0
PRODID:-//SHADOW - ECPv6.15.20//NONSGML v1.0//EN
CALSCALE:GREGORIAN
METHOD:PUBLISH
X-WR-CALNAME:SHADOW
X-ORIGINAL-URL:https://shadowhabitat.org
X-WR-CALDESC:Events for SHADOW
REFRESH-INTERVAL;VALUE=DURATION:PT1H
X-Robots-Tag:noindex
X-PUBLISHED-TTL:PT1H
BEGIN:VTIMEZONE
TZID:America/Los_Angeles
BEGIN:DAYLIGHT
TZOFFSETFROM:-0800
TZOFFSETTO:-0700
TZNAME:PDT
DTSTART:20190310T100000
END:DAYLIGHT
BEGIN:STANDARD
TZOFFSETFROM:-0700
TZOFFSETTO:-0800
TZNAME:PST
DTSTART:20191103T090000
END:STANDARD
BEGIN:DAYLIGHT
TZOFFSETFROM:-0800
TZOFFSETTO:-0700
TZNAME:PDT
DTSTART:20200308T100000
END:DAYLIGHT
BEGIN:STANDARD
TZOFFSETFROM:-0700
TZOFFSETTO:-0800
TZNAME:PST
DTSTART:20201101T090000
END:STANDARD
BEGIN:DAYLIGHT
TZOFFSETFROM:-0800
TZOFFSETTO:-0700
TZNAME:PDT
DTSTART:20210314T100000
END:DAYLIGHT
BEGIN:STANDARD
TZOFFSETFROM:-0700
TZOFFSETTO:-0800
TZNAME:PST
DTSTART:20211107T090000
END:STANDARD
END:VTIMEZONE
BEGIN:VEVENT
DTSTART;TZID=America/Los_Angeles:20200306T210000
DTEND;TZID=America/Los_Angeles:20200306T230000
DTSTAMP:20260425T072625
CREATED:20191123T215626Z
LAST-MODIFIED:20200207T202414Z
UID:6569-1583528400-1583535600@shadowhabitat.org
SUMMARY:Owl Prowl
DESCRIPTION:EVENT IS FULL\nThe Owl Prowl is back! Join local birding-enthusiast Joe Miles\, to learn about all the owls that call Western Washington home\, their biology\, and how to make an owl call. Then set off on the grounds at SHADOW Lake Nature Preserve after hours to practice your owl calls and see if we can entice an owl to respond!  \nThere is a suggested donation of $10 for this event. \n 
URL:https://shadowhabitat.org/event/owlprowl/
LOCATION:Shadow Lake Nature Preserve\, 21656 184th Ave SE\, Renton\, WA\, 98058\, United States
CATEGORIES:Community Class
ATTACH;FMTTYPE=image/png:https://shadowhabitat.org/wp-content/uploads/2019/11/4-2.png
END:VEVENT
END:VCALENDAR