BEGIN:VCALENDAR
VERSION:2.0
PRODID:-//SHADOW - ECPv6.15.20//NONSGML v1.0//EN
CALSCALE:GREGORIAN
METHOD:PUBLISH
X-ORIGINAL-URL:https://shadowhabitat.org
X-WR-CALDESC:Events for SHADOW
REFRESH-INTERVAL;VALUE=DURATION:PT1H
X-Robots-Tag:noindex
X-PUBLISHED-TTL:PT1H
BEGIN:VTIMEZONE
TZID:America/Los_Angeles
BEGIN:DAYLIGHT
TZOFFSETFROM:-0800
TZOFFSETTO:-0700
TZNAME:PDT
DTSTART:20190310T100000
END:DAYLIGHT
BEGIN:STANDARD
TZOFFSETFROM:-0700
TZOFFSETTO:-0800
TZNAME:PST
DTSTART:20191103T090000
END:STANDARD
BEGIN:DAYLIGHT
TZOFFSETFROM:-0800
TZOFFSETTO:-0700
TZNAME:PDT
DTSTART:20200308T100000
END:DAYLIGHT
BEGIN:STANDARD
TZOFFSETFROM:-0700
TZOFFSETTO:-0800
TZNAME:PST
DTSTART:20201101T090000
END:STANDARD
BEGIN:DAYLIGHT
TZOFFSETFROM:-0800
TZOFFSETTO:-0700
TZNAME:PDT
DTSTART:20210314T100000
END:DAYLIGHT
BEGIN:STANDARD
TZOFFSETFROM:-0700
TZOFFSETTO:-0800
TZNAME:PST
DTSTART:20211107T090000
END:STANDARD
END:VTIMEZONE
BEGIN:VEVENT
DTSTART;TZID=America/Los_Angeles:20200508T100000
DTEND;TZID=America/Los_Angeles:20200508T110000
DTSTAMP:20260423T022427
CREATED:20200227T235130Z
LAST-MODIFIED:20200514T211449Z
UID:6824-1588932000-1588935600@shadowhabitat.org
SUMMARY:CANCELLED - Guided Nature Walk: Sustainable Hiking Practices
DESCRIPTION:Explore the beauty of our trails with a guide at SHADOW Lake Nature Preserve and learn about sustainable hiking practices. We’ll discuss leave no trace principles and how you can help protect our favorite native species while on the trail!    \nGuided Nature Walks are outdoor explorations that take place rain or shine. Come with weather appropriate clothes and shoes for moderate levels of walking – inclines or uneven ground may be encountered on this walk.  \n 
URL:https://shadowhabitat.org/event/gnw-sustainable-hiking/
LOCATION:Shadow Lake Nature Preserve\, 21656 184th Ave SE\, Renton\, WA\, 98058\, United States
CATEGORIES:Guided Nature Walks
ATTACH;FMTTYPE=image/png:https://shadowhabitat.org/wp-content/uploads/2020/02/3-1.png
END:VEVENT
END:VCALENDAR