BEGIN:VCALENDAR
VERSION:2.0
PRODID:-//SHADOW - ECPv6.15.20//NONSGML v1.0//EN
CALSCALE:GREGORIAN
METHOD:PUBLISH
X-ORIGINAL-URL:https://shadowhabitat.org
X-WR-CALDESC:Events for SHADOW
REFRESH-INTERVAL;VALUE=DURATION:PT1H
X-Robots-Tag:noindex
X-PUBLISHED-TTL:PT1H
BEGIN:VTIMEZONE
TZID:America/Los_Angeles
BEGIN:DAYLIGHT
TZOFFSETFROM:-0800
TZOFFSETTO:-0700
TZNAME:PDT
DTSTART:20190310T100000
END:DAYLIGHT
BEGIN:STANDARD
TZOFFSETFROM:-0700
TZOFFSETTO:-0800
TZNAME:PST
DTSTART:20191103T090000
END:STANDARD
BEGIN:DAYLIGHT
TZOFFSETFROM:-0800
TZOFFSETTO:-0700
TZNAME:PDT
DTSTART:20200308T100000
END:DAYLIGHT
BEGIN:STANDARD
TZOFFSETFROM:-0700
TZOFFSETTO:-0800
TZNAME:PST
DTSTART:20201101T090000
END:STANDARD
BEGIN:DAYLIGHT
TZOFFSETFROM:-0800
TZOFFSETTO:-0700
TZNAME:PDT
DTSTART:20210314T100000
END:DAYLIGHT
BEGIN:STANDARD
TZOFFSETFROM:-0700
TZOFFSETTO:-0800
TZNAME:PST
DTSTART:20211107T090000
END:STANDARD
END:VTIMEZONE
BEGIN:VEVENT
DTSTART;TZID=America/Los_Angeles:20200530T130000
DTEND;TZID=America/Los_Angeles:20200530T143000
DTSTAMP:20260423T022248
CREATED:20200228T000758Z
LAST-MODIFIED:20200514T205914Z
UID:6833-1590843600-1590849000@shadowhabitat.org
SUMMARY:CANCELLED - Washington's Carnivores
DESCRIPTION:Come learn about Washington’s most fabulous large carnivores\, cougars and wolves!   \nEnjoy an afternoon at the Nature Preserve and learn about carnivores from our guest educator\, Sasha Hendricks! Sasha will discusses the background of these species\, their position in the wild\, interactions with humans\, and more. Sasha will provide insight on time spent in the field assisting on carnivore related projects with the University of Washington and Washington Department of Fish and Wildlife. Sasha Hendricks works for the Cougar Mountain Zoo as an Education Curator and has 15 years of experience working within a zoological setting. \n 
URL:https://shadowhabitat.org/event/carnivores/
LOCATION:Shadow Lake Nature Preserve\, 21656 184th Ave SE\, Renton\, WA\, 98058\, United States
CATEGORIES:Community Class
ATTACH;FMTTYPE=image/png:https://shadowhabitat.org/wp-content/uploads/2020/02/9-1.png
END:VEVENT
END:VCALENDAR