BEGIN:VCALENDAR
VERSION:2.0
PRODID:-//SHADOW - ECPv6.15.20//NONSGML v1.0//EN
CALSCALE:GREGORIAN
METHOD:PUBLISH
X-WR-CALNAME:SHADOW
X-ORIGINAL-URL:https://shadowhabitat.org
X-WR-CALDESC:Events for SHADOW
REFRESH-INTERVAL;VALUE=DURATION:PT1H
X-Robots-Tag:noindex
X-PUBLISHED-TTL:PT1H
BEGIN:VTIMEZONE
TZID:America/Los_Angeles
BEGIN:DAYLIGHT
TZOFFSETFROM:-0800
TZOFFSETTO:-0700
TZNAME:PDT
DTSTART:20190310T100000
END:DAYLIGHT
BEGIN:STANDARD
TZOFFSETFROM:-0700
TZOFFSETTO:-0800
TZNAME:PST
DTSTART:20191103T090000
END:STANDARD
BEGIN:DAYLIGHT
TZOFFSETFROM:-0800
TZOFFSETTO:-0700
TZNAME:PDT
DTSTART:20200308T100000
END:DAYLIGHT
BEGIN:STANDARD
TZOFFSETFROM:-0700
TZOFFSETTO:-0800
TZNAME:PST
DTSTART:20201101T090000
END:STANDARD
BEGIN:DAYLIGHT
TZOFFSETFROM:-0800
TZOFFSETTO:-0700
TZNAME:PDT
DTSTART:20210314T100000
END:DAYLIGHT
BEGIN:STANDARD
TZOFFSETFROM:-0700
TZOFFSETTO:-0800
TZNAME:PST
DTSTART:20211107T090000
END:STANDARD
END:VTIMEZONE
BEGIN:VEVENT
DTSTART;TZID=America/Los_Angeles:20200815T133000
DTEND;TZID=America/Los_Angeles:20200815T153000
DTSTAMP:20260422T185213
CREATED:20200616T201134Z
LAST-MODIFIED:20200814T190849Z
UID:7231-1597498200-1597505400@shadowhabitat.org
SUMMARY:(CANCELLED) Forest Therapy
DESCRIPTION:YOU MUST BE REGISTERED TO ATTEND!\nNeed to refresh or get some relaxation? Join Jules Hepp\, a Certified Forest Therapy Guide\, for a two-hour Forest Therapy session at SHADOW Lake Nature Preserve.   \nThis Forest Therapy session will teach & encourage you to walk in the forest at a slower pace and take in the atmosphere around you. These walks are slow-paced and generally cover less than a mile of trail.   \nThis class has a registration fee of $20; pay at the door or Click Here to pay now. Please be sure to also register for the event below\, spots are limited. \nTHIS EVENT HAS BEEN CANCELLED
URL:https://shadowhabitat.org/event/forest-therapy/
LOCATION:Shadow Lake Nature Preserve\, 21656 184th Ave SE\, Renton\, WA\, 98058\, United States
CATEGORIES:Community Class
ATTACH;FMTTYPE=image/png:https://shadowhabitat.org/wp-content/uploads/2020/06/3-1.png
END:VEVENT
END:VCALENDAR