BEGIN:VCALENDAR
VERSION:2.0
PRODID:-//SHADOW - ECPv6.15.20//NONSGML v1.0//EN
CALSCALE:GREGORIAN
METHOD:PUBLISH
X-WR-CALNAME:SHADOW
X-ORIGINAL-URL:https://shadowhabitat.org
X-WR-CALDESC:Events for SHADOW
REFRESH-INTERVAL;VALUE=DURATION:PT1H
X-Robots-Tag:noindex
X-PUBLISHED-TTL:PT1H
BEGIN:VTIMEZONE
TZID:America/Los_Angeles
BEGIN:DAYLIGHT
TZOFFSETFROM:-0800
TZOFFSETTO:-0700
TZNAME:PDT
DTSTART:20190310T100000
END:DAYLIGHT
BEGIN:STANDARD
TZOFFSETFROM:-0700
TZOFFSETTO:-0800
TZNAME:PST
DTSTART:20191103T090000
END:STANDARD
BEGIN:DAYLIGHT
TZOFFSETFROM:-0800
TZOFFSETTO:-0700
TZNAME:PDT
DTSTART:20200308T100000
END:DAYLIGHT
BEGIN:STANDARD
TZOFFSETFROM:-0700
TZOFFSETTO:-0800
TZNAME:PST
DTSTART:20201101T090000
END:STANDARD
BEGIN:DAYLIGHT
TZOFFSETFROM:-0800
TZOFFSETTO:-0700
TZNAME:PDT
DTSTART:20210314T100000
END:DAYLIGHT
BEGIN:STANDARD
TZOFFSETFROM:-0700
TZOFFSETTO:-0800
TZNAME:PST
DTSTART:20211107T090000
END:STANDARD
END:VTIMEZONE
BEGIN:VEVENT
DTSTART;VALUE=DATE:20200824
DTEND;VALUE=DATE:20200830
DTSTAMP:20260422T185208
CREATED:20200701T211932Z
LAST-MODIFIED:20200701T211932Z
UID:7349-1598227200-1598745599@shadowhabitat.org
SUMMARY:Frolic Week
DESCRIPTION:SHADOW Lake Nature Preserve will be hosting Frolic Week in place of our Annual in-person Frog Frolic. \nFrolic Week will have a variety of virtual & self-guided activities occurring at the Nature Preserve starting August 24th through August 29th. Go to the FROLIC WEEK event page to learn more and see how you can participate!
URL:https://shadowhabitat.org/event/frolic-week/
ATTACH;FMTTYPE=image/png:https://shadowhabitat.org/wp-content/uploads/2020/06/5.png
END:VEVENT
END:VCALENDAR