BEGIN:VCALENDAR
VERSION:2.0
PRODID:-//SHADOW - ECPv6.15.20//NONSGML v1.0//EN
CALSCALE:GREGORIAN
METHOD:PUBLISH
X-WR-CALNAME:SHADOW
X-ORIGINAL-URL:https://shadowhabitat.org
X-WR-CALDESC:Events for SHADOW
REFRESH-INTERVAL;VALUE=DURATION:PT1H
X-Robots-Tag:noindex
X-PUBLISHED-TTL:PT1H
BEGIN:VTIMEZONE
TZID:America/Los_Angeles
BEGIN:DAYLIGHT
TZOFFSETFROM:-0800
TZOFFSETTO:-0700
TZNAME:PDT
DTSTART:20200308T100000
END:DAYLIGHT
BEGIN:STANDARD
TZOFFSETFROM:-0700
TZOFFSETTO:-0800
TZNAME:PST
DTSTART:20201101T090000
END:STANDARD
BEGIN:DAYLIGHT
TZOFFSETFROM:-0800
TZOFFSETTO:-0700
TZNAME:PDT
DTSTART:20210314T100000
END:DAYLIGHT
BEGIN:STANDARD
TZOFFSETFROM:-0700
TZOFFSETTO:-0800
TZNAME:PST
DTSTART:20211107T090000
END:STANDARD
BEGIN:DAYLIGHT
TZOFFSETFROM:-0800
TZOFFSETTO:-0700
TZNAME:PDT
DTSTART:20220313T100000
END:DAYLIGHT
BEGIN:STANDARD
TZOFFSETFROM:-0700
TZOFFSETTO:-0800
TZNAME:PST
DTSTART:20221106T090000
END:STANDARD
END:VTIMEZONE
BEGIN:VEVENT
DTSTART;TZID=America/Los_Angeles:20210211T183000
DTEND;TZID=America/Los_Angeles:20210211T203000
DTSTAMP:20260422T053431
CREATED:20201211T235020Z
LAST-MODIFIED:20210212T024852Z
UID:7708-1613068200-1613075400@shadowhabitat.org
SUMMARY:Washington's Carnivores (Virtual)
DESCRIPTION:Join SHADOW Lake Nature Preserve and Sasha Hendricks from the Cougar Mountain Zoo on Thursday\, February 11 6:30 to 8:30 pm for a virtual talk about Washington’s large carnivores. You’ll learn about our wonderful\, local carnivores and the state of co-existing with large carnivores like cougars\, wolves\, and bears. \nRegistration for this class is CLOSED. \n\n 
URL:https://shadowhabitat.org/event/carnivore-class/
CATEGORIES:Community Class
ATTACH;FMTTYPE=image/png:https://shadowhabitat.org/wp-content/uploads/2020/12/2.png
END:VEVENT
END:VCALENDAR