BEGIN:VCALENDAR
VERSION:2.0
PRODID:-//SHADOW - ECPv6.15.20//NONSGML v1.0//EN
CALSCALE:GREGORIAN
METHOD:PUBLISH
X-WR-CALNAME:SHADOW
X-ORIGINAL-URL:https://shadowhabitat.org
X-WR-CALDESC:Events for SHADOW
REFRESH-INTERVAL;VALUE=DURATION:PT1H
X-Robots-Tag:noindex
X-PUBLISHED-TTL:PT1H
BEGIN:VTIMEZONE
TZID:America/Los_Angeles
BEGIN:DAYLIGHT
TZOFFSETFROM:-0800
TZOFFSETTO:-0700
TZNAME:PDT
DTSTART:20200308T100000
END:DAYLIGHT
BEGIN:STANDARD
TZOFFSETFROM:-0700
TZOFFSETTO:-0800
TZNAME:PST
DTSTART:20201101T090000
END:STANDARD
BEGIN:DAYLIGHT
TZOFFSETFROM:-0800
TZOFFSETTO:-0700
TZNAME:PDT
DTSTART:20210314T100000
END:DAYLIGHT
BEGIN:STANDARD
TZOFFSETFROM:-0700
TZOFFSETTO:-0800
TZNAME:PST
DTSTART:20211107T090000
END:STANDARD
BEGIN:DAYLIGHT
TZOFFSETFROM:-0800
TZOFFSETTO:-0700
TZNAME:PDT
DTSTART:20220313T100000
END:DAYLIGHT
BEGIN:STANDARD
TZOFFSETFROM:-0700
TZOFFSETTO:-0800
TZNAME:PST
DTSTART:20221106T090000
END:STANDARD
END:VTIMEZONE
BEGIN:VEVENT
DTSTART;TZID=America/Los_Angeles:20210319T173000
DTEND;TZID=America/Los_Angeles:20210319T193000
DTSTAMP:20260422T130206
CREATED:20201212T000541Z
LAST-MODIFIED:20201212T003510Z
UID:7718-1616175000-1616182200@shadowhabitat.org
SUMMARY:Water Wizards 101 (Virtual)
DESCRIPTION:Join us in celebrating World Water Day by learning about the magic of water through easy\, at-home experiments. This family friendly class will take place virtually\, via Zoom\, where you will learn the basics of being mad water scientists while learning about the characteristics of water\, the water cycle\, and watersheds!  \n*This class will walk you through simple\, hands-on experiments that can be done with common materials found around your home.  \nRegistration is required\, a link to the Zoom class will be sent out the day before the event to all event registrants. \nHelp SHADOW continue our Community Class Program by making a suggested contribution to this program. Suggested participation fee $5.00 – Pay Here!  \n\n	Notice: JavaScript is required for this content.\nNo Fields Found.
URL:https://shadowhabitat.org/event/water101/
CATEGORIES:Community Class
ATTACH;FMTTYPE=image/png:https://shadowhabitat.org/wp-content/uploads/2020/12/3.png
END:VEVENT
END:VCALENDAR