BEGIN:VCALENDAR
VERSION:2.0
PRODID:-//SHADOW - ECPv6.15.20//NONSGML v1.0//EN
CALSCALE:GREGORIAN
METHOD:PUBLISH
X-ORIGINAL-URL:https://shadowhabitat.org
X-WR-CALDESC:Events for SHADOW
REFRESH-INTERVAL;VALUE=DURATION:PT1H
X-Robots-Tag:noindex
X-PUBLISHED-TTL:PT1H
BEGIN:VTIMEZONE
TZID:America/Los_Angeles
BEGIN:DAYLIGHT
TZOFFSETFROM:-0800
TZOFFSETTO:-0700
TZNAME:PDT
DTSTART:20200308T100000
END:DAYLIGHT
BEGIN:STANDARD
TZOFFSETFROM:-0700
TZOFFSETTO:-0800
TZNAME:PST
DTSTART:20201101T090000
END:STANDARD
BEGIN:DAYLIGHT
TZOFFSETFROM:-0800
TZOFFSETTO:-0700
TZNAME:PDT
DTSTART:20210314T100000
END:DAYLIGHT
BEGIN:STANDARD
TZOFFSETFROM:-0700
TZOFFSETTO:-0800
TZNAME:PST
DTSTART:20211107T090000
END:STANDARD
BEGIN:DAYLIGHT
TZOFFSETFROM:-0800
TZOFFSETTO:-0700
TZNAME:PDT
DTSTART:20220313T100000
END:DAYLIGHT
BEGIN:STANDARD
TZOFFSETFROM:-0700
TZOFFSETTO:-0800
TZNAME:PST
DTSTART:20221106T090000
END:STANDARD
END:VTIMEZONE
BEGIN:VEVENT
DTSTART;TZID=America/Los_Angeles:20210326T100000
DTEND;TZID=America/Los_Angeles:20210326T110000
DTSTAMP:20260422T130528
CREATED:20201212T001352Z
LAST-MODIFIED:20201212T001408Z
UID:7720-1616752800-1616756400@shadowhabitat.org
SUMMARY:Guided Nature Walk: Water
DESCRIPTION:REGISTRATION IS REQUIRED\nExplore the beauty of the Nature Preserve with a guide and learn more about the habitats of SHADOW. During this guided nature walk we will discover the role water plays at the Nature Preserve. We will discuss how important water is to the bog and how it connects beyond SHADOW to other ecosystems. \nAll event attendees must be registered in advance to attend. All attendees\, of appropriate age\, MUST wear a face covering to attend.\n\n	Notice: JavaScript is required for this content.\nNo Fields Found.
URL:https://shadowhabitat.org/event/water-walk/
LOCATION:Shadow Lake Nature Preserve\, 21656 184th Ave SE\, Renton\, WA\, 98058\, United States
CATEGORIES:Guided Nature Walks
ATTACH;FMTTYPE=image/png:https://shadowhabitat.org/wp-content/uploads/2020/12/4.png
END:VEVENT
END:VCALENDAR