BEGIN:VCALENDAR
VERSION:2.0
PRODID:-//SHADOW - ECPv6.15.20//NONSGML v1.0//EN
CALSCALE:GREGORIAN
METHOD:PUBLISH
X-ORIGINAL-URL:https://shadowhabitat.org
X-WR-CALDESC:Events for SHADOW
REFRESH-INTERVAL;VALUE=DURATION:PT1H
X-Robots-Tag:noindex
X-PUBLISHED-TTL:PT1H
BEGIN:VTIMEZONE
TZID:America/Los_Angeles
BEGIN:DAYLIGHT
TZOFFSETFROM:-0800
TZOFFSETTO:-0700
TZNAME:PDT
DTSTART:20200308T100000
END:DAYLIGHT
BEGIN:STANDARD
TZOFFSETFROM:-0700
TZOFFSETTO:-0800
TZNAME:PST
DTSTART:20201101T090000
END:STANDARD
BEGIN:DAYLIGHT
TZOFFSETFROM:-0800
TZOFFSETTO:-0700
TZNAME:PDT
DTSTART:20210314T100000
END:DAYLIGHT
BEGIN:STANDARD
TZOFFSETFROM:-0700
TZOFFSETTO:-0800
TZNAME:PST
DTSTART:20211107T090000
END:STANDARD
BEGIN:DAYLIGHT
TZOFFSETFROM:-0800
TZOFFSETTO:-0700
TZNAME:PDT
DTSTART:20220313T100000
END:DAYLIGHT
BEGIN:STANDARD
TZOFFSETFROM:-0700
TZOFFSETTO:-0800
TZNAME:PST
DTSTART:20221106T090000
END:STANDARD
END:VTIMEZONE
BEGIN:VEVENT
DTSTART;TZID=America/Los_Angeles:20210424T100000
DTEND;TZID=America/Los_Angeles:20210424T150000
DTSTAMP:20260422T020943
CREATED:20210309T234901Z
LAST-MODIFIED:20210309T234901Z
UID:8002-1619258400-1619276400@shadowhabitat.org
SUMMARY:Earth Day Scavenger Hunt
DESCRIPTION:REGISTRATION REQUIRED!\nJoin us in celebrating Earth Day by hiking along SHADOW’s upland trail system to discover facts and clues about the natural world around us. This family friendly scavenger hunt will challenge you to work together as a group to uncover fun facts about our environment and think about ways you can help conserve and protect the natural world around us.   \nYou must secure a reserved time slot to participate. Limited number of families/groups are allowed at a time. Each time slot is good for one household or group of 6 or less.  \n*This is an event for all ages\, children 16 and under should be accompanied by an adult. All event attendees must wear a face covering.  \nReserve your scavenger hunt time below:\n[ssa_booking type=earth-day-scavenger-hunt]
URL:https://shadowhabitat.org/event/scavenger-hunt/
ATTACH;FMTTYPE=image/png:https://shadowhabitat.org/wp-content/uploads/2021/03/3.png
END:VEVENT
END:VCALENDAR