BEGIN:VCALENDAR
VERSION:2.0
PRODID:-//SHADOW - ECPv6.15.20//NONSGML v1.0//EN
CALSCALE:GREGORIAN
METHOD:PUBLISH
X-WR-CALNAME:SHADOW
X-ORIGINAL-URL:https://shadowhabitat.org
X-WR-CALDESC:Events for SHADOW
REFRESH-INTERVAL;VALUE=DURATION:PT1H
X-Robots-Tag:noindex
X-PUBLISHED-TTL:PT1H
BEGIN:VTIMEZONE
TZID:America/Los_Angeles
BEGIN:DAYLIGHT
TZOFFSETFROM:-0800
TZOFFSETTO:-0700
TZNAME:PDT
DTSTART:20200308T100000
END:DAYLIGHT
BEGIN:STANDARD
TZOFFSETFROM:-0700
TZOFFSETTO:-0800
TZNAME:PST
DTSTART:20201101T090000
END:STANDARD
BEGIN:DAYLIGHT
TZOFFSETFROM:-0800
TZOFFSETTO:-0700
TZNAME:PDT
DTSTART:20210314T100000
END:DAYLIGHT
BEGIN:STANDARD
TZOFFSETFROM:-0700
TZOFFSETTO:-0800
TZNAME:PST
DTSTART:20211107T090000
END:STANDARD
BEGIN:DAYLIGHT
TZOFFSETFROM:-0800
TZOFFSETTO:-0700
TZNAME:PDT
DTSTART:20220313T100000
END:DAYLIGHT
BEGIN:STANDARD
TZOFFSETFROM:-0700
TZOFFSETTO:-0800
TZNAME:PST
DTSTART:20221106T090000
END:STANDARD
END:VTIMEZONE
BEGIN:VEVENT
DTSTART;TZID=America/Los_Angeles:20210820T180000
DTEND;TZID=America/Los_Angeles:20210820T190000
DTSTAMP:20260422T194930
CREATED:20210708T233019Z
LAST-MODIFIED:20210708T233019Z
UID:8286-1629482400-1629486000@shadowhabitat.org
SUMMARY:Guided Nature Walk: Wildfire Ecology
DESCRIPTION:REGISTERATION REQUIRED\nJoin us for an evening stroll and learn about the history of wildfire in the Pacific Northwest\, and what you can do to prevent wildfires.  \nGuided Nature Walks are outdoor explorations that take place rain or shine\, designed for people of all ages. Come with weather appropriate clothes and shoes for moderate levels of walking – inclines or uneven ground may be encountered on this walk.    \n\n	Notice: JavaScript is required for this content.\nNo Fields Found.
URL:https://shadowhabitat.org/event/wildfire-walk/
LOCATION:Shadow Lake Nature Preserve\, 21656 184th Ave SE\, Renton\, WA\, 98058\, United States
CATEGORIES:Guided Nature Walks
ATTACH;FMTTYPE=image/png:https://shadowhabitat.org/wp-content/uploads/2021/06/4.png
END:VEVENT
END:VCALENDAR