BEGIN:VCALENDAR
VERSION:2.0
PRODID:-//SHADOW - ECPv6.15.20//NONSGML v1.0//EN
CALSCALE:GREGORIAN
METHOD:PUBLISH
X-WR-CALNAME:SHADOW
X-ORIGINAL-URL:https://shadowhabitat.org
X-WR-CALDESC:Events for SHADOW
REFRESH-INTERVAL;VALUE=DURATION:PT1H
X-Robots-Tag:noindex
X-PUBLISHED-TTL:PT1H
BEGIN:VTIMEZONE
TZID:America/Los_Angeles
BEGIN:DAYLIGHT
TZOFFSETFROM:-0800
TZOFFSETTO:-0700
TZNAME:PDT
DTSTART:20200308T100000
END:DAYLIGHT
BEGIN:STANDARD
TZOFFSETFROM:-0700
TZOFFSETTO:-0800
TZNAME:PST
DTSTART:20201101T090000
END:STANDARD
BEGIN:DAYLIGHT
TZOFFSETFROM:-0800
TZOFFSETTO:-0700
TZNAME:PDT
DTSTART:20210314T100000
END:DAYLIGHT
BEGIN:STANDARD
TZOFFSETFROM:-0700
TZOFFSETTO:-0800
TZNAME:PST
DTSTART:20211107T090000
END:STANDARD
BEGIN:DAYLIGHT
TZOFFSETFROM:-0800
TZOFFSETTO:-0700
TZNAME:PDT
DTSTART:20220313T100000
END:DAYLIGHT
BEGIN:STANDARD
TZOFFSETFROM:-0700
TZOFFSETTO:-0800
TZNAME:PST
DTSTART:20221106T090000
END:STANDARD
END:VTIMEZONE
BEGIN:VEVENT
DTSTART;TZID=America/Los_Angeles:20210918T110000
DTEND;TZID=America/Los_Angeles:20210918T123000
DTSTAMP:20260422T212537
CREATED:20210609T205817Z
LAST-MODIFIED:20210609T211434Z
UID:8227-1631962800-1631968200@shadowhabitat.org
SUMMARY:Sustainable Hiking Class
DESCRIPTION:REGISTRATION REQUIRED\nCome and learn about sustainable hiking practices with SHADOW Lake Nature Preserve! We will discuss environmental ethics\, Leave No Trace principles\, tips on how to make your time spent outdoors more sustainable\, and resources on how to learn more.  \n*This is an event for all ages\, children under 16 should be accompanied by an adult.  \nThere is a $5 suggest program fee per person for this class. All program fee donations help continue SHADOW’s Community Class Program and supports education at the Nature Preserve! CLICK HERE to pay the suggested program fee. \n\n	Notice: JavaScript is required for this content.\nNo Fields Found.
URL:https://shadowhabitat.org/event/sustainable-hiking-class/
LOCATION:Shadow Lake Nature Preserve\, 21656 184th Ave SE\, Renton\, WA\, 98058\, United States
CATEGORIES:Community Class
ATTACH;FMTTYPE=image/png:https://shadowhabitat.org/wp-content/uploads/2021/06/11.png
END:VEVENT
END:VCALENDAR