BEGIN:VCALENDAR
VERSION:2.0
PRODID:-//SHADOW - ECPv6.15.20//NONSGML v1.0//EN
CALSCALE:GREGORIAN
METHOD:PUBLISH
X-ORIGINAL-URL:https://shadowhabitat.org
X-WR-CALDESC:Events for SHADOW
REFRESH-INTERVAL;VALUE=DURATION:PT1H
X-Robots-Tag:noindex
X-PUBLISHED-TTL:PT1H
BEGIN:VTIMEZONE
TZID:America/Los_Angeles
BEGIN:DAYLIGHT
TZOFFSETFROM:-0800
TZOFFSETTO:-0700
TZNAME:PDT
DTSTART:20210314T100000
END:DAYLIGHT
BEGIN:STANDARD
TZOFFSETFROM:-0700
TZOFFSETTO:-0800
TZNAME:PST
DTSTART:20211107T090000
END:STANDARD
BEGIN:DAYLIGHT
TZOFFSETFROM:-0800
TZOFFSETTO:-0700
TZNAME:PDT
DTSTART:20220313T100000
END:DAYLIGHT
BEGIN:STANDARD
TZOFFSETFROM:-0700
TZOFFSETTO:-0800
TZNAME:PST
DTSTART:20221106T090000
END:STANDARD
BEGIN:DAYLIGHT
TZOFFSETFROM:-0800
TZOFFSETTO:-0700
TZNAME:PDT
DTSTART:20230312T100000
END:DAYLIGHT
BEGIN:STANDARD
TZOFFSETFROM:-0700
TZOFFSETTO:-0800
TZNAME:PST
DTSTART:20231105T090000
END:STANDARD
END:VTIMEZONE
BEGIN:VEVENT
DTSTART;TZID=America/Los_Angeles:20220319T090000
DTEND;TZID=America/Los_Angeles:20220319T120000
DTSTAMP:20260423T221919
CREATED:20220215T185427Z
LAST-MODIFIED:20220312T173126Z
UID:8751-1647680400-1647691200@shadowhabitat.org
SUMMARY:Flying WILD Workshop for Educators! (Free)
DESCRIPTION:REGISTRATION REQUIRED\nThis is a FREE workshop for formal and informal educators and facilitated in partnership with Pilchuck Audubon Society! Flying WILD is an all-subject curriculum developed by the Association of Fish and Wildlife Agencies. It offers practical hands-on classroom and outdoor field investigations\, connecting real-world experiences in bird biology\, conservation\, and natural history. Educators will immerse themselves in standards-based activities designed to engage people of all ages in understanding the importance of migratory birds and their conservation. Participants will receive the Flying WILD Curriculum Guide and Education Credits will be available for completing this course. For more information about Flying WILD visit www.fishwildlife.org/projectwild/flying-wild. \nWe are grateful to Pilchuck Audubon Society and West Seattle Garden Tour for allowing us to offer this workshop free of charge! \nRegistration is full! Please email us at education@shadowhabitat.org to get on the waitlist. \n\n	Notice: JavaScript is required for this content.\nNo Fields Found.
URL:https://shadowhabitat.org/event/flying-wild-workshop/
LOCATION:Shadow Lake Nature Preserve\, 21656 184th Ave SE\, Renton\, WA\, 98058\, United States
CATEGORIES:Community Class,Partner Workshop
ATTACH;FMTTYPE=image/png:https://shadowhabitat.org/wp-content/uploads/2022/02/Untitled-design-28.png
END:VEVENT
END:VCALENDAR