BEGIN:VCALENDAR
VERSION:2.0
PRODID:-//SHADOW - ECPv6.15.20//NONSGML v1.0//EN
CALSCALE:GREGORIAN
METHOD:PUBLISH
X-WR-CALNAME:SHADOW
X-ORIGINAL-URL:https://shadowhabitat.org
X-WR-CALDESC:Events for SHADOW
REFRESH-INTERVAL;VALUE=DURATION:PT1H
X-Robots-Tag:noindex
X-PUBLISHED-TTL:PT1H
BEGIN:VTIMEZONE
TZID:UTC
BEGIN:STANDARD
TZOFFSETFROM:+0000
TZOFFSETTO:+0000
TZNAME:UTC
DTSTART:20210101T000000
END:STANDARD
END:VTIMEZONE
BEGIN:VEVENT
DTSTART;TZID=UTC:20220423T130000
DTEND;TZID=UTC:20220423T173000
DTSTAMP:20260423T233522
CREATED:20220325T221713Z
LAST-MODIFIED:20220325T222328Z
UID:8896-1650718800-1650735000@shadowhabitat.org
SUMMARY:Annual Spring Benefit & Auction - Earth Day Celebration
DESCRIPTION:REGISTRATION REQUIRED\nThe Earth Day celebration is a family-friendly event with a scavenger hunt along the Bog Boardwalk Trail as well as other fun educational activities\, raffle prizes\, a native plant sale\, and free snacks and beverages! Only 150 spaces are available—so register soon! \nTo learn more and register\, visit https://shadowhabitat.org/spring-benefit-celebration/.
URL:https://shadowhabitat.org/event/annual-spring-benefit-auction-earth-day-celebration/
LOCATION:Shadow Lake Nature Preserve\, 21656 184th Ave SE\, Renton\, WA\, 98058\, United States
ATTACH;FMTTYPE=image/png:https://shadowhabitat.org/wp-content/uploads/2022/03/Annual-Spring-Benefit-Email.png
END:VEVENT
END:VCALENDAR