BEGIN:VCALENDAR
VERSION:2.0
PRODID:-//SHADOW - ECPv6.15.20//NONSGML v1.0//EN
CALSCALE:GREGORIAN
METHOD:PUBLISH
X-ORIGINAL-URL:https://shadowhabitat.org
X-WR-CALDESC:Events for SHADOW
REFRESH-INTERVAL;VALUE=DURATION:PT1H
X-Robots-Tag:noindex
X-PUBLISHED-TTL:PT1H
BEGIN:VTIMEZONE
TZID:America/Los_Angeles
BEGIN:DAYLIGHT
TZOFFSETFROM:-0800
TZOFFSETTO:-0700
TZNAME:PDT
DTSTART:20210314T100000
END:DAYLIGHT
BEGIN:STANDARD
TZOFFSETFROM:-0700
TZOFFSETTO:-0800
TZNAME:PST
DTSTART:20211107T090000
END:STANDARD
BEGIN:DAYLIGHT
TZOFFSETFROM:-0800
TZOFFSETTO:-0700
TZNAME:PDT
DTSTART:20220313T100000
END:DAYLIGHT
BEGIN:STANDARD
TZOFFSETFROM:-0700
TZOFFSETTO:-0800
TZNAME:PST
DTSTART:20221106T090000
END:STANDARD
BEGIN:DAYLIGHT
TZOFFSETFROM:-0800
TZOFFSETTO:-0700
TZNAME:PDT
DTSTART:20230312T100000
END:DAYLIGHT
BEGIN:STANDARD
TZOFFSETFROM:-0700
TZOFFSETTO:-0800
TZNAME:PST
DTSTART:20231105T090000
END:STANDARD
END:VTIMEZONE
BEGIN:VEVENT
DTSTART;TZID=America/Los_Angeles:20220701T150000
DTEND;TZID=America/Los_Angeles:20220701T160000
DTSTAMP:20260424T201712
CREATED:20220610T181314Z
LAST-MODIFIED:20220628T205640Z
UID:9029-1656687600-1656691200@shadowhabitat.org
SUMMARY:Guided Nature Walk: Fruits and Seed Dispersal
DESCRIPTION:REGISTRATION REQUIRED\nVenture on a forest walk through SHADOW’s trails and discover the fantastic adaptations of plants\, animals\, and fungi for dispersal. Guided Nature Walks are outdoor explorations that take place rain or shine\, designed for people of all ages. Come with weather appropriate clothes and shoes for moderate levels of walking – inclines or uneven ground may be encountered on this walk.   \n	Notice: JavaScript is required for this content.\nNo Fields Found.
URL:https://shadowhabitat.org/event/guided-nature-walk-fruits-and-seed-dispersal/
LOCATION:Shadow Lake Nature Preserve\, 21656 184th Ave SE\, Renton\, WA\, 98058\, United States
ATTACH;FMTTYPE=image/png:https://shadowhabitat.org/wp-content/uploads/2022/06/Dispersal.png
END:VEVENT
END:VCALENDAR