BEGIN:VCALENDAR
VERSION:2.0
PRODID:-//SHADOW - ECPv6.15.20//NONSGML v1.0//EN
CALSCALE:GREGORIAN
METHOD:PUBLISH
X-ORIGINAL-URL:https://shadowhabitat.org
X-WR-CALDESC:Events for SHADOW
REFRESH-INTERVAL;VALUE=DURATION:PT1H
X-Robots-Tag:noindex
X-PUBLISHED-TTL:PT1H
BEGIN:VTIMEZONE
TZID:America/Los_Angeles
BEGIN:DAYLIGHT
TZOFFSETFROM:-0800
TZOFFSETTO:-0700
TZNAME:PDT
DTSTART:20230312T100000
END:DAYLIGHT
BEGIN:STANDARD
TZOFFSETFROM:-0700
TZOFFSETTO:-0800
TZNAME:PST
DTSTART:20231105T090000
END:STANDARD
BEGIN:DAYLIGHT
TZOFFSETFROM:-0800
TZOFFSETTO:-0700
TZNAME:PDT
DTSTART:20240310T100000
END:DAYLIGHT
BEGIN:STANDARD
TZOFFSETFROM:-0700
TZOFFSETTO:-0800
TZNAME:PST
DTSTART:20241103T090000
END:STANDARD
BEGIN:DAYLIGHT
TZOFFSETFROM:-0800
TZOFFSETTO:-0700
TZNAME:PDT
DTSTART:20250309T100000
END:DAYLIGHT
BEGIN:STANDARD
TZOFFSETFROM:-0700
TZOFFSETTO:-0800
TZNAME:PST
DTSTART:20251102T090000
END:STANDARD
END:VTIMEZONE
BEGIN:VEVENT
DTSTART;TZID=America/Los_Angeles:20240420T130000
DTEND;TZID=America/Los_Angeles:20240420T150000
DTSTAMP:20260422T131609
CREATED:20240406T192009Z
LAST-MODIFIED:20240406T192816Z
UID:26314-1713618000-1713625200@shadowhabitat.org
SUMMARY:Earth Day Event: Roadside Litter Cleanup for Shadow!
DESCRIPTION:Help Shadow Lake Nature Preserve clean up litter from Peter Grubb Road this Earth Day.\nEvent Details: \n\nDate: April 20\, 2024\nTime: 1:00 PM – 3:00 PM\nLocation: Shadow Lake Nature Preserve\, 21818 184th Ave SE\, Renton\, Wa 98058\n\nSpend Earth Day and Shadow Lake Nature Preserve’s 25th anniversary helping to clean up the 2 miles of road that stretches past Shadow. With your help we can prevent litter from making its way into the waterways of our beautiful ecosystems! \n\n	Notice: JavaScript is required for this content.\nNo Fields Found.\n\n    \n\n\n        \n        \n        \n\n\n\n\n\n\n\n\n\n\n        \n\n        \n\n         \nJoin us afterwards for a celebration at Bickersons Brewhouse\, Renton. $1 per pint goes directly to support Conservation and Restoration at SHADOW!
URL:https://shadowhabitat.org/event/earthday-litter-cleanup-adopt-a-road/
LOCATION:Shadow Lake Nature Preserve\, 21656 184th Ave SE\, Renton\, WA\, 98058\, United States
CATEGORIES:Community Event,Restoration Work Parties
ATTACH;FMTTYPE=image/jpeg:https://shadowhabitat.org/wp-content/uploads/2024/04/DSC00131-e1712425606732.jpg
ORGANIZER;CN="Stephanie":MAILTO:stephanie@shadowhabitat.org
END:VEVENT
BEGIN:VEVENT
DTSTART;TZID=America/Los_Angeles:20240420T160000
DTEND;TZID=America/Los_Angeles:20240420T190000
DTSTAMP:20260422T131610
CREATED:20240406T173942Z
LAST-MODIFIED:20240406T173952Z
UID:26263-1713628800-1713639600@shadowhabitat.org
SUMMARY:Earth Day with SHADOW Lake Nature Preserve: Bickersons Brewhouse
DESCRIPTION:Join Us to Celebrate 25 years of Conservation! \nEvent Details: \n\nDate: April 20\, 2024\nTime: 4:00 PM – 7:00 PM\nLocation: Bickersons Brewhouse\, 4710 NE 4th St\, Renton\, WA 98059\n\nCelebrate Earth Day and Shadow Lake Nature Preserve’s 25th anniversary while sipping craft beer at Bickersons Brewhouse in Renton. $1 from every pint supports our Habitat Conservation & Restoration Efforts. \nWhy Attend? By joining us\, you’re directly supporting SHADOW to protect wetlands\, educate future stewards\, and foster a love for the outdoors. Let’s raise our glasses for a greener\, healthier planet! \nRSVP in our Event Post on Facebook\, or register below to receive a confirmation email and week- of reminder! \n\n	Notice: JavaScript is required for this content.\nNo Fields Found.\n\n    \n\n\n        \n        \n        \n\n\n\n\n\n\n\n\n\n\n        \n\n        \n\n         \n 
URL:https://shadowhabitat.org/event/earth-day-with-shadow-lake-nature-preserve-bickersons-brewhouse/
LOCATION:Bickersons Brewhouse Renton\, 4710 NE 4th St #C105\, Renton\, 98059\, United States
CATEGORIES:Community Event,Fundraiser,Outreach
ATTACH;FMTTYPE=image/png:https://shadowhabitat.org/wp-content/uploads/2024/04/Raise-a-Pint-for-the-Preserve-1.png
ORGANIZER;CN="Stephanie":MAILTO:stephanie@shadowhabitat.org
END:VEVENT
END:VCALENDAR