BEGIN:VCALENDAR
VERSION:2.0
PRODID:-//SHADOW - ECPv6.15.20//NONSGML v1.0//EN
CALSCALE:GREGORIAN
METHOD:PUBLISH
X-ORIGINAL-URL:https://shadowhabitat.org
X-WR-CALDESC:Events for SHADOW
REFRESH-INTERVAL;VALUE=DURATION:PT1H
X-Robots-Tag:noindex
X-PUBLISHED-TTL:PT1H
BEGIN:VTIMEZONE
TZID:America/Los_Angeles
BEGIN:DAYLIGHT
TZOFFSETFROM:-0800
TZOFFSETTO:-0700
TZNAME:PDT
DTSTART:20230312T100000
END:DAYLIGHT
BEGIN:STANDARD
TZOFFSETFROM:-0700
TZOFFSETTO:-0800
TZNAME:PST
DTSTART:20231105T090000
END:STANDARD
BEGIN:DAYLIGHT
TZOFFSETFROM:-0800
TZOFFSETTO:-0700
TZNAME:PDT
DTSTART:20240310T100000
END:DAYLIGHT
BEGIN:STANDARD
TZOFFSETFROM:-0700
TZOFFSETTO:-0800
TZNAME:PST
DTSTART:20241103T090000
END:STANDARD
BEGIN:DAYLIGHT
TZOFFSETFROM:-0800
TZOFFSETTO:-0700
TZNAME:PDT
DTSTART:20250309T100000
END:DAYLIGHT
BEGIN:STANDARD
TZOFFSETFROM:-0700
TZOFFSETTO:-0800
TZNAME:PST
DTSTART:20251102T090000
END:STANDARD
END:VTIMEZONE
BEGIN:VEVENT
DTSTART;TZID=America/Los_Angeles:20240927T120000
DTEND;TZID=America/Los_Angeles:20240927T130000
DTSTAMP:20260422T230954
CREATED:20240915T010945Z
LAST-MODIFIED:20240915T011848Z
UID:35515-1727438400-1727442000@shadowhabitat.org
SUMMARY:Guided Nature Walk: All Things Bog
DESCRIPTION:This is one of our favorite times of year to walk the Bog Trail. Mosses expand after months of dehydration\, mushrooms abound\, and the leaves are starting to turn. On this guided nature walk we will talk about all things bog; how they form\, their unique plants\, and the role of bogs in protecting environmental health. Bring your bog questions and general curiosity! This program will be most interesting for adults and older kids (aged 14+)\, and will take place rain or shine\, so come prepared for the weather. \nThis is a free event\, but please consider making a donation to help support our education and restoration work!
URL:https://shadowhabitat.org/event/guided-nature-walk-all-things-bog/
LOCATION:Shadow Lake Nature Preserve\, 21656 184th Ave SE\, Renton\, WA\, 98058\, United States
CATEGORIES:Guided Nature Walks
ATTACH;FMTTYPE=image/jpeg:https://shadowhabitat.org/wp-content/uploads/2024/09/dadandkid_in_bog-scaled.jpeg
ORGANIZER;CN="Cecilia":MAILTO:cecilia@shadowhabitat.org
END:VEVENT
END:VCALENDAR