BEGIN:VCALENDAR
VERSION:2.0
PRODID:-//SHADOW - ECPv6.15.20//NONSGML v1.0//EN
CALSCALE:GREGORIAN
METHOD:PUBLISH
X-WR-CALNAME:SHADOW
X-ORIGINAL-URL:https://shadowhabitat.org
X-WR-CALDESC:Events for SHADOW
REFRESH-INTERVAL;VALUE=DURATION:PT1H
X-Robots-Tag:noindex
X-PUBLISHED-TTL:PT1H
BEGIN:VTIMEZONE
TZID:America/Los_Angeles
BEGIN:DAYLIGHT
TZOFFSETFROM:-0800
TZOFFSETTO:-0700
TZNAME:PDT
DTSTART:20160313T100000
END:DAYLIGHT
BEGIN:STANDARD
TZOFFSETFROM:-0700
TZOFFSETTO:-0800
TZNAME:PST
DTSTART:20161106T090000
END:STANDARD
BEGIN:DAYLIGHT
TZOFFSETFROM:-0800
TZOFFSETTO:-0700
TZNAME:PDT
DTSTART:20170312T100000
END:DAYLIGHT
BEGIN:STANDARD
TZOFFSETFROM:-0700
TZOFFSETTO:-0800
TZNAME:PST
DTSTART:20171105T090000
END:STANDARD
BEGIN:DAYLIGHT
TZOFFSETFROM:-0800
TZOFFSETTO:-0700
TZNAME:PDT
DTSTART:20180311T100000
END:DAYLIGHT
BEGIN:STANDARD
TZOFFSETFROM:-0700
TZOFFSETTO:-0800
TZNAME:PST
DTSTART:20181104T090000
END:STANDARD
BEGIN:DAYLIGHT
TZOFFSETFROM:-0800
TZOFFSETTO:-0700
TZNAME:PDT
DTSTART:20190310T100000
END:DAYLIGHT
BEGIN:STANDARD
TZOFFSETFROM:-0700
TZOFFSETTO:-0800
TZNAME:PST
DTSTART:20191103T090000
END:STANDARD
END:VTIMEZONE
BEGIN:VEVENT
DTSTART;TZID=America/Los_Angeles:20180921T100000
DTEND;TZID=America/Los_Angeles:20180921T110000
DTSTAMP:20260422T193032
CREATED:20180807T222138Z
LAST-MODIFIED:20180807T222138Z
UID:3342-1537524000-1537527600@shadowhabitat.org
SUMMARY:Guided Nature Walk- Woods Trail
DESCRIPTION:Stroll along one of the nature preserve’s trails with a naturalist guiding your one-hour walk. We will explore the flora and fauna of the preserve and learn about native wildflowers\, fungi\, birds\, human history\, and more. Guided Nature Walks are outdoor explorations that take place rain or shine. Come with weather appropriate clothes and shoes for moderate levels of walking – inclines or uneven ground may be encountered on this walk.  \nThis week we will walk the Woods Trail and explore the three types of ecosystems found in this area of the Nature Preserve. \nRegister Here\n[contact-form to=’education@shadowhabitat.org’ subject=’Program Registration’][contact-field label=’Name’ type=’name’ required=’1’/][contact-field label=’Email’ type=’email’ required=’1’/][contact-field label=’Which type of Education Program are you registering for?’ type=’select’ required=’1′ options=’Restoration Work Party\,Guided Nature Walk\,Community Class\,Seasonal Event’/][contact-field label=’What is the date of the program you are registering for?’ type=’text’ required=’1’/][/contact-form]
URL:https://shadowhabitat.org/event/guided-nature-walk-woods-trail-2/
CATEGORIES:Guided Nature Walks
ATTACH;FMTTYPE=:
END:VEVENT
BEGIN:VEVENT
DTSTART;TZID=America/Los_Angeles:20180817T100000
DTEND;TZID=America/Los_Angeles:20180817T110000
DTSTAMP:20260422T193032
CREATED:20180614T003435Z
LAST-MODIFIED:20180614T003435Z
UID:3175-1534500000-1534503600@shadowhabitat.org
SUMMARY:Guided Nature Walk- Bog Trail
DESCRIPTION:Stroll along one of the nature preserve’s trails with a naturalist guiding your one-hour walk. We will explore the flora and fauna of the preserve and learn about native wildflowers\, fungi\, birds\, human history\, and more. Guided Nature Walks are outdoor explorations that take place rain or shine. Come with weather appropriate clothes and shoes for moderate levels of walking – inclines or uneven ground may be encountered on this walk.  \nThis week we will talk about the human history of SHADOW Lake Nature Preserve as we walk the bog trail.  \nRegister Here\n[contact-form to=’education@shadowhabitat.org’ subject=’Program Registration’][contact-field label=’Name’ type=’name’ required=’1’/][contact-field label=’Email’ type=’email’ required=’1’/][contact-field label=’Which type of Education Program are you registering for?’ type=’select’ required=’1′ options=’Restoration Work Party\,Guided Nature Walk\,Community Class\,Seasonal Event’/][contact-field label=’What is the date of the program you are registering for?’ type=’text’ required=’1’/][/contact-form]
URL:https://shadowhabitat.org/event/guided-nature-walk-bog-trail/
CATEGORIES:Guided Nature Walks
ATTACH;FMTTYPE=:
END:VEVENT
BEGIN:VEVENT
DTSTART;TZID=America/Los_Angeles:20180803T100000
DTEND;TZID=America/Los_Angeles:20180803T110000
DTSTAMP:20260422T193032
CREATED:20180614T003134Z
LAST-MODIFIED:20180614T003134Z
UID:3171-1533290400-1533294000@shadowhabitat.org
SUMMARY:Guided Nature Walk  - Native Plant Garden Trail
DESCRIPTION:Stroll along one of the nature preserve’s trails with a naturalist guiding your one-hour walk. We will explore the flora and fauna of the preserve and learn about native wildflowers\, fungi\, birds\, human history\, and more. Guided Nature Walks are outdoor explorations that take place rain or shine. Come with weather appropriate clothes and shoes for moderate levels of walking – inclines or uneven ground may be encountered on this walk.  \nThis week we will visit the Native Plant Garden and discover more information native plants in our region.  
URL:https://shadowhabitat.org/event/guided-nature-walk-native-plant-garden-trail/
CATEGORIES:Guided Nature Walks
ATTACH;FMTTYPE=:
END:VEVENT
BEGIN:VEVENT
DTSTART;TZID=America/Los_Angeles:20180720T100000
DTEND;TZID=America/Los_Angeles:20180720T110000
DTSTAMP:20260422T193032
CREATED:20180614T002929Z
LAST-MODIFIED:20180614T002929Z
UID:3169-1532080800-1532084400@shadowhabitat.org
SUMMARY:Guided Nature Walk- Woods Trail
DESCRIPTION:Stroll along one of the nature preserve’s trails with a naturalist guiding your one-hour walk. We will explore the flora and fauna of the preserve and learn about native wildflowers\, fungi\, birds\, human history\, and more. Guided Nature Walks are outdoor explorations that take place rain or shine. Come with weather appropriate clothes and shoes for moderate levels of walking – inclines or uneven ground may be encountered on this walk.  \nThis week we will walk the Woods Trail and explore the three types of ecosystems found in this area of the Nature Preserve. \nRegister Here\n[contact-form to=’education@shadowhabitat.org’ subject=’Program Registration’][contact-field label=’Name’ type=’name’ required=’1’/][contact-field label=’Email’ type=’email’ required=’1’/][contact-field label=’Which type of Education Program are you registering for?’ type=’select’ required=’1′ options=’Restoration Work Party\,Guided Nature Walk\,Community Class\,Seasonal Event’/][contact-field label=’What is the date of the program you are registering for?’ type=’text’ required=’1’/][/contact-form]
URL:https://shadowhabitat.org/event/guided-nature-walk-woods-trail/
CATEGORIES:Guided Nature Walks
ATTACH;FMTTYPE=:
END:VEVENT
BEGIN:VEVENT
DTSTART;TZID=America/Los_Angeles:20180706T100000
DTEND;TZID=America/Los_Angeles:20180706T113000
DTSTAMP:20260422T193032
CREATED:20180614T000521Z
LAST-MODIFIED:20180614T000521Z
UID:3151-1530871200-1530876600@shadowhabitat.org
SUMMARY:Guided Nature Walk
DESCRIPTION:Stroll along one of the nature preserve’s trails with a naturalist guiding your one-hour walk. We will explore the flora and fauna of the preserve and learn about native wildflowers\, fungi\, birds\, human history\, and more. Guided Nature Walks are outdoor explorations that take p \nlace rain or shine. Come with weather appropriate clothes and shoes for moderate levels of walking – inclines or uneven ground may be encountered on this walk. \nThis week we will walk the wetlands trail looking for animal tracks and signs of life. \nRegister Here\n[contact-form to=’education@shadowhabitat.org’ subject=’Program Registration’][contact-field label=’Name’ type=’name’ required=’1’/][contact-field label=’Email’ type=’email’ required=’1’/][contact-field label=’Which type of Education Program are you registering for?’ type=’select’ required=’1′ options=’Restoration Work Party\,Guided Nature Walk\,Community Class\,Seasonal Event’/][contact-field label=’What is the date of the program you are registering for?’ type=’text’ required=’1’/][/contact-form]
URL:https://shadowhabitat.org/event/guided-nature-walk-7/
CATEGORIES:Guided Nature Walks
ATTACH;FMTTYPE=:
END:VEVENT
BEGIN:VEVENT
DTSTART;TZID=America/Los_Angeles:20180622T100000
DTEND;TZID=America/Los_Angeles:20180622T110000
DTSTAMP:20260422T193032
CREATED:20180306T223211Z
LAST-MODIFIED:20180306T223211Z
UID:2686-1529661600-1529665200@shadowhabitat.org
SUMMARY:Guided Nature Walk
DESCRIPTION:Explore the beauty of our trails with a guide and learn more about the history and habitats of SHADOW Lake Nature Preserve. Guided Nature Walks are outdoor explorations that take place rain or shine. Come with weather appropriate clothes and shoes for moderate levels of walking – inclines or uneven ground may be encountered on this walk.  \n  \n  \n  \nRegister Here\n  \nTo register with suggested donation\n  \n\n  \n\n  \nTo register without suggested donation\n  \n[contact-form to=’education@shadowhabitat.org’ subject=’Program Registration’][contact-field label=’Name’ type=’name’ required=’1’/][contact-field label=’Email’ type=’email’ required=’1’/][contact-field label=’Which type of Education Program are you registering for?’ type=’select’ required=’1′ options=’Restoration Work Party\,Guided Nature Walk\,Community Class\,Seasonal Event’/][contact-field label=’What is the date of the program you are registering for?’ type=’text’ required=’1’/][/contact-form] 
URL:https://shadowhabitat.org/event/guided-nature-walk-5/
CATEGORIES:Guided Nature Walks
ATTACH;FMTTYPE=:
END:VEVENT
BEGIN:VEVENT
DTSTART;TZID=America/Los_Angeles:20180608T100000
DTEND;TZID=America/Los_Angeles:20180608T110000
DTSTAMP:20260422T193032
CREATED:20180306T222952Z
LAST-MODIFIED:20180306T222952Z
UID:2684-1528452000-1528455600@shadowhabitat.org
SUMMARY:Guided Nature Walk
DESCRIPTION:Explore the beauty of our trails with a guide and learn more about the history and habitats of SHADOW Lake Nature Preserve. Guided Nature Walks are outdoor explorations that take place rain or shine. Come with weather appropriate clothes and shoes for moderate levels of walking – inclines or uneven ground may be encountered on this walk.  \n  \n  \n  \nRegister Here\nTo register with suggested donation\n\n\nTo register without suggested donation\n[contact-form to=’education@shadowhabitat.org’ subject=’Program Registration’][contact-field label=’Name’ type=’name’ required=’1’/][contact-field label=’Email’ type=’email’ required=’1’/][contact-field label=’Which type of Education Program are you registering for?’ type=’select’ required=’1′ options=’Restoration Work Party\,Guided Nature Walk\,Community Class\,Seasonal Event’/][contact-field label=’What is the date of the program you are registering for?’ type=’text’ required=’1’/][/contact-form]
URL:https://shadowhabitat.org/event/guided-nature-walk-4/
CATEGORIES:Guided Nature Walks
ATTACH;FMTTYPE=:
END:VEVENT
BEGIN:VEVENT
DTSTART;TZID=America/Los_Angeles:20180511T100000
DTEND;TZID=America/Los_Angeles:20180511T110000
DTSTAMP:20260422T193033
CREATED:20180306T224906Z
LAST-MODIFIED:20180306T224906Z
UID:2682-1526032800-1526036400@shadowhabitat.org
SUMMARY:Guided Nature Walk
DESCRIPTION:Explore the beauty of our trails with a guide and learn more about the history and habitats of SHADOW Lake Nature Preserve. Guided Nature Walks are outdoor explorations that take place rain or shine. Come with weather appropriate clothes and shoes for moderate levels of walking – inclines or uneven ground may be encountered on this walk. \n  \nRegister Here\nTo register with suggested donation\n\n\nTo register without suggested donation\n[contact-form to=’education@shadowhabitat.org’ subject=’Program Registration’][contact-field label=’Name’ type=’name’ required=’1’/][contact-field label=’Email’ type=’email’ required=’1’/][contact-field label=’Which type of Education Program are you registering for?’ type=’select’ required=’1′ options=’Restoration Work Party\,Guided Nature Walk\,Community Class\,Seasonal Event’/][contact-field label=’What is the date of the program you are registering for?’ type=’text’ required=’1’/][/contact-form]
URL:https://shadowhabitat.org/event/guided-nature-walk-6/
CATEGORIES:Guided Nature Walks
ATTACH;FMTTYPE=image/png:https://shadowhabitat.org/wp-content/uploads/2017/11/woodpeckers-e1510258703393.png
END:VEVENT
BEGIN:VEVENT
DTSTART;TZID=America/Los_Angeles:20180413T100000
DTEND;TZID=America/Los_Angeles:20180413T110000
DTSTAMP:20260422T193033
CREATED:20180306T220914Z
LAST-MODIFIED:20180306T220914Z
UID:2676-1523613600-1523617200@shadowhabitat.org
SUMMARY:Guided Nature Walk
DESCRIPTION:Explore the beauty of our trails with a guide and learn more about the history and habitats of SHADOW Lake Nature Preserve. Guided Nature Walks are outdoor explorations that take place rain or shine. Come with weather appropriate clothes and shoes for moderate levels of walking – inclines or uneven ground may be encountered on this walk.  \nRegister Here\nTo register with suggested donation\n\n\nTo register without suggested donation\n[contact-form to=’education@shadowhabitat.org’ subject=’Program Registration’][contact-field label=’Name’ type=’name’ required=’1’/][contact-field label=’Email’ type=’email’ required=’1’/][contact-field label=’Which type of Education Program are you registering for?’ type=’select’ required=’1′ options=’Restoration Work Party\,Guided Nature Walk\,Community Class\,Seasonal Event’/][contact-field label=’What is the date of the program you are registering for?’ type=’text’ required=’1’/][/contact-form]
URL:https://shadowhabitat.org/event/guided-nature-walk-3/
CATEGORIES:Guided Nature Walks
ATTACH;FMTTYPE=:
END:VEVENT
BEGIN:VEVENT
DTSTART;TZID=America/Los_Angeles:20180316T100000
DTEND;TZID=America/Los_Angeles:20180316T110000
DTSTAMP:20260422T193033
CREATED:20180111T193716Z
LAST-MODIFIED:20180111T193716Z
UID:2393-1521194400-1521198000@shadowhabitat.org
SUMMARY:Guided Nature Walk: Water Works
DESCRIPTION:Explore the beauty of our trails with a guide to lead you through the diverse ecology represented at SHADOW Lake Nature Preserve. Guided Nature Walks are outdoor explorations that take place rain or shine. Come with weather appropriate clothes and shoes for moderate levels of walking – inclines or uneven ground may be encountered on this walk.  \nThis week we will discover more about the vital role water plays at the Preserve. We will even discover how native fish\, like Salmon\, are helped by the work we do to protect and preserve wetland habitat.   \n  \nRegister Here\nTo register with suggested donation\n\n\nTo register without suggested donation\n[contact-form to=’education@shadowhabitat.org’ subject=’Program Registration’][contact-field label=’Name’ type=’name’ required=’1’/][contact-field label=’Email’ type=’email’ required=’1’/][contact-field label=’Which type of Education Program are you registering for?’ type=’select’ required=’1′ options=’Restoration Work Party\,Guided Nature Walk\,Community Class\,Seasonal Event’/][contact-field label=’What is the date of the program you are registering for?’ type=’text’ required=’1’/][/contact-form]
URL:https://shadowhabitat.org/event/guided-nature-walk-water-works/
CATEGORIES:Guided Nature Walks
ATTACH;FMTTYPE=:
END:VEVENT
BEGIN:VEVENT
DTSTART;TZID=America/Los_Angeles:20180216T100000
DTEND;TZID=America/Los_Angeles:20180216T110000
DTSTAMP:20260422T193033
CREATED:20171213T225619Z
LAST-MODIFIED:20171213T225619Z
UID:2338-1518775200-1518778800@shadowhabitat.org
SUMMARY:Guided Nature Walk: Pollination Station
DESCRIPTION:Explore the beauty of our trails with a guide to lead you through the diverse ecology represented at SHADOW Lake Nature Preserve. Guided Nature Walks are outdoor explorations that take place rain or shine. Come with weather appropriate clothes and shoes for moderate levels of walking – inclines or uneven ground may be encountered on this walk.\nThis week\, we will be exploring the importance of pollinators! We will be talking about how the Preserve serves as a sanctuary for native pollinators and how your home can too! \nRegister Here\nTo register with suggested donation\n\n\nTo register without suggested donation\n[contact-form to=’education@shadowhabitat.org’ subject=’Program Registration’][contact-field label=’Name’ type=’name’ required=’1’/][contact-field label=’Email’ type=’email’ required=’1’/][contact-field label=’Which type of Education Program are you registering for?’ type=’select’ required=’1′ options=’Restoration Work Party\,Guided Nature Walk\,Community Class\,Seasonal Event’/][contact-field label=’What is the date of the program you are registering for?’ type=’text’ required=’1’/][/contact-form]
URL:https://shadowhabitat.org/event/guided-nature-walk-pollination-station/
CATEGORIES:Guided Nature Walks
ATTACH;FMTTYPE=:
END:VEVENT
BEGIN:VEVENT
DTSTART;TZID=America/Los_Angeles:20180119T100000
DTEND;TZID=America/Los_Angeles:20180119T110000
DTSTAMP:20260422T193033
CREATED:20171213T225031Z
LAST-MODIFIED:20171213T225031Z
UID:2334-1516356000-1516359600@shadowhabitat.org
SUMMARY:Guided Nature Walk: A New Year at the Preserve
DESCRIPTION:Explore the beauty of our trails with a guide to lead you through the diverse ecology represented at SHADOW Lake Nature Preserve. Guided Nature Walks are outdoor explorations that take place rain or shine. Come with weather appropriate clothes and shoes for moderate levels of walking – inclines or uneven ground may be encountered on this walk. \nThis week\, start our new year with us by exploring seasonal changes happening at the preserve! Learn about which plants will be green all year long and the unique adaptations our plants and animals have for surviving the winter season. \nRegister Here\nTo register with suggested donation\n\n\nTo register without suggested donation\n[contact-form to=’education@shadowhabitat.org’ subject=’Program Registration’][contact-field label=’Name’ type=’name’ required=’1’/][contact-field label=’Email’ type=’email’ required=’1’/][contact-field label=’Which type of Education Program are you registering for?’ type=’select’ required=’1′ options=’Restoration Work Party\,Guided Nature Walk\,Community Class\,Seasonal Event’/][contact-field label=’What is the date of the program you are registering for?’ type=’text’ required=’1’/][/contact-form]
URL:https://shadowhabitat.org/event/guided-nature-walk-new-year-preserve/
CATEGORIES:Guided Nature Walks
ATTACH;FMTTYPE=:
END:VEVENT
BEGIN:VEVENT
DTSTART;TZID=America/Los_Angeles:20170728T100000
DTEND;TZID=America/Los_Angeles:20170728T110000
DTSTAMP:20260422T193033
CREATED:20170622T002538Z
LAST-MODIFIED:20170622T002538Z
UID:1390-1501236000-1501239600@shadowhabitat.org
SUMMARY:Guided Nature Walk: Power of Peat
DESCRIPTION:Explore the beauty of our trails with a guide to lead you through the diverse ecology represented at SHADOW Lake Nature Preserve. Guided Nature Walks are outdoor explorations that take place rain or shine. Come with weather appropriate clothes and shoes for moderate levels of walking – inclines or uneven ground may be encountered on this walk. \nThis week\, explore SHADOW’s 5\,000-year-old peat bog and learn about the wonders of peat. Touch sphagnum moss\, glimpse rare plants and fungi\, and learn how peat is helping humans avoid drought!
URL:https://shadowhabitat.org/event/guided-nature-walk-power-peat/
LOCATION:Shadow Lake Nature Preserve\, 21656 184th Ave SE\, Renton\, WA\, 98058\, United States
CATEGORIES:Guided Nature Walks
ATTACH;FMTTYPE=:
END:VEVENT
BEGIN:VEVENT
DTSTART;TZID=America/Los_Angeles:20170720T183000
DTEND;TZID=America/Los_Angeles:20170720T203000
DTSTAMP:20260422T193033
CREATED:20170622T001948Z
LAST-MODIFIED:20170622T001948Z
UID:1376-1500575400-1500582600@shadowhabitat.org
SUMMARY:WSU Forestry Twilight Tour: SHADOW Lake Nature Preserve
DESCRIPTION:This tour will focus on succession forestry management of an over-crowded alder forest. Learn about how to evolve a degraded stand from a liability to an asset while maintaining wildlife habitat! Succession forestry is modeled after natural processes and focuses on creating a mixed-conifer forest to provide high quality functions for land managers and native wildlife. This walking tour will highlight stand re-generation\, invasive species management\, succession forestry\, and managing stands for wildlife value. After the tour\, join Nature Preserve staff in a walk through our 5\,000-year-old peat bog. Learn about this unique habitat and the value of wetlands in a forest\, then conclude the evening with a dessert potluck!
URL:https://shadowhabitat.org/event/wsu-forestry-twilight-tour-shadow-lake-nature-preserve/
LOCATION:Shadow Lake Nature Preserve\, 21656 184th Ave SE\, Renton\, WA\, 98058\, United States
CATEGORIES:Community Class,Guided Nature Walks,Summer Programs
ATTACH;FMTTYPE=:
END:VEVENT
BEGIN:VEVENT
DTSTART;TZID=America/Los_Angeles:20170714T100000
DTEND;TZID=America/Los_Angeles:20170714T110000
DTSTAMP:20260422T193033
CREATED:20170620T233059Z
LAST-MODIFIED:20170620T233059Z
UID:1344-1500026400-1500030000@shadowhabitat.org
SUMMARY:Guided Nature Walk: Owl Trail Exploration
DESCRIPTION:Explore the beauty of our trails with a guide to lead you through the diverse ecology represented at SHADOW Lake Nature Preserve. Guided Nature Walks are outdoor explorations that take place rain or shine. Come with weather appropriate clothes and shoes for moderate levels of walking – inclines or uneven ground may be encountered on this walk. \nThis week\, explore the upland trail system! Discover native plants and fungi\, and learn about the restoration projects happening at the Nature Preserve this season!
URL:https://shadowhabitat.org/event/guided-nature-walk-owl-trail-exploration/
LOCATION:Shadow Lake Nature Preserve\, 21656 184th Ave SE\, Renton\, WA\, 98058\, United States
CATEGORIES:Guided Nature Walks
ATTACH;FMTTYPE=:
END:VEVENT
BEGIN:VEVENT
DTSTART;TZID=America/Los_Angeles:20170616T100000
DTEND;TZID=America/Los_Angeles:20170616T110000
DTSTAMP:20260422T193033
CREATED:20170331T021637Z
LAST-MODIFIED:20170331T021637Z
UID:632-1497607200-1497610800@shadowhabitat.org
SUMMARY:Guided Nature Walk: Blooming Bog!
DESCRIPTION:  \nExplore the beauty of our trails with a guide to lead you through the diverse ecology represented at SHADOW Lake Nature Preserve. Guided Nature Walks are outdoor explorations that take place rain or shine. Come with weather appropriate clothes and shoes for moderate levels of walking – slight inclines and/or uneven ground may be encountered on this walk. \nThis month\, come see our 5\,000-year-old peat bog in bloom! Just in time for Mother’s Day and Father’s Day\, explore the unique biology of this Pacific Northwest gem. See Labrador tea\, bog laurel\, and bog cranberry and enjoy the beauty of this unique habitat. \nRegister HERE \nviernes\, el 16 de junio: 10 – 11 am  \nCaminata guiada: Las flores de la turbera! \nExplorar la belleza de nuestros caminos con una guía que trabaja por la reserva natural. Las caminatas guiada son exploraciones afueras que pasan llueva o truene. Venga con ropa apropiada por el tiempo y zapatos para niveles moderados de caminar –  En este paso puede ser inclinas o terreno irregular.   \nEste mes\, venga a ver nuestro turbera de 5\,000 años de edad llena de flores! Justo al tiempo por el día de la madre y el día del padre\, explora la biología única de esta joya. Mira a labrador tea\, bog laurel\, and bog cranberry y disfruta a la belleza de de este hábitat excepcional.
URL:https://shadowhabitat.org/event/guided-nature-hike-blooming-bog/
LOCATION:Shadow Lake Nature Preserve\, 21656 184th Ave SE\, Renton\, WA\, 98058\, United States
CATEGORIES:Guided Nature Walks
ATTACH;FMTTYPE=image/jpeg:https://shadowhabitat.org/wp-content/uploads/2017/03/f9.jpg
END:VEVENT
BEGIN:VEVENT
DTSTART;TZID=America/Los_Angeles:20170512T100000
DTEND;TZID=America/Los_Angeles:20170512T110000
DTSTAMP:20260422T193033
CREATED:20170315T234616Z
LAST-MODIFIED:20170315T234616Z
UID:447-1494583200-1494586800@shadowhabitat.org
SUMMARY:Guided Nature Walk: Tour of the Upland Forest
DESCRIPTION:Explore the beauty of our trails with a guide to lead you through the diverse ecology represented at SHADOW Lake Nature Preserve. Guided Nature Walks are outdoor explorations that take place rain or shine. Come with weather appropriate clothes and shoes for moderate levels of walking – inclines or uneven ground may be encountered on this walk. \nThis event is free\, but has a suggested donation of $5 per participant. \nThis month\, explore the upland forest of the Nature Preserve. See forest succession in action\, discover what “an octopus tree” could be\, and feel like you’re walking back in time!\nRegister Here!\nviernes\, 12 de mayo: 10 – 11 am \nCaminata guiada: Mira por la selva  \nExplorar la belleza de nuestros caminos con una guía que trabaja por la reserva natural. Las caminatas guiada son exploraciones afueras que pasan llueva o truene. Venga con ropa apropiada por el tiempo y zapatos para niveles moderados de caminar –  En este paso puede ser inclinas o terreno irregular.  \nEste mes\, explorar las selvas de la reserva natural. Mira la sucesión ecológica de esta selva\, descubre qué es un “octopus tree\,” y siente como estás caminando atrás en el tiempo. \n 
URL:https://shadowhabitat.org/event/guided-walk-tour-upland-forest/
CATEGORIES:Guided Nature Walks
ATTACH;FMTTYPE=:
END:VEVENT
END:VCALENDAR