BEGIN:VCALENDAR
VERSION:2.0
PRODID:-//SHADOW - ECPv6.15.20//NONSGML v1.0//EN
CALSCALE:GREGORIAN
METHOD:PUBLISH
X-ORIGINAL-URL:https://shadowhabitat.org
X-WR-CALDESC:Events for SHADOW
REFRESH-INTERVAL;VALUE=DURATION:PT1H
X-Robots-Tag:noindex
X-PUBLISHED-TTL:PT1H
BEGIN:VTIMEZONE
TZID:America/Los_Angeles
BEGIN:DAYLIGHT
TZOFFSETFROM:-0800
TZOFFSETTO:-0700
TZNAME:PDT
DTSTART:20220313T100000
END:DAYLIGHT
BEGIN:STANDARD
TZOFFSETFROM:-0700
TZOFFSETTO:-0800
TZNAME:PST
DTSTART:20221106T090000
END:STANDARD
BEGIN:DAYLIGHT
TZOFFSETFROM:-0800
TZOFFSETTO:-0700
TZNAME:PDT
DTSTART:20230312T100000
END:DAYLIGHT
BEGIN:STANDARD
TZOFFSETFROM:-0700
TZOFFSETTO:-0800
TZNAME:PST
DTSTART:20231105T090000
END:STANDARD
BEGIN:DAYLIGHT
TZOFFSETFROM:-0800
TZOFFSETTO:-0700
TZNAME:PDT
DTSTART:20240310T100000
END:DAYLIGHT
BEGIN:STANDARD
TZOFFSETFROM:-0700
TZOFFSETTO:-0800
TZNAME:PST
DTSTART:20241103T090000
END:STANDARD
END:VTIMEZONE
BEGIN:VEVENT
DTSTART;TZID=America/Los_Angeles:20230429T173000
DTEND;TZID=America/Los_Angeles:20230429T193000
DTSTAMP:20260424T201904
CREATED:20230413T234321Z
LAST-MODIFIED:20230413T234322Z
UID:11050-1682789400-1682796600@shadowhabitat.org
SUMMARY:Family Campfire Night at SHADOW!
DESCRIPTION:Registration Required\nCome down to SHADOW and enjoy an evening around the campfire! We’ll supply the hot cocoa and  s’mores stuff and you bring your favorite campfire song or family friendly ghost story! This is a FREE family friendly event\, but if you love your s’mores\, feel free to chip in a suggested $5 donation to the refreshment fund. \nCome at 5pm for a pre-campfire bog tour! \nThis is a weather dependent event\, so if the weather is questionable\, contact SHADOW to confirm that the event is happening please. \n\n	Notice: JavaScript is required for this content.\nNo Fields Found.
URL:https://shadowhabitat.org/event/campfire-night-april-29/
LOCATION:Shadow Lake Nature Preserve\, 21656 184th Ave SE\, Renton\, WA\, 98058\, United States
CATEGORIES:Outreach
ATTACH;FMTTYPE=image/png:https://shadowhabitat.org/wp-content/uploads/2023/03/Campfire-Poster-2.png
END:VEVENT
END:VCALENDAR