BEGIN:VCALENDAR
VERSION:2.0
PRODID:-//SHADOW - ECPv6.15.20//NONSGML v1.0//EN
CALSCALE:GREGORIAN
METHOD:PUBLISH
X-WR-CALNAME:SHADOW
X-ORIGINAL-URL:https://shadowhabitat.org
X-WR-CALDESC:Events for SHADOW
REFRESH-INTERVAL;VALUE=DURATION:PT1H
X-Robots-Tag:noindex
X-PUBLISHED-TTL:PT1H
BEGIN:VTIMEZONE
TZID:America/Los_Angeles
BEGIN:DAYLIGHT
TZOFFSETFROM:-0800
TZOFFSETTO:-0700
TZNAME:PDT
DTSTART:20220313T100000
END:DAYLIGHT
BEGIN:STANDARD
TZOFFSETFROM:-0700
TZOFFSETTO:-0800
TZNAME:PST
DTSTART:20221106T090000
END:STANDARD
BEGIN:DAYLIGHT
TZOFFSETFROM:-0800
TZOFFSETTO:-0700
TZNAME:PDT
DTSTART:20230312T100000
END:DAYLIGHT
BEGIN:STANDARD
TZOFFSETFROM:-0700
TZOFFSETTO:-0800
TZNAME:PST
DTSTART:20231105T090000
END:STANDARD
BEGIN:DAYLIGHT
TZOFFSETFROM:-0800
TZOFFSETTO:-0700
TZNAME:PDT
DTSTART:20240310T100000
END:DAYLIGHT
BEGIN:STANDARD
TZOFFSETFROM:-0700
TZOFFSETTO:-0800
TZNAME:PST
DTSTART:20241103T090000
END:STANDARD
END:VTIMEZONE
BEGIN:VEVENT
DTSTART;VALUE=DATE:20230527
DTEND;VALUE=DATE:20230528
DTSTAMP:20260424T135849
CREATED:20230510T221511Z
LAST-MODIFIED:20230510T221511Z
UID:12057-1685145600-1685231999@shadowhabitat.org
SUMMARY:Canceled: Family Campfire Event in May
DESCRIPTION:Event Cancelled\nWe are sorry to announce that due to the low forecast of rain we have decided to cancel the Family Campfire Night in May so as to not risk any potential sparks causing a fire in the preserve.  We are planning other summer activities that can be done in lieu of a campfire and will resume our last Saturday of the Month Family Nights at SHADOW in June.  We are sorry for the inconvenience and hope to see you in June! \n 
URL:https://shadowhabitat.org/event/canceled-family-campfire-event-in-may/
LOCATION:WA
CATEGORIES:Outreach,Summer Programs
ATTACH;FMTTYPE=image/jpeg:https://shadowhabitat.org/wp-content/uploads/2023/01/pexels-photo-783928-scaled.jpeg
END:VEVENT
END:VCALENDAR