BEGIN:VCALENDAR
VERSION:2.0
PRODID:-//SHADOW - ECPv6.15.20//NONSGML v1.0//EN
CALSCALE:GREGORIAN
METHOD:PUBLISH
X-WR-CALNAME:SHADOW
X-ORIGINAL-URL:https://shadowhabitat.org
X-WR-CALDESC:Events for SHADOW
REFRESH-INTERVAL;VALUE=DURATION:PT1H
X-Robots-Tag:noindex
X-PUBLISHED-TTL:PT1H
BEGIN:VTIMEZONE
TZID:America/Los_Angeles
BEGIN:DAYLIGHT
TZOFFSETFROM:-0800
TZOFFSETTO:-0700
TZNAME:PDT
DTSTART:20220313T100000
END:DAYLIGHT
BEGIN:STANDARD
TZOFFSETFROM:-0700
TZOFFSETTO:-0800
TZNAME:PST
DTSTART:20221106T090000
END:STANDARD
BEGIN:DAYLIGHT
TZOFFSETFROM:-0800
TZOFFSETTO:-0700
TZNAME:PDT
DTSTART:20230312T100000
END:DAYLIGHT
BEGIN:STANDARD
TZOFFSETFROM:-0700
TZOFFSETTO:-0800
TZNAME:PST
DTSTART:20231105T090000
END:STANDARD
BEGIN:DAYLIGHT
TZOFFSETFROM:-0800
TZOFFSETTO:-0700
TZNAME:PDT
DTSTART:20240310T100000
END:DAYLIGHT
BEGIN:STANDARD
TZOFFSETFROM:-0700
TZOFFSETTO:-0800
TZNAME:PST
DTSTART:20241103T090000
END:STANDARD
END:VTIMEZONE
BEGIN:VEVENT
DTSTART;TZID=America/Los_Angeles:20230128T173000
DTEND;TZID=America/Los_Angeles:20230128T193000
DTSTAMP:20260425T213303
CREATED:20230114T012305Z
LAST-MODIFIED:20230127T182610Z
UID:9877-1674927000-1674934200@shadowhabitat.org
SUMMARY:Family Campfire Night - Update! Keep an eye on the weather
DESCRIPTION:Registration Required\nCome down to SHADOW and warm yourself next to the fire on a cold dark winter evening! We’ll supply the hot cocoa and you bring the s’mores stuff that has been waiting for just such an occasion! This is a FREE family friendly event (maybe with a few ghost stories). \nThe weather forecast for tomorrow evening includes the possibility of freezing precipitation. An email will be sent out to registrants tomorrow afternoon IF we cancel this event due to weather.\n\n	Notice: JavaScript is required for this content.\nNo Fields Found.
URL:https://shadowhabitat.org/event/family-campfire-night-3/
LOCATION:Shadow Lake Nature Preserve\, 21656 184th Ave SE\, Renton\, WA\, 98058\, United States
CATEGORIES:Outreach
ATTACH;FMTTYPE=image/jpeg:https://shadowhabitat.org/wp-content/uploads/2023/01/pexels-photo-783928-scaled.jpeg
END:VEVENT
END:VCALENDAR