BEGIN:VCALENDAR
VERSION:2.0
PRODID:-//SHADOW - ECPv6.15.20//NONSGML v1.0//EN
CALSCALE:GREGORIAN
METHOD:PUBLISH
X-ORIGINAL-URL:https://shadowhabitat.org
X-WR-CALDESC:Events for SHADOW
REFRESH-INTERVAL;VALUE=DURATION:PT1H
X-Robots-Tag:noindex
X-PUBLISHED-TTL:PT1H
BEGIN:VTIMEZONE
TZID:America/Los_Angeles
BEGIN:DAYLIGHT
TZOFFSETFROM:-0800
TZOFFSETTO:-0700
TZNAME:PDT
DTSTART:20230312T100000
END:DAYLIGHT
BEGIN:STANDARD
TZOFFSETFROM:-0700
TZOFFSETTO:-0800
TZNAME:PST
DTSTART:20231105T090000
END:STANDARD
BEGIN:DAYLIGHT
TZOFFSETFROM:-0800
TZOFFSETTO:-0700
TZNAME:PDT
DTSTART:20240310T100000
END:DAYLIGHT
BEGIN:STANDARD
TZOFFSETFROM:-0700
TZOFFSETTO:-0800
TZNAME:PST
DTSTART:20241103T090000
END:STANDARD
BEGIN:DAYLIGHT
TZOFFSETFROM:-0800
TZOFFSETTO:-0700
TZNAME:PDT
DTSTART:20250309T100000
END:DAYLIGHT
BEGIN:STANDARD
TZOFFSETFROM:-0700
TZOFFSETTO:-0800
TZNAME:PST
DTSTART:20251102T090000
END:STANDARD
END:VTIMEZONE
BEGIN:VEVENT
DTSTART;TZID=America/Los_Angeles:20240928T100000
DTEND;TZID=America/Los_Angeles:20240928T120000
DTSTAMP:20260419T234013
CREATED:20240831T202519Z
LAST-MODIFIED:20240918T024227Z
UID:34599-1727517600-1727524800@shadowhabitat.org
SUMMARY:Family Friendly Restoration Work Party
DESCRIPTION:  \nJoin us for World Environmental Health Day and help us take care of a special part of the SHADOW Lake Nature Preserve forest. We will be doing light invasive plant removal in our beautiful Uplands forest. We will not be working with blackberries or any other armed plants. Gloves and tools will be provided\, but feel free to bring your own if you wish. We will start with a tour of our peat bog at 10:00am\, and then head to the Uplands forest to get to work. All ages welcome\, but children must be accompanied by responsible adult. \n  \n\n	Notice: JavaScript is required for this content.\nNo Fields Found.
URL:https://shadowhabitat.org/event/family-friendly-restoration-work-party/
LOCATION:Shadow Lake Nature Preserve\, 21656 184th Ave SE\, Renton\, WA\, 98058\, United States
CATEGORIES:Restoration Work Parties
ATTACH;FMTTYPE=image/jpeg:https://shadowhabitat.org/wp-content/uploads/2024/08/IMG_0265-scaled.jpg
ORGANIZER;CN="Shelley":MAILTO:shelley@shadowhabitat.org
END:VEVENT
END:VCALENDAR