BEGIN:VCALENDAR
VERSION:2.0
PRODID:-//SHADOW - ECPv6.15.20//NONSGML v1.0//EN
CALSCALE:GREGORIAN
METHOD:PUBLISH
X-WR-CALNAME:SHADOW
X-ORIGINAL-URL:https://shadowhabitat.org
X-WR-CALDESC:Events for SHADOW
REFRESH-INTERVAL;VALUE=DURATION:PT1H
X-Robots-Tag:noindex
X-PUBLISHED-TTL:PT1H
BEGIN:VTIMEZONE
TZID:America/Los_Angeles
BEGIN:DAYLIGHT
TZOFFSETFROM:-0800
TZOFFSETTO:-0700
TZNAME:PDT
DTSTART:20160313T100000
END:DAYLIGHT
BEGIN:STANDARD
TZOFFSETFROM:-0700
TZOFFSETTO:-0800
TZNAME:PST
DTSTART:20161106T090000
END:STANDARD
BEGIN:DAYLIGHT
TZOFFSETFROM:-0800
TZOFFSETTO:-0700
TZNAME:PDT
DTSTART:20170312T100000
END:DAYLIGHT
BEGIN:STANDARD
TZOFFSETFROM:-0700
TZOFFSETTO:-0800
TZNAME:PST
DTSTART:20171105T090000
END:STANDARD
BEGIN:DAYLIGHT
TZOFFSETFROM:-0800
TZOFFSETTO:-0700
TZNAME:PDT
DTSTART:20180311T100000
END:DAYLIGHT
BEGIN:STANDARD
TZOFFSETFROM:-0700
TZOFFSETTO:-0800
TZNAME:PST
DTSTART:20181104T090000
END:STANDARD
END:VTIMEZONE
BEGIN:VEVENT
DTSTART;TZID=America/Los_Angeles:20170718T100000
DTEND;TZID=America/Los_Angeles:20170721T150000
DTSTAMP:20260425T083305
CREATED:20170428T161023Z
LAST-MODIFIED:20170428T161023Z
UID:894-1500372000-1500649200@shadowhabitat.org
SUMMARY:Teen Service Camp
DESCRIPTION:Join us at the Nature Preserve this summer for service and friendship! Participants will enjoy time working outdoors\, learning about the native and invasive plants of western Washington\, and hearing from natural resource professionals. This camp gives a window into the environmental science field and exposes students to a variety of career options!  \nRegister HERE 
URL:https://shadowhabitat.org/event/teen-service-camp/
LOCATION:Shadow Lake Nature Preserve\, 21656 184th Ave SE\, Renton\, WA\, 98058\, United States
CATEGORIES:Summer Programs
ATTACH;FMTTYPE=:
END:VEVENT
BEGIN:VEVENT
DTSTART;TZID=America/Los_Angeles:20170714T100000
DTEND;TZID=America/Los_Angeles:20170714T110000
DTSTAMP:20260425T083305
CREATED:20170620T233059Z
LAST-MODIFIED:20170620T233059Z
UID:1344-1500026400-1500030000@shadowhabitat.org
SUMMARY:Guided Nature Walk: Owl Trail Exploration
DESCRIPTION:Explore the beauty of our trails with a guide to lead you through the diverse ecology represented at SHADOW Lake Nature Preserve. Guided Nature Walks are outdoor explorations that take place rain or shine. Come with weather appropriate clothes and shoes for moderate levels of walking – inclines or uneven ground may be encountered on this walk. \nThis week\, explore the upland trail system! Discover native plants and fungi\, and learn about the restoration projects happening at the Nature Preserve this season!
URL:https://shadowhabitat.org/event/guided-nature-walk-owl-trail-exploration/
LOCATION:Shadow Lake Nature Preserve\, 21656 184th Ave SE\, Renton\, WA\, 98058\, United States
CATEGORIES:Guided Nature Walks
ATTACH;FMTTYPE=:
END:VEVENT
BEGIN:VEVENT
DTSTART;TZID=America/Los_Angeles:20170708T100000
DTEND;TZID=America/Los_Angeles:20170708T140000
DTSTAMP:20260425T083305
CREATED:20170607T011707Z
LAST-MODIFIED:20170607T011707Z
UID:1305-1499508000-1499522400@shadowhabitat.org
SUMMARY:Restoration Work Party
DESCRIPTION:Restoration Work Parties\nGet to know your local ecology first-hand by working at one of the various sites around SHADOW Lake Nature Preserve! \nThis week\, become a steward of SHADOW Lake Nature Preserve’s most famous trail. Trim ferns\, prune native species\, and pull invasive weeds along the boardwalk trail through SHADOW Lake Bog. Join SHADOW staff in cleaning the grating and get the bog looking beautiful for summer! \nRestoration Work Parties take place Saturdays from 10am to 2pm at SHADOW Lake Nature Preserve. No previous experience or tools are required\, simply arrive with weather-proof clothing for working outside\, a water bottle\, and a smile. Please be aware that you may encounter muddy areas and plants with thorns. These events are held\, rain or shine! \nWe suggest thick pants\, long sleeved shirts\, and boots that can trek through mud. \n\nFiestas de Restauración\nConoce de primera mano tu ecología local trabajando en uno de los diversos sitios alrededor de SHADOW Lake Nature Preserve! \n\nRegister Here:\n[contact-form to=’education@shadowhabitat.org’ subject=’RWP REGISTRATION’][contact-field label=’Name’ type=’name’ required=’1’/][contact-field label=’Email’ type=’email’ required=’1’/][contact-field label=’Phone Number’ type=’url’/][contact-field label=’Date of the Restoration Work Party that you plan to attend’ type=’text’ required=’1’/][contact-field label=’Do you have any other interests or skills we should know about?’ type=’textarea’/][/contact-form]
URL:https://shadowhabitat.org/event/restoration-work-party-8/
LOCATION:Shadow Lake Nature Preserve\, 21656 184th Ave SE\, Renton\, WA\, 98058\, United States
ATTACH;FMTTYPE=:
END:VEVENT
BEGIN:VEVENT
DTSTART;VALUE=DATE:20170705
DTEND;VALUE=DATE:20170706
DTSTAMP:20260425T083305
CREATED:20170621T214328Z
LAST-MODIFIED:20170621T214328Z
UID:1365-1499212800-1499299199@shadowhabitat.org
SUMMARY:Elegant Beauty: Five Millennia in the Making Opens
DESCRIPTION:An exhibition of art inspired by the wild spaces at SHADOW Lake Nature Preserve. \n  \nThere is pleasure in the pathless woods\, there is rapture in the lonely shore\, there is society where none intrudes\, by the deep sea\, and music in its roar; I love not Man the less\, but Nature more. – Lord Byron   \n  \nWhat is it in Nature that evokes the emotional response within us of a work of art? At SHADOW Lake Nature Preserve\, we seek to engender an emotional bond between our community and the green spaces we preserve. This multi-media art exhibition inspired by the wild beauty of the Nature Preserve explores this bond. Immerse yourself in the photography\, collage\, painting\, and sculpture that make up this unique collection of art and take a walk through the historic Shadow Lake Bog\, to see the natural space that inspired the works. \nThis diverse collection allows visitors to view the Nature Preserve’s grounds through the eyes of local artists. Come explore the ways that SHADOW’s distinct ecology has influenced South King County culture and keep in mind that this wetland complex has been forming since the last ice age! \nWorks will hang for sale in SHADOW’s Ritcher Education Center from July 5th – September 15th. The Collection is available for view by appointment and during regularly scheduled SHADOW Lake Nature Preserve programming.
URL:https://shadowhabitat.org/event/elegant-beauty-five-millennia-making/
LOCATION:Shadow Lake Nature Preserve\, 21656 184th Ave SE\, Renton\, WA\, 98058\, United States
ATTACH;FMTTYPE=:
END:VEVENT
BEGIN:VEVENT
DTSTART;TZID=America/Los_Angeles:20170627T180000
DTEND;TZID=America/Los_Angeles:20170627T193000
DTSTAMP:20260425T083305
CREATED:20170428T160615Z
LAST-MODIFIED:20170428T160615Z
UID:892-1498586400-1498591800@shadowhabitat.org
SUMMARY:Volunteer Training Night: Native Plant ID
DESCRIPTION:  \n  \nFind your place in the SHADOW Lake Nature Preserve community. \nBring your favorite treat to share and come down to the Nature Preserve for an evening of companionship and fun! Join other environmentally conscious volunteers to discover more about SHADOW’s programs\, additional volunteer opportunities\, and learn something new. \nThis is a great introduction for new volunteers or an excellent refresher for seasoned volunteers. \nThis month\, join us to learn about the native plants of Western Washington and some tricks of the trade for identifying them! 
URL:https://shadowhabitat.org/event/volunteer-training-night-native-plant-id/
LOCATION:Shadow Lake Nature Preserve\, 21656 184th Ave SE\, Renton\, WA\, 98058\, United States
CATEGORIES:Volunteer Training Nights
ATTACH;FMTTYPE=:
END:VEVENT
BEGIN:VEVENT
DTSTART;TZID=America/Los_Angeles:20170624T100000
DTEND;TZID=America/Los_Angeles:20170624T140000
DTSTAMP:20260425T083305
CREATED:20170503T233843Z
LAST-MODIFIED:20170503T233843Z
UID:1165-1498298400-1498312800@shadowhabitat.org
SUMMARY:Restoration Work Party
DESCRIPTION:Restoration Work Parties\nGet to know your local ecology first-hand by working at one of \nthe various sites around SHADOW Lake Nature Preserve! \n\n  \nFiestas de Restauración\nConoce de primera mano tu ecología local trabajando en uno de los diversos sitios alrededor de SHADOW Lake Nature Preserve!
URL:https://shadowhabitat.org/event/restoration-work-party-7/
LOCATION:Shadow Lake Nature Preserve\, 21656 184th Ave SE\, Renton\, WA\, 98058\, United States
CATEGORIES:Restoration Work Parties
ATTACH;FMTTYPE=:
END:VEVENT
BEGIN:VEVENT
DTSTART;TZID=America/Los_Angeles:20170617T120000
DTEND;TZID=America/Los_Angeles:20170617T160000
DTSTAMP:20260425T083305
CREATED:20170512T195035Z
LAST-MODIFIED:20170512T195035Z
UID:1251-1497700800-1497715200@shadowhabitat.org
SUMMARY:Elegant Beauty: Artist Day Workshop
DESCRIPTION:Artists and art enthusiasts are invited to join the Sacred Hoop\, and SHADOW Lake Nature Preserve for Elegant Beauty– an Artist Collaboration. \nContribute your art inspired by the 5\,000-year history of SHADOW Lake Nature Preserve. \nAttend an Artist Day Workshop on June 17th from 12—4 pm\, for inspiration and to learn about the unique history of this wild space. Bring you own art supplies to create work on site\, or simply witness the creative energy at play! \nSelected works will be displayed for sale\, in SHADOW’s Richter Education Center from July 1st– September 15th. Works will be selected based on family appropriate nature of the content and telling of SHADOW’s story. Artists submitting work to be hung must submit no later that June  28th. \n50% of proceeds from the sale go directly to the artists\, and the remainder will act as a tax-deductible donation to these two dynamic nonprofit organizations. Unsold works will be returned to their artists after September 15th. \nArtists should be prepared to provide a small biographical display alongside their work. \nContact Us to sign up!
URL:https://shadowhabitat.org/event/artist-day-workshop/
LOCATION:Shadow Lake Nature Preserve\, 21656 184th Ave SE\, Renton\, WA\, 98058\, United States
ATTACH;FMTTYPE=:
END:VEVENT
BEGIN:VEVENT
DTSTART;TZID=America/Los_Angeles:20170617T100000
DTEND;TZID=America/Los_Angeles:20170617T140000
DTSTAMP:20260425T083305
CREATED:20170503T233754Z
LAST-MODIFIED:20170503T233754Z
UID:1163-1497693600-1497708000@shadowhabitat.org
SUMMARY:Restoration Work Party
DESCRIPTION:Restoration Work Parties\nGet to know your local ecology first-hand by working at one of the various sites around SHADOW Lake Nature Preserve! \nThis week\, join SHADOW Lake Nature Preserve in clearing and preparing for our new trail extension! Use shovels\, hoes\, and picks to remove plants and grade a path. Learn about native plants and explore the new trail system. \nRestoration Work Parties take place Saturdays from 10am to 2pm at SHADOW Lake Nature Preserve. No previous experience or tools are required\, simply arrive with weather-proof clothing for working outside\, a water bottle\, and a smile. Please be aware that you may encounter muddy areas and plants with thorns. These events are held\, rain or shine! \nWe suggest thick pants\, long sleeved shirts\, and boots that can trek through mud. \n\nFiestas de Restauración\nConoce de primera mano tu ecología local trabajando en uno de los diversos sitios alrededor de SHADOW Lake Nature Preserve! \n\nRegister Here:\n[contact-form to=’education@shadowhabitat.org’ subject=’RWP REGISTRATION’][contact-field label=’Name’ type=’name’ required=’1’/][contact-field label=’Email’ type=’email’ required=’1’/][contact-field label=’Phone Number’ type=’url’/][contact-field label=’Date of the Restoration Work Party that you plan to attend’ type=’text’ required=’1’/][contact-field label=’Do you have any other interests or skills we should know about?’ type=’textarea’/][/contact-form]
URL:https://shadowhabitat.org/event/restoration-work-party-6/
LOCATION:Shadow Lake Nature Preserve\, 21656 184th Ave SE\, Renton\, WA\, 98058\, United States
ATTACH;FMTTYPE=:
END:VEVENT
BEGIN:VEVENT
DTSTART;TZID=America/Los_Angeles:20170616T100000
DTEND;TZID=America/Los_Angeles:20170616T110000
DTSTAMP:20260425T083305
CREATED:20170331T021637Z
LAST-MODIFIED:20170331T021637Z
UID:632-1497607200-1497610800@shadowhabitat.org
SUMMARY:Guided Nature Walk: Blooming Bog!
DESCRIPTION:  \nExplore the beauty of our trails with a guide to lead you through the diverse ecology represented at SHADOW Lake Nature Preserve. Guided Nature Walks are outdoor explorations that take place rain or shine. Come with weather appropriate clothes and shoes for moderate levels of walking – slight inclines and/or uneven ground may be encountered on this walk. \nThis month\, come see our 5\,000-year-old peat bog in bloom! Just in time for Mother’s Day and Father’s Day\, explore the unique biology of this Pacific Northwest gem. See Labrador tea\, bog laurel\, and bog cranberry and enjoy the beauty of this unique habitat. \nRegister HERE \nviernes\, el 16 de junio: 10 – 11 am  \nCaminata guiada: Las flores de la turbera! \nExplorar la belleza de nuestros caminos con una guía que trabaja por la reserva natural. Las caminatas guiada son exploraciones afueras que pasan llueva o truene. Venga con ropa apropiada por el tiempo y zapatos para niveles moderados de caminar –  En este paso puede ser inclinas o terreno irregular.   \nEste mes\, venga a ver nuestro turbera de 5\,000 años de edad llena de flores! Justo al tiempo por el día de la madre y el día del padre\, explora la biología única de esta joya. Mira a labrador tea\, bog laurel\, and bog cranberry y disfruta a la belleza de de este hábitat excepcional.
URL:https://shadowhabitat.org/event/guided-nature-hike-blooming-bog/
LOCATION:Shadow Lake Nature Preserve\, 21656 184th Ave SE\, Renton\, WA\, 98058\, United States
CATEGORIES:Guided Nature Walks
ATTACH;FMTTYPE=image/jpeg:https://shadowhabitat.org/wp-content/uploads/2017/03/f9.jpg
END:VEVENT
BEGIN:VEVENT
DTSTART;TZID=America/Los_Angeles:20170610T100000
DTEND;TZID=America/Los_Angeles:20170610T140000
DTSTAMP:20260425T083305
CREATED:20170503T233155Z
LAST-MODIFIED:20170503T233155Z
UID:1160-1497088800-1497103200@shadowhabitat.org
SUMMARY:Restoration Work Party
DESCRIPTION:Restoration Work Parties\nGet to know your local ecology first-hand by working at one of \nthe various sites around SHADOW Lake Nature Preserve! \n\nFiestas de Restauración\nConoce de primera mano tu ecología local trabajando en uno de los diversos sitios alrededor de SHADOW Lake Nature Preserve! \n\nRegister Here:\n[contact-form to=’education@shadowhabitat.org’ subject=’RWP REGISTRATION’][contact-field label=’Name’ type=’name’ required=’1’/][contact-field label=’Email’ type=’email’ required=’1’/][contact-field label=’Phone Number’ type=’url’/][contact-field label=’Date of the Restoration Work Party that you plan to attend’ type=’text’ required=’1’/][contact-field label=’Do you have any other interests or skills we should know about?’ type=’textarea’/][/contact-form]
URL:https://shadowhabitat.org/event/restoration-work-party-5/
LOCATION:Shadow Lake Nature Preserve\, 21656 184th Ave SE\, Renton\, WA\, 98058\, United States
CATEGORIES:Restoration Work Parties
ATTACH;FMTTYPE=:
END:VEVENT
BEGIN:VEVENT
DTSTART;TZID=America/Los_Angeles:20170603T100000
DTEND;TZID=America/Los_Angeles:20170603T140000
DTSTAMP:20260425T083305
CREATED:20170503T232624Z
LAST-MODIFIED:20170503T232624Z
UID:1156-1496484000-1496498400@shadowhabitat.org
SUMMARY:Restoration Work Party
DESCRIPTION:  \nRestoration Work Parties\nGet to know your local ecology first-hand by working at one of the various sites around SHADOW Lake Nature Preserve! \n  \nThis week\, join SHADOW Lake Nature Preserve in clearing and preparing for our new trail extension!Use shovels\, hoes\, and picks to remove plants and grade a path. Learn about native plants and explore the new trail system. \n  \nRestoration Work Parties take place Saturdays from 10am to 2pm at SHADOW Lake Nature Preserve. No previous experience or tools are required\, simply arrive with weather-proof clothing for working outside\, a water bottle\, and a smile. Please be aware that you may encounter muddy areas and plants with thorns. These events are held\, rain or shine! \n  \nWe suggest thick pants\, long sleeved shirts\, and boots that can trek through mud. \n\nFiestas de Restauración\nConoce de primera mano tu ecología local trabajando en uno de los diversos sitios alrededor de SHADOW Lake Nature Preserve! \n\nRegister Here:\n[contact-form to=’education@shadowhabitat.org’ subject=’RWP REGISTRATION’][contact-field label=’Name’ type=’name’ required=’1’/][contact-field label=’Email’ type=’email’ required=’1’/][contact-field label=’Phone Number’ type=’url’/][contact-field label=’Date of the Restoration Work Party that you plan to attend’ type=’text’ required=’1’/][contact-field label=’Do you have any other interests or skills we should know about?’ type=’textarea’/][/contact-form]
URL:https://shadowhabitat.org/event/restoration-work-party-4/
LOCATION:Shadow Lake Nature Preserve\, 21656 184th Ave SE\, Renton\, WA\, 98058\, United States
ATTACH;FMTTYPE=:
END:VEVENT
BEGIN:VEVENT
DTSTART;TZID=America/Los_Angeles:20170601T063000
DTEND;TZID=America/Los_Angeles:20170601T203000
DTSTAMP:20260425T083305
CREATED:20170331T021203Z
LAST-MODIFIED:20170331T021203Z
UID:630-1496298600-1496349000@shadowhabitat.org
SUMMARY:Indigenous Peoples\, Native Plants\, and Peatlands
DESCRIPTION:  \nJoin the Snoqualmie Tribe to learn about traditional uses of the native plants commonly found in bogs! Hear about the unique land-management strategies of the Snoqualmie People and how peatlands were historically utilized\, then take a guided walk through the Nature Preserve with tribal staff. This one-of- a-kind event brings together the unique habitats at SHADOW Lake Nature Preserve and the cultural knowledge of the Snoqualmie Tribe. \nRegister HERE \nJueves\, el 1 de junio: 6:30 – 8:30 pm  \nAutóctonos\, Plantas Nativas\, y Turberas  \nÚne con el pueblo Snoqualmie para aprender sobre los usos tradicionales de las plantas nativas común de turberas. Oye sobre el manejo de la tierra único de la tribu Snoqualmie y cómo turberas fueron utilizados históricamente\, entonces da un vuelta guiada. Este evento único reúne a los hábitats excepcionales de SHADOW Lake Nature Preserve y el conocimiento cultural del pueblo Snoqualmie.
URL:https://shadowhabitat.org/event/indigenous-peoples-native-plants-peatlands/
LOCATION:Shadow Lake Nature Preserve\, 21656 184th Ave SE\, Renton\, WA\, 98058\, United States
CATEGORIES:Community Class
ATTACH;FMTTYPE=:
END:VEVENT
BEGIN:VEVENT
DTSTART;TZID=America/Los_Angeles:20170527T130000
DTEND;TZID=America/Los_Angeles:20170527T150000
DTSTAMP:20260425T083305
CREATED:20170331T020656Z
LAST-MODIFIED:20170331T020656Z
UID:627-1495890000-1495897200@shadowhabitat.org
SUMMARY:Save the Frogs Eco-Fest
DESCRIPTION:  \nJoin SHADOW Lake Nature Preserve and the Woodland Park Zoo to explore the wonder of amphibians and learn what you can do to protect them and their habitats. Amphibians are the least understood land vertebrate\, but are a critical part of the ecosystem. Play froggy games\, participate in froggy crafts\, and view SHADOW’s own amphibian pond! \nRegister HERE \nsábado\, el 27 de mayo: 1 – 3 pm \nSalve las ranas eco-fest \nÚnate con SHADOW Lake Nature Preserve y el Woodland Park Zoo para explorar la maravilla de los anfibios y aprender como tu puedes cuidarlos y sus hábitats. Los anfibios son el menos conocido de los vertebrados de la tierra\, pero son una parte fundamental del ecosistema. Juega partidos de ranas\, haz arte de ranas\, y ve el estanque de anfibios en la Reserva Natural!
URL:https://shadowhabitat.org/event/save-frogs-eco-fest/
LOCATION:Shadow Lake Nature Preserve\, 21656 184th Ave SE\, Renton\, WA\, 98058\, United States
CATEGORIES:Community Class
ATTACH;FMTTYPE=image/jpeg:https://shadowhabitat.org/wp-content/uploads/2017/03/m2-e1519241460985.jpg
END:VEVENT
BEGIN:VEVENT
DTSTART;TZID=America/Los_Angeles:20170523T180000
DTEND;TZID=America/Los_Angeles:20170523T193000
DTSTAMP:20260425T083305
CREATED:20170428T160315Z
LAST-MODIFIED:20170428T160315Z
UID:890-1495562400-1495567800@shadowhabitat.org
SUMMARY:Volunteer Training Night: Amphibians of Western Washington
DESCRIPTION:  \nFind your place in the SHADOW Lake Nature Preserve community! \nBring your favorite treat to share and come down to the Nature Preserve for an evening of companionship and fun! Join other environmentally conscious volunteers to discover more about SHADOW’s programs\, additional volunteer opportunities\, and learn something new! \nThis is a great introduction for new volunteers or an excellent refresher for seasoned volunteers! \nThis month\, join us to learn about the amphibians in Western Washington! Learn our most common species\, those species that are struggling\, and what we can do to protect them. Hear about the fascinating anatomy of frogs and how they are used as environmental indicators! \nRegister HERE \n 
URL:https://shadowhabitat.org/event/volunteer-training-night-amphibians-western-washington/
LOCATION:Shadow Lake Nature Preserve\, 21656 184th Ave SE\, Renton\, WA\, 98058\, United States
CATEGORIES:Volunteer Training Nights
ATTACH;FMTTYPE=:
END:VEVENT
BEGIN:VEVENT
DTSTART;TZID=America/Los_Angeles:20170520T100000
DTEND;TZID=America/Los_Angeles:20170520T140000
DTSTAMP:20260425T083305
CREATED:20170503T232019Z
LAST-MODIFIED:20170503T232019Z
UID:1150-1495274400-1495288800@shadowhabitat.org
SUMMARY:Restoration Work Party
DESCRIPTION:Restoration Work Parties\nGet to know your local ecology first-hand by working at one of \nthe various sites around SHADOW Lake Nature Preserve! \n\nFiestas de Restauración\nConoce de primera mano tu ecología local trabajando en uno de los diversos sitios alrededor de SHADOW Lake Nature Preserve! \n  \nRegister Here:\n[contact-form to=’education@shadowhabitat.org’ subject=’RWP REGISTRATION’][contact-field label=’Name’ type=’name’ required=’1’/][contact-field label=’Email’ type=’email’ required=’1’/][contact-field label=’Phone Number’ type=’url’/][contact-field label=’Date of the Restoration Work Party that you plan to attend’ type=’text’ required=’1’/][contact-field label=’Do you have any other interests or skills we should know about?’ type=’textarea’/][/contact-form]
URL:https://shadowhabitat.org/event/restoration-work-party-3/
LOCATION:Shadow Lake Nature Preserve\, 21656 184th Ave SE\, Renton\, WA\, 98058\, United States
ATTACH;FMTTYPE=:
END:VEVENT
BEGIN:VEVENT
DTSTART;TZID=America/Los_Angeles:20170513T100000
DTEND;TZID=America/Los_Angeles:20170513T140000
DTSTAMP:20260425T083305
CREATED:20170503T231802Z
LAST-MODIFIED:20170503T231802Z
UID:1146-1494669600-1494684000@shadowhabitat.org
SUMMARY:Restoration Work Party
DESCRIPTION:Restoration Work Parties\nGet to know your local ecology first-hand by working at one of \nthe various sites around SHADOW Lake Nature Preserve! \n\nFiestas de Restauración\nConoce de primera mano tu ecología local trabajando en uno de los diversos sitios alrededor de SHADOW Lake Nature Preserve! \n[contact-form to=’education@shadowhabitat.org ‘ subject=’RWP REGISTRATION’][contact-field label=’Name’ type=’name’ required=’1’/][contact-field label=’Email’ type=’email’ required=’1’/][contact-field label=’Phone Number’ type=’url’/][contact-field label=’Date of the Restoration Work Party that you plan to attend’ type=’text’ required=’1’/][contact-field label=’Do you have any other interests or skills we should know about?’ type=’textarea’/][/contact-form]
URL:https://shadowhabitat.org/event/restoration-work-party-2/
LOCATION:Shadow Lake Nature Preserve\, 21656 184th Ave SE\, Renton\, WA\, 98058\, United States
ATTACH;FMTTYPE=:
END:VEVENT
BEGIN:VEVENT
DTSTART;TZID=America/Los_Angeles:20170512T100000
DTEND;TZID=America/Los_Angeles:20170512T110000
DTSTAMP:20260425T083305
CREATED:20170315T234616Z
LAST-MODIFIED:20170315T234616Z
UID:447-1494583200-1494586800@shadowhabitat.org
SUMMARY:Guided Nature Walk: Tour of the Upland Forest
DESCRIPTION:Explore the beauty of our trails with a guide to lead you through the diverse ecology represented at SHADOW Lake Nature Preserve. Guided Nature Walks are outdoor explorations that take place rain or shine. Come with weather appropriate clothes and shoes for moderate levels of walking – inclines or uneven ground may be encountered on this walk. \nThis event is free\, but has a suggested donation of $5 per participant. \nThis month\, explore the upland forest of the Nature Preserve. See forest succession in action\, discover what “an octopus tree” could be\, and feel like you’re walking back in time!\nRegister Here!\nviernes\, 12 de mayo: 10 – 11 am \nCaminata guiada: Mira por la selva  \nExplorar la belleza de nuestros caminos con una guía que trabaja por la reserva natural. Las caminatas guiada son exploraciones afueras que pasan llueva o truene. Venga con ropa apropiada por el tiempo y zapatos para niveles moderados de caminar –  En este paso puede ser inclinas o terreno irregular.  \nEste mes\, explorar las selvas de la reserva natural. Mira la sucesión ecológica de esta selva\, descubre qué es un “octopus tree\,” y siente como estás caminando atrás en el tiempo. \n 
URL:https://shadowhabitat.org/event/guided-walk-tour-upland-forest/
LOCATION:WA
CATEGORIES:Guided Nature Walks
ATTACH;FMTTYPE=:
END:VEVENT
BEGIN:VEVENT
DTSTART;TZID=America/Los_Angeles:20170506T100000
DTEND;TZID=America/Los_Angeles:20170506T140000
DTSTAMP:20260425T083305
CREATED:20170503T231536Z
LAST-MODIFIED:20170503T231536Z
UID:1144-1494064800-1494079200@shadowhabitat.org
SUMMARY:Restoration Work Party
DESCRIPTION:Restoration Work Parties \nGet to know your local ecology first-hand by working at one of \nthe various sites around SHADOW Lake Nature Preserve! \n\n  \nFiestas de Restauración\nConoce de primera mano tu ecología local trabajando en uno de los diversos sitios alrededor de SHADOW Lake Nature Preserve! \n  \n[contact-form to=’education@shadowhabitat.org’ subject=’RWP REGISTRATION’][contact-field label=’Name’ type=’name’ required=’1’/][contact-field label=’Email’ type=’email’ required=’1’/][contact-field label=’Phone Number’ type=’url’/][contact-field label=’Date of the Restoration Work Party that you plan to attend’ type=’text’ required=’1’/][contact-field label=’Do you have any other interests or skills we should know about?’ type=’textarea’/][/contact-form]
URL:https://shadowhabitat.org/event/restoration-work-party/
LOCATION:Shadow Lake Nature Preserve\, 21656 184th Ave SE\, Renton\, WA\, 98058\, United States
ATTACH;FMTTYPE=:
END:VEVENT
BEGIN:VEVENT
DTSTART;TZID=America/Los_Angeles:20170506T080000
DTEND;TZID=America/Los_Angeles:20170506T100000
DTSTAMP:20260425T083305
CREATED:20170331T015433Z
LAST-MODIFIED:20170331T015433Z
UID:618-1494057600-1494064800@shadowhabitat.org
SUMMARY:Introduction to Backyard Birds
DESCRIPTION:  \nWho’s that bird in your backyard? Learn to observe and identify common birds of Western Washington. Join the president of the Rainier Audubon Society for an informative morning full of fun! Hear about the biology of local birds\, learn to identify those that commonly visit backyard feeders\, and discover what you can do to keep birds coming back year after year! \n  \nRegister HERE \n  \n[hr] \n  \nSabado\, 6 de mayo: 8 – 10 am \nIntroducción al pájaros del jardín \nConoces tus vecinos emplumados? Aprenda observar a identificar los pájaros más común en el oeste de washington. Únete al presidente e Rainier Audubon Society para una mañana informativa! Aprenderás sobre la biología de aves\, cómo identificar los que son más probables visitar tu jardín\, y cómo puedes mantenerlos a volver año tras año.   
URL:https://shadowhabitat.org/event/introduction-backyard-birds/
LOCATION:Shadow Lake Nature Preserve\, 21656 184th Ave SE\, Renton\, WA\, 98058\, United States
CATEGORIES:Community Class
ATTACH;FMTTYPE=image/jpeg:https://shadowhabitat.org/wp-content/uploads/2017/03/8.jpg
END:VEVENT
BEGIN:VEVENT
DTSTART;TZID=America/Los_Angeles:20170422T100000
DTEND;TZID=America/Los_Angeles:20170422T120000
DTSTAMP:20260425T083305
CREATED:20170315T233954Z
LAST-MODIFIED:20170315T233954Z
UID:445-1492855200-1492862400@shadowhabitat.org
SUMMARY:Earth Day: A Native Plant Celebration 2017
DESCRIPTION:This Earth Day\, learn to love native plants! Come to SHADOW Lake Nature Preserve to discover the beauty and functionality of our Puget Sound Lowland plants. Join us for a day of discovery and fun; Explore how you can show the Earth some love this spring season by choosing plants that support wildlife\, improve water quality\, and look beautiful to boot! \n  \nThis event is free but we suggest a donation of $10 per participant. \n  \nRegister here!
URL:https://shadowhabitat.org/event/earth-day-native-plant-celebration/
LOCATION:Shadow Lake Nature Preserve\, 21656 184th Ave SE\, Renton\, WA\, 98058\, United States
ATTACH;FMTTYPE=:
END:VEVENT
BEGIN:VEVENT
DTSTART;TZID=America/Los_Angeles:20170218T080000
DTEND;TZID=America/Los_Angeles:20170218T170000
DTSTAMP:20260425T083305
CREATED:20170217T184243Z
LAST-MODIFIED:20170217T184243Z
UID:138-1487404800-1487437200@shadowhabitat.org
SUMMARY:Happy Day
DESCRIPTION:Come join us
URL:https://shadowhabitat.org/event/happy-day/
LOCATION:Shadow Lake Nature Preserve\, 21656 184th Ave SE\, Renton\, WA\, 98058\, United States
ATTACH;FMTTYPE=:
END:VEVENT
END:VCALENDAR