BEGIN:VCALENDAR
VERSION:2.0
PRODID:-//SHADOW - ECPv6.15.20//NONSGML v1.0//EN
CALSCALE:GREGORIAN
METHOD:PUBLISH
X-WR-CALNAME:SHADOW
X-ORIGINAL-URL:https://shadowhabitat.org
X-WR-CALDESC:Events for SHADOW
REFRESH-INTERVAL;VALUE=DURATION:PT1H
X-Robots-Tag:noindex
X-PUBLISHED-TTL:PT1H
BEGIN:VTIMEZONE
TZID:America/Los_Angeles
BEGIN:DAYLIGHT
TZOFFSETFROM:-0800
TZOFFSETTO:-0700
TZNAME:PDT
DTSTART:20160313T100000
END:DAYLIGHT
BEGIN:STANDARD
TZOFFSETFROM:-0700
TZOFFSETTO:-0800
TZNAME:PST
DTSTART:20161106T090000
END:STANDARD
BEGIN:DAYLIGHT
TZOFFSETFROM:-0800
TZOFFSETTO:-0700
TZNAME:PDT
DTSTART:20170312T100000
END:DAYLIGHT
BEGIN:STANDARD
TZOFFSETFROM:-0700
TZOFFSETTO:-0800
TZNAME:PST
DTSTART:20171105T090000
END:STANDARD
BEGIN:DAYLIGHT
TZOFFSETFROM:-0800
TZOFFSETTO:-0700
TZNAME:PDT
DTSTART:20180311T100000
END:DAYLIGHT
BEGIN:STANDARD
TZOFFSETFROM:-0700
TZOFFSETTO:-0800
TZNAME:PST
DTSTART:20181104T090000
END:STANDARD
END:VTIMEZONE
BEGIN:VEVENT
DTSTART;TZID=America/Los_Angeles:20170506T080000
DTEND;TZID=America/Los_Angeles:20170506T100000
DTSTAMP:20260425T125627
CREATED:20170331T015433Z
LAST-MODIFIED:20170331T015433Z
UID:618-1494057600-1494064800@shadowhabitat.org
SUMMARY:Introduction to Backyard Birds
DESCRIPTION:  \nWho’s that bird in your backyard? Learn to observe and identify common birds of Western Washington. Join the president of the Rainier Audubon Society for an informative morning full of fun! Hear about the biology of local birds\, learn to identify those that commonly visit backyard feeders\, and discover what you can do to keep birds coming back year after year! \n  \nRegister HERE \n  \n[hr] \n  \nSabado\, 6 de mayo: 8 – 10 am \nIntroducción al pájaros del jardín \nConoces tus vecinos emplumados? Aprenda observar a identificar los pájaros más común en el oeste de washington. Únete al presidente e Rainier Audubon Society para una mañana informativa! Aprenderás sobre la biología de aves\, cómo identificar los que son más probables visitar tu jardín\, y cómo puedes mantenerlos a volver año tras año.   
URL:https://shadowhabitat.org/event/introduction-backyard-birds/
LOCATION:Shadow Lake Nature Preserve\, 21656 184th Ave SE\, Renton\, WA\, 98058\, United States
CATEGORIES:Community Class
ATTACH;FMTTYPE=image/jpeg:https://shadowhabitat.org/wp-content/uploads/2017/03/8.jpg
END:VEVENT
BEGIN:VEVENT
DTSTART;TZID=America/Los_Angeles:20170422T100000
DTEND;TZID=America/Los_Angeles:20170422T120000
DTSTAMP:20260425T125627
CREATED:20170315T233954Z
LAST-MODIFIED:20170315T233954Z
UID:445-1492855200-1492862400@shadowhabitat.org
SUMMARY:Earth Day: A Native Plant Celebration 2017
DESCRIPTION:This Earth Day\, learn to love native plants! Come to SHADOW Lake Nature Preserve to discover the beauty and functionality of our Puget Sound Lowland plants. Join us for a day of discovery and fun; Explore how you can show the Earth some love this spring season by choosing plants that support wildlife\, improve water quality\, and look beautiful to boot! \n  \nThis event is free but we suggest a donation of $10 per participant. \n  \nRegister here!
URL:https://shadowhabitat.org/event/earth-day-native-plant-celebration/
LOCATION:Shadow Lake Nature Preserve\, 21656 184th Ave SE\, Renton\, WA\, 98058\, United States
ATTACH;FMTTYPE=:
END:VEVENT
BEGIN:VEVENT
DTSTART;TZID=America/Los_Angeles:20170218T080000
DTEND;TZID=America/Los_Angeles:20170218T170000
DTSTAMP:20260425T125627
CREATED:20170217T184243Z
LAST-MODIFIED:20170217T184243Z
UID:138-1487404800-1487437200@shadowhabitat.org
SUMMARY:Happy Day
DESCRIPTION:Come join us
URL:https://shadowhabitat.org/event/happy-day/
LOCATION:Shadow Lake Nature Preserve\, 21656 184th Ave SE\, Renton\, WA\, 98058\, United States
ATTACH;FMTTYPE=:
END:VEVENT
END:VCALENDAR