BEGIN:VCALENDAR
VERSION:2.0
PRODID:-//SHADOW - ECPv6.15.20//NONSGML v1.0//EN
CALSCALE:GREGORIAN
METHOD:PUBLISH
X-ORIGINAL-URL:https://shadowhabitat.org
X-WR-CALDESC:Events for SHADOW
REFRESH-INTERVAL;VALUE=DURATION:PT1H
X-Robots-Tag:noindex
X-PUBLISHED-TTL:PT1H
BEGIN:VTIMEZONE
TZID:America/Los_Angeles
BEGIN:DAYLIGHT
TZOFFSETFROM:-0800
TZOFFSETTO:-0700
TZNAME:PDT
DTSTART:20190310T100000
END:DAYLIGHT
BEGIN:STANDARD
TZOFFSETFROM:-0700
TZOFFSETTO:-0800
TZNAME:PST
DTSTART:20191103T090000
END:STANDARD
BEGIN:DAYLIGHT
TZOFFSETFROM:-0800
TZOFFSETTO:-0700
TZNAME:PDT
DTSTART:20200308T100000
END:DAYLIGHT
BEGIN:STANDARD
TZOFFSETFROM:-0700
TZOFFSETTO:-0800
TZNAME:PST
DTSTART:20201101T090000
END:STANDARD
BEGIN:DAYLIGHT
TZOFFSETFROM:-0800
TZOFFSETTO:-0700
TZNAME:PDT
DTSTART:20210314T100000
END:DAYLIGHT
BEGIN:STANDARD
TZOFFSETFROM:-0700
TZOFFSETTO:-0800
TZNAME:PST
DTSTART:20211107T090000
END:STANDARD
END:VTIMEZONE
BEGIN:VEVENT
DTSTART;TZID=America/Los_Angeles:20200201T130000
DTEND;TZID=America/Los_Angeles:20200201T153000
DTSTAMP:20260425T090618
CREATED:20191123T211854Z
LAST-MODIFIED:20200114T175233Z
UID:6551-1580562000-1580571000@shadowhabitat.org
SUMMARY:Art in Nature: Block Printing Workshop
DESCRIPTION:Join us at this one of a kind\, nature themed Block Printing Workshop. In this workshop\, you’ll learn how to create a design on paper\, transfer your image on to a soft carving block (not the linoleum or wood block that are tougher for beginners)\, carve your block using a lino-cut tool\, and print your design!  \nNo prior drawing or printing experience necessary. Materials and tools will be provided.    \nThere is a $20 suggested donation for this class.  \n  \n			\n			\n				\n				\n				\n				\n			\n				\n				\n				\n				\n				\n				\n				\n				\n				\n				\n				CLASS FULL: REGISTRATION IS CLOSED.
URL:https://shadowhabitat.org/event/block-printing/
LOCATION:Shadow Lake Nature Preserve\, 21656 184th Ave SE\, Renton\, WA\, 98058\, United States
CATEGORIES:Community Class
ATTACH;FMTTYPE=image/png:https://shadowhabitat.org/wp-content/uploads/2019/11/3-2.png
END:VEVENT
BEGIN:VEVENT
DTSTART;TZID=America/Los_Angeles:20200215T100000
DTEND;TZID=America/Los_Angeles:20200215T140000
DTSTAMP:20260425T090618
CREATED:20191204T225303Z
LAST-MODIFIED:20191204T225303Z
UID:6584-1581760800-1581775200@shadowhabitat.org
SUMMARY:Restoration Work Party
DESCRIPTION:Help SHADOW Lake Nature Preserve beautify our grounds and maintain our trails by removing invasive weeds and pruning native species. No previous experience or tools are required\, simply arrive with weather-proof clothing for working outside\, a water bottle\, and a smile. Please be aware that you may encounter muddy areas and plants with thorns. These events are held rain or shine!  \nFiestas de Restauración: Cada sábado\, 10 am – 2 pm  \nConoce de primera mano tu ecología local trabajando en uno de los diversos sitios alrededor de SHADOW Lake Nature Preserve!  \nCada sábado tiene nuevo trababjo pero siempre pasamos por el turbera de 5\,000 años de edad.  \nNo experiencia es necesario. Todas las herramientas y instructiones será proporcionado.  \n\n	Notice: JavaScript is required for this content.\nNo Fields Found.
URL:https://shadowhabitat.org/event/restoration-work-party-91/
LOCATION:Shadow Lake Nature Preserve\, 21656 184th Ave SE\, Renton\, WA\, 98058\, United States
CATEGORIES:Restoration Work Parties
ATTACH;FMTTYPE=image/png:https://shadowhabitat.org/wp-content/uploads/2019/11/6-1.png
END:VEVENT
BEGIN:VEVENT
DTSTART;TZID=America/Los_Angeles:20200222T100000
DTEND;TZID=America/Los_Angeles:20200222T140000
DTSTAMP:20260425T090618
CREATED:20191204T225504Z
LAST-MODIFIED:20191210T215842Z
UID:6586-1582365600-1582380000@shadowhabitat.org
SUMMARY:Restoration Work Party
DESCRIPTION:Help SHADOW Lake Nature Preserve beautify our grounds and maintain our trails by removing invasive weeds and pruning native species. No previous experience or tools are required\, simply arrive with weather-proof clothing for working outside\, a water bottle\, and a smile. Please be aware that you may encounter muddy areas and plants with thorns. These events are held rain or shine!  \nFiestas de Restauración: Cada sábado\, 10 am – 2 pm  \nConoce de primera mano tu ecología local trabajando en uno de los diversos sitios alrededor de SHADOW Lake Nature Preserve!  \nCada sábado tiene nuevo trababjo pero siempre pasamos por el turbera de 5\,000 años de edad.  \nNo experiencia es necesario. Todas las herramientas y instructiones será proporcionado.  \n\n	Notice: JavaScript is required for this content.\nNo Fields Found.
URL:https://shadowhabitat.org/event/rwp-2/
LOCATION:Shadow Lake Nature Preserve\, 21656 184th Ave SE\, Renton\, WA\, 98058\, United States
CATEGORIES:Restoration Work Parties
ATTACH;FMTTYPE=image/png:https://shadowhabitat.org/wp-content/uploads/2019/11/5-1.png
END:VEVENT
BEGIN:VEVENT
DTSTART;TZID=America/Los_Angeles:20200229T130000
DTEND;TZID=America/Los_Angeles:20200229T150000
DTSTAMP:20260425T090618
CREATED:20191123T213934Z
LAST-MODIFIED:20191210T220318Z
UID:6565-1582981200-1582988400@shadowhabitat.org
SUMMARY:Neighborhood Open House
DESCRIPTION:Join us for a chance to get to know SHADOW’s neighbors\, volunteers\, staff\, and board. We will have a presentation on Living with Wildlife by Christopher Anderson\, from the Washington Department Fish and Wildlife. There will be information on our upcoming projects\, community classes\, and other news from around the Nature Preserve. Snacks and refreshments will be provided. We look forward to seeing you there!  \nLet us know you plan on attending:   \n\n	Notice: JavaScript is required for this content.\nNo Fields Found.
URL:https://shadowhabitat.org/event/open-house/
LOCATION:Shadow Lake Nature Preserve\, 21656 184th Ave SE\, Renton\, WA\, 98058\, United States
ATTACH;FMTTYPE=image/png:https://shadowhabitat.org/wp-content/uploads/2019/11/2-1.png
END:VEVENT
END:VCALENDAR