BEGIN:VCALENDAR
VERSION:2.0
PRODID:-//SHADOW - ECPv6.15.20//NONSGML v1.0//EN
CALSCALE:GREGORIAN
METHOD:PUBLISH
X-ORIGINAL-URL:https://shadowhabitat.org
X-WR-CALDESC:Events for SHADOW
REFRESH-INTERVAL;VALUE=DURATION:PT1H
X-Robots-Tag:noindex
X-PUBLISHED-TTL:PT1H
BEGIN:VTIMEZONE
TZID:America/Los_Angeles
BEGIN:DAYLIGHT
TZOFFSETFROM:-0800
TZOFFSETTO:-0700
TZNAME:PDT
DTSTART:20190310T100000
END:DAYLIGHT
BEGIN:STANDARD
TZOFFSETFROM:-0700
TZOFFSETTO:-0800
TZNAME:PST
DTSTART:20191103T090000
END:STANDARD
BEGIN:DAYLIGHT
TZOFFSETFROM:-0800
TZOFFSETTO:-0700
TZNAME:PDT
DTSTART:20200308T100000
END:DAYLIGHT
BEGIN:STANDARD
TZOFFSETFROM:-0700
TZOFFSETTO:-0800
TZNAME:PST
DTSTART:20201101T090000
END:STANDARD
BEGIN:DAYLIGHT
TZOFFSETFROM:-0800
TZOFFSETTO:-0700
TZNAME:PDT
DTSTART:20210314T100000
END:DAYLIGHT
BEGIN:STANDARD
TZOFFSETFROM:-0700
TZOFFSETTO:-0800
TZNAME:PST
DTSTART:20211107T090000
END:STANDARD
END:VTIMEZONE
BEGIN:VEVENT
DTSTART;TZID=America/Los_Angeles:20200403T100000
DTEND;TZID=America/Los_Angeles:20200403T110000
DTSTAMP:20260423T035553
CREATED:20200227T233528Z
LAST-MODIFIED:20200317T194542Z
UID:6812-1585908000-1585911600@shadowhabitat.org
SUMMARY:Cancelled - Guided Nature Walk: Frogs Around the Bog
DESCRIPTION:CANCELLED!\nLearn about frogs and other amphibians on this educational and enjoyable guided walk through SHADOW’s own peat bog! Pass by our pond and learn some fun facts about Western Washington’s amphibians!   \nGuided Nature Walks are outdoor explorations that take place rain or shine. Come with weather appropriate clothes and shoes for moderate levels of walking – inclines or uneven ground may be encountered on this walk.    \n 
URL:https://shadowhabitat.org/event/guided-walk-frogs/
LOCATION:Shadow Lake Nature Preserve\, 21656 184th Ave SE\, Renton\, WA\, 98058\, United States
CATEGORIES:Guided Nature Walks
ATTACH;FMTTYPE=image/png:https://shadowhabitat.org/wp-content/uploads/2020/02/1-1.png
END:VEVENT
BEGIN:VEVENT
DTSTART;TZID=America/Los_Angeles:20200418T100000
DTEND;TZID=America/Los_Angeles:20200418T140000
DTSTAMP:20260423T035553
CREATED:20200227T233840Z
LAST-MODIFIED:20200319T172153Z
UID:6816-1587204000-1587218400@shadowhabitat.org
SUMMARY:Cancelled - Restoration Work Party
DESCRIPTION:Cancelled! \nHelp SHADOW Lake Nature Preserve beautify our grounds and maintain our trails by removing invasive weeds and pruning native species. No previous experience or tools are required\, simply arrive with weather-proof clothing for working outside\, a water bottle\, and a smile. Please be aware that you may encounter muddy areas and plants with thorns. These events are held rain or shine! 
URL:https://shadowhabitat.org/event/rwp-4/
LOCATION:Shadow Lake Nature Preserve\, 21656 184th Ave SE\, Renton\, WA\, 98058\, United States
CATEGORIES:Restoration Work Parties
ATTACH;FMTTYPE=image/png:https://shadowhabitat.org/wp-content/uploads/2020/02/12-1.png
END:VEVENT
BEGIN:VEVENT
DTSTART;TZID=America/Los_Angeles:20200424T100000
DTEND;TZID=America/Los_Angeles:20200424T110000
DTSTAMP:20260423T035553
CREATED:20200227T234200Z
LAST-MODIFIED:20200319T212839Z
UID:6819-1587722400-1587726000@shadowhabitat.org
SUMMARY:Cancelled - Guided Nature Walk: Earth Day Celebration
DESCRIPTION:CANCELLED \nCome help us celebrate a belated Earth Day and explore the beautiful trails found at SHADOW on this guided tour! Use this day as an excuse to get outdoors and appreciate the natural world around us!   \nGuided Nature Walks are outdoor explorations that take place rain or shine. Come with weather appropriate clothes and shoes for moderate levels of walking – inclines or uneven ground may be encountered on this walk.  
URL:https://shadowhabitat.org/event/gnw/
LOCATION:Shadow Lake Nature Preserve\, 21656 184th Ave SE\, Renton\, WA\, 98058\, United States
CATEGORIES:Guided Nature Walks
ATTACH;FMTTYPE=image/png:https://shadowhabitat.org/wp-content/uploads/2020/02/2-1.png
END:VEVENT
BEGIN:VEVENT
DTSTART;TZID=America/Los_Angeles:20200425T130000
DTEND;TZID=America/Los_Angeles:20200425T150000
DTSTAMP:20260423T035553
CREATED:20200228T235738Z
LAST-MODIFIED:20200319T212406Z
UID:6860-1587819600-1587826800@shadowhabitat.org
SUMMARY:Cancelled - Bat Biology & Box Building
DESCRIPTION:Join us at our Bat Biology & Box Building Class! You will start off by learning about bat biology\, bat facts and conservation. Then\, you will learn how YOU can help bat conservation in your own backyard by constructing your very own bat box to take home! Material & supplies provided.  \n*Children under 16 years old must have a parent or guardian present due to the use of hand tools for box construction.    \nThere is a $10 suggest program fee per box for this class. All program fee donations help continue SHADOW’s Community Class Program and supports education at the Nature Preserve.\n			\n			\n				\n				\n				\n				\n			\n				\n				\n				\n				\n				\n				\n				\n				\n				\n				\n				Register without Donation\n			\n			\n				\n				\n				\n				\n				\n				\n				\n				\n				\n				Register with a Donation\n			\n			\n				\n				\n				\n				\n			\n				\n				\n				\n				\n				\n				\n				\n				\n				\n				\n				\n	Notice: JavaScript is required for this content.\nNo Fields Found.
URL:https://shadowhabitat.org/event/bat-class-2/
LOCATION:Shadow Lake Nature Preserve\, 21656 184th Ave SE\, Renton\, WA\, 98058\, United States
CATEGORIES:Community Class
ATTACH;FMTTYPE=image/png:https://shadowhabitat.org/wp-content/uploads/2020/02/7-1.png
END:VEVENT
END:VCALENDAR