BEGIN:VCALENDAR
VERSION:2.0
PRODID:-//SHADOW - ECPv6.15.20//NONSGML v1.0//EN
CALSCALE:GREGORIAN
METHOD:PUBLISH
X-WR-CALNAME:SHADOW
X-ORIGINAL-URL:https://shadowhabitat.org
X-WR-CALDESC:Events for SHADOW
REFRESH-INTERVAL;VALUE=DURATION:PT1H
X-Robots-Tag:noindex
X-PUBLISHED-TTL:PT1H
BEGIN:VTIMEZONE
TZID:America/Los_Angeles
BEGIN:DAYLIGHT
TZOFFSETFROM:-0800
TZOFFSETTO:-0700
TZNAME:PDT
DTSTART:20190310T100000
END:DAYLIGHT
BEGIN:STANDARD
TZOFFSETFROM:-0700
TZOFFSETTO:-0800
TZNAME:PST
DTSTART:20191103T090000
END:STANDARD
BEGIN:DAYLIGHT
TZOFFSETFROM:-0800
TZOFFSETTO:-0700
TZNAME:PDT
DTSTART:20200308T100000
END:DAYLIGHT
BEGIN:STANDARD
TZOFFSETFROM:-0700
TZOFFSETTO:-0800
TZNAME:PST
DTSTART:20201101T090000
END:STANDARD
BEGIN:DAYLIGHT
TZOFFSETFROM:-0800
TZOFFSETTO:-0700
TZNAME:PDT
DTSTART:20210314T100000
END:DAYLIGHT
BEGIN:STANDARD
TZOFFSETFROM:-0700
TZOFFSETTO:-0800
TZNAME:PST
DTSTART:20211107T090000
END:STANDARD
END:VTIMEZONE
BEGIN:VEVENT
DTSTART;TZID=America/Los_Angeles:20200718T133000
DTEND;TZID=America/Los_Angeles:20200718T150000
DTSTAMP:20260422T202540
CREATED:20200616T195947Z
LAST-MODIFIED:20200616T195947Z
UID:7224-1595079000-1595084400@shadowhabitat.org
SUMMARY:Sustainable Hiking Practices
DESCRIPTION:Join us at SHADOW Lake Nature Preserve to learn sustainable hiking ethics through an open discussion and then practice by taking part in fun activities in our Upland Trail System. Learn to protect and enjoy your world responsibly starting on your local trails. Must be registered for this class to attend\, limited spots available!  \nThis event will take place outdoors\, rain or shine. Plan and prepare – come with weather appropriate clothes and shoes for moderate levels of walking – inclines or uneven ground may be encountered on this walk.    \nThere is a suggested donation of $10 for this event. Donations help SHADOW continue to provide educational experiences to our community\, CLICK HERE to make a contribution. \n\n	Notice: JavaScript is required for this content.\nNo Fields Found.
URL:https://shadowhabitat.org/event/sustainable-hiking/
LOCATION:Shadow Lake Nature Preserve\, 21656 184th Ave SE\, Renton\, WA\, 98058\, United States
CATEGORIES:Community Class
ATTACH;FMTTYPE=image/png:https://shadowhabitat.org/wp-content/uploads/2020/06/1-1.png
END:VEVENT
BEGIN:VEVENT
DTSTART;TZID=America/Los_Angeles:20200724T180000
DTEND;TZID=America/Los_Angeles:20200724T193000
DTSTAMP:20260422T202540
CREATED:20200616T200413Z
LAST-MODIFIED:20200718T210222Z
UID:7228-1595613600-1595619000@shadowhabitat.org
SUMMARY:Family Trivia Night (Virtual)
DESCRIPTION:Work in a team with your family to beat the clock! Join SHADOW’s Restoration and Education Manager for a family friendly virtual trivia night on Zoom. You & your family will answer fun science and nature related questions for a chance to win a prize! You must be registered to take part in this event; spots are limited. \nThere is a suggested donation of $10 per household for this event. Donations help SHADOW continue providing fun\, educational opportunities to our community. Click Here to make a contribution. \nYou need to be registered to participate in this virtual event:\n\n	Notice: JavaScript is required for this content.\nNo Fields Found.
URL:https://shadowhabitat.org/event/trivia-night/
ATTACH;FMTTYPE=image/png:https://shadowhabitat.org/wp-content/uploads/2020/06/2-1.png
END:VEVENT
END:VCALENDAR