BEGIN:VCALENDAR
VERSION:2.0
PRODID:-//SHADOW - ECPv6.15.20//NONSGML v1.0//EN
CALSCALE:GREGORIAN
METHOD:PUBLISH
X-ORIGINAL-URL:https://shadowhabitat.org
X-WR-CALDESC:Events for SHADOW
REFRESH-INTERVAL;VALUE=DURATION:PT1H
X-Robots-Tag:noindex
X-PUBLISHED-TTL:PT1H
BEGIN:VTIMEZONE
TZID:America/Los_Angeles
BEGIN:DAYLIGHT
TZOFFSETFROM:-0800
TZOFFSETTO:-0700
TZNAME:PDT
DTSTART:20190310T100000
END:DAYLIGHT
BEGIN:STANDARD
TZOFFSETFROM:-0700
TZOFFSETTO:-0800
TZNAME:PST
DTSTART:20191103T090000
END:STANDARD
BEGIN:DAYLIGHT
TZOFFSETFROM:-0800
TZOFFSETTO:-0700
TZNAME:PDT
DTSTART:20200308T100000
END:DAYLIGHT
BEGIN:STANDARD
TZOFFSETFROM:-0700
TZOFFSETTO:-0800
TZNAME:PST
DTSTART:20201101T090000
END:STANDARD
BEGIN:DAYLIGHT
TZOFFSETFROM:-0800
TZOFFSETTO:-0700
TZNAME:PDT
DTSTART:20210314T100000
END:DAYLIGHT
BEGIN:STANDARD
TZOFFSETFROM:-0700
TZOFFSETTO:-0800
TZNAME:PST
DTSTART:20211107T090000
END:STANDARD
END:VTIMEZONE
BEGIN:VEVENT
DTSTART;TZID=America/Los_Angeles:20201023T180000
DTEND;TZID=America/Los_Angeles:20201023T193000
DTSTAMP:20260422T101715
CREATED:20200919T190047Z
LAST-MODIFIED:20201023T191612Z
UID:7565-1603476000-1603481400@shadowhabitat.org
SUMMARY:Family Trivia Night - Spooky Nature Edition
DESCRIPTION:Registration is Closed!\nKick-off the Halloween festivities early with SHADOW at our spooky nature edition of Family Trivia Night. Join in with your household to compete against others and answers questions about some of the “spooky”\, night prowling\, and slimy things found in nature.  This event is virtual and hosted using Zoom.  \nTrivia question difficulty will vary\, this event is designed for families & households with various age ranges (youth and adults). Winning household will receive a $25.00 gift card to Farrelli’s Pizza! \nSuggested donation $10.00 per household – Donate Here! \n 
URL:https://shadowhabitat.org/event/spooky-trivia/
ATTACH;FMTTYPE=image/png:https://shadowhabitat.org/wp-content/uploads/2020/09/1.png
END:VEVENT
BEGIN:VEVENT
DTSTART;TZID=America/Los_Angeles:20201028T190000
DTEND;TZID=America/Los_Angeles:20201028T203000
DTSTAMP:20260422T101715
CREATED:20200919T190616Z
LAST-MODIFIED:20201028T180158Z
UID:7568-1603911600-1603917000@shadowhabitat.org
SUMMARY:Halloween Happy Hour & Trivia Night
DESCRIPTION:Registration is Required\nJoin SHADOW for our first ever 21+ Halloween Happy Hour & Trivia Night on Zoom! Grab a glass of your favorite fall cocktail (or mocktail) and compete against others during our spooky\, creepy critter themed trivia. You can participate individually or get a small group of friends together to work as a team. Costumes encouraged!  \nTrivia winners will receive a $25.00 Darden Restaurants gift card\, which can be used at any Darden restaurant.
URL:https://shadowhabitat.org/event/happy-hour/
ATTACH;FMTTYPE=image/png:https://shadowhabitat.org/wp-content/uploads/2020/09/2.png
END:VEVENT
END:VCALENDAR