BEGIN:VCALENDAR
VERSION:2.0
PRODID:-//SHADOW - ECPv6.15.20//NONSGML v1.0//EN
CALSCALE:GREGORIAN
METHOD:PUBLISH
X-WR-CALNAME:SHADOW
X-ORIGINAL-URL:https://shadowhabitat.org
X-WR-CALDESC:Events for SHADOW
REFRESH-INTERVAL;VALUE=DURATION:PT1H
X-Robots-Tag:noindex
X-PUBLISHED-TTL:PT1H
BEGIN:VTIMEZONE
TZID:America/Los_Angeles
BEGIN:DAYLIGHT
TZOFFSETFROM:-0800
TZOFFSETTO:-0700
TZNAME:PDT
DTSTART:20200308T100000
END:DAYLIGHT
BEGIN:STANDARD
TZOFFSETFROM:-0700
TZOFFSETTO:-0800
TZNAME:PST
DTSTART:20201101T090000
END:STANDARD
BEGIN:DAYLIGHT
TZOFFSETFROM:-0800
TZOFFSETTO:-0700
TZNAME:PDT
DTSTART:20210314T100000
END:DAYLIGHT
BEGIN:STANDARD
TZOFFSETFROM:-0700
TZOFFSETTO:-0800
TZNAME:PST
DTSTART:20211107T090000
END:STANDARD
BEGIN:DAYLIGHT
TZOFFSETFROM:-0800
TZOFFSETTO:-0700
TZNAME:PDT
DTSTART:20220313T100000
END:DAYLIGHT
BEGIN:STANDARD
TZOFFSETFROM:-0700
TZOFFSETTO:-0800
TZNAME:PST
DTSTART:20221106T090000
END:STANDARD
END:VTIMEZONE
BEGIN:VEVENT
DTSTART;TZID=America/Los_Angeles:20210709T100000
DTEND;TZID=America/Los_Angeles:20210709T110000
DTSTAMP:20260422T144333
CREATED:20210609T202420Z
LAST-MODIFIED:20210609T202420Z
UID:8206-1625824800-1625828400@shadowhabitat.org
SUMMARY:Guided Nature Walk: Bog Biodiversity
DESCRIPTION:REGISTRATION REQUIRED\nVenture down the Boardwalk Trail and learn about the biodiversity of life in the Shadow Lake Bog! We’ll discuss the uniqueness of the variety of plants and animals who call the bog home.  \nGuided Nature Walks are outdoor explorations that take place rain or shine\, designed for people of all ages. Come with weather appropriate clothes and shoes for moderate levels of walking – inclines or uneven ground may be encountered on this walk.    \n\n	Notice: JavaScript is required for this content.\nNo Fields Found.
URL:https://shadowhabitat.org/event/bog-biodiversity/
LOCATION:Shadow Lake Nature Preserve\, 21656 184th Ave SE\, Renton\, WA\, 98058\, United States
CATEGORIES:Guided Nature Walks
ATTACH;FMTTYPE=image/png:https://shadowhabitat.org/wp-content/uploads/2021/06/1.png
END:VEVENT
BEGIN:VEVENT
DTSTART;TZID=America/Los_Angeles:20210716T180000
DTEND;TZID=America/Los_Angeles:20210716T200000
DTSTAMP:20260422T144333
CREATED:20210609T205029Z
LAST-MODIFIED:20210609T211855Z
UID:8218-1626458400-1626465600@shadowhabitat.org
SUMMARY:Summer Bug Bonanza Event
DESCRIPTION:REGISTRATION REQUIRED\nGrab your magnifying glass and join us for a fun evening investigating what life would be like as a bug living at the Nature Preserve. This family friendly event will challenge you to work together as a group to discover some of the different types of bugs living at the Nature Preserve\, and how bugs have adapted to live in different ecosystems.   \n*This is an event for all ages\, children 16 and under should be accompanied by an adult.  \nThere is a $5 suggest program fee per person for this event. All program fees help continue SHADOW’s Education Program activities and supports education at the Nature Preserve. CLICK HERE to pay the suggested program fee. \n\n	Notice: JavaScript is required for this content.\nNo Fields Found.\n\n    \n\n\n        \n        \n        \n\n\n\n\n\n\n\n\n\n\n        \n\n        \n\n        \n 
URL:https://shadowhabitat.org/event/bug-bonanza/
LOCATION:Shadow Lake Nature Preserve\, 21656 184th Ave SE\, Renton\, WA\, 98058\, United States
ATTACH;FMTTYPE=image/png:https://shadowhabitat.org/wp-content/uploads/2021/06/7.png
END:VEVENT
BEGIN:VEVENT
DTSTART;TZID=America/Los_Angeles:20210722T173000
DTEND;TZID=America/Los_Angeles:20210722T193000
DTSTAMP:20260422T144333
CREATED:20210609T205244Z
LAST-MODIFIED:20210609T211638Z
UID:8224-1626975000-1626982200@shadowhabitat.org
SUMMARY:Virtual Wildfire Ecology Class
DESCRIPTION:REGISTRATION REQUIRED\nWildfire season is right around the corner\, and SHADOW invites you to join us for an evening to learn about the ecology\, safety and prevention of wildfires in Washington State. This lecture will be led by James Dickinson\, Regional Fire Ecologist for the Okanogan and Wenatchee National Forests with the Bureau of Land Management.   \nThere is a $5 suggest program fee per person for this class. All program fee donations help continue SHADOW’s Community Class Program and supports education at the Nature Preserve. CLICK HERE to pay the suggested program fee. \n\n	Notice: JavaScript is required for this content.\nNo Fields Found.
URL:https://shadowhabitat.org/event/wildfire-ecology-class/
LOCATION:Shadow Lake Nature Preserve\, 21656 184th Ave SE\, Renton\, WA\, 98058\, United States
CATEGORIES:Community Class
ATTACH;FMTTYPE=image/png:https://shadowhabitat.org/wp-content/uploads/2021/06/8.png
END:VEVENT
BEGIN:VEVENT
DTSTART;TZID=America/Los_Angeles:20210723T180000
DTEND;TZID=America/Los_Angeles:20210723T190000
DTSTAMP:20260422T144333
CREATED:20210609T202752Z
LAST-MODIFIED:20210609T202815Z
UID:8213-1627063200-1627066800@shadowhabitat.org
SUMMARY:Guided Nature Walk: Pollinators
DESCRIPTION:REGISTRATION REQUIRED\nEnjoy an evening stroll through SHADOW’s Uplands discussing the importance of pollinators in our environment. We’ll walk through SHADOW’s Native Plant Garden and learn about some of the native plants who benefit pollinators that can be added to your yard at home!  \nGuided Nature Walks are outdoor explorations that take place rain or shine\, designed for people of all ages. Come with weather appropriate clothes and shoes for moderate levels of walking – inclines or uneven ground may be encountered on this walk.    \n\n	Notice: JavaScript is required for this content.\nNo Fields Found.
URL:https://shadowhabitat.org/event/pollinators/
LOCATION:Shadow Lake Nature Preserve\, 21656 184th Ave SE\, Renton\, WA\, 98058\, United States
CATEGORIES:Guided Nature Walks
ATTACH;FMTTYPE=image/png:https://shadowhabitat.org/wp-content/uploads/2021/06/2.png
END:VEVENT
END:VCALENDAR