BEGIN:VCALENDAR
VERSION:2.0
PRODID:-//SHADOW - ECPv6.15.20//NONSGML v1.0//EN
CALSCALE:GREGORIAN
METHOD:PUBLISH
X-ORIGINAL-URL:https://shadowhabitat.org
X-WR-CALDESC:Events for SHADOW
REFRESH-INTERVAL;VALUE=DURATION:PT1H
X-Robots-Tag:noindex
X-PUBLISHED-TTL:PT1H
BEGIN:VTIMEZONE
TZID:America/Los_Angeles
BEGIN:DAYLIGHT
TZOFFSETFROM:-0800
TZOFFSETTO:-0700
TZNAME:PDT
DTSTART:20210314T100000
END:DAYLIGHT
BEGIN:STANDARD
TZOFFSETFROM:-0700
TZOFFSETTO:-0800
TZNAME:PST
DTSTART:20211107T090000
END:STANDARD
BEGIN:DAYLIGHT
TZOFFSETFROM:-0800
TZOFFSETTO:-0700
TZNAME:PDT
DTSTART:20220313T100000
END:DAYLIGHT
BEGIN:STANDARD
TZOFFSETFROM:-0700
TZOFFSETTO:-0800
TZNAME:PST
DTSTART:20221106T090000
END:STANDARD
BEGIN:DAYLIGHT
TZOFFSETFROM:-0800
TZOFFSETTO:-0700
TZNAME:PDT
DTSTART:20230312T100000
END:DAYLIGHT
BEGIN:STANDARD
TZOFFSETFROM:-0700
TZOFFSETTO:-0800
TZNAME:PST
DTSTART:20231105T090000
END:STANDARD
END:VTIMEZONE
BEGIN:VEVENT
DTSTART;TZID=America/Los_Angeles:20220910T100000
DTEND;TZID=America/Los_Angeles:20220910T140000
DTSTAMP:20260425T211031
CREATED:20220902T000014Z
LAST-MODIFIED:20220902T000014Z
UID:9504-1662804000-1662818400@shadowhabitat.org
SUMMARY:Restoration Work Party
DESCRIPTION:Registration Required\n  \nHelp SHADOW Lake Nature Preserve beautify our grounds and maintain our trails by removing invasive weeds and pruning native species. No previous experience or tools are required\, simply arrive with weather-proof clothing for working outside\, a water bottle\, and a smile. Please be aware that you may encounter muddy areas and plants with thorns. These events are held rain or shine! \n\n	Notice: JavaScript is required for this content.\nNo Fields Found.
URL:https://shadowhabitat.org/event/restoration-work-party-95/
LOCATION:Shadow Lake Nature Preserve\, 21656 184th Ave SE\, Renton\, WA\, 98058\, United States
CATEGORIES:Restoration Work Parties
ATTACH;FMTTYPE=image/jpeg:https://shadowhabitat.org/wp-content/uploads/2022/06/P4184452.jpg
END:VEVENT
BEGIN:VEVENT
DTSTART;TZID=America/Los_Angeles:20220915T090000
DTEND;TZID=America/Los_Angeles:20220915T130000
DTSTAMP:20260425T211031
CREATED:20220902T000128Z
LAST-MODIFIED:20220902T000128Z
UID:9506-1663232400-1663246800@shadowhabitat.org
SUMMARY:Restoration Work Party
DESCRIPTION:Registration Required\n  \nHelp SHADOW Lake Nature Preserve beautify our grounds and maintain our trails by removing invasive weeds and pruning native species. No previous experience or tools are required\, simply arrive with weather-proof clothing for working outside\, a water bottle\, and a smile. Please be aware that you may encounter muddy areas and plants with thorns. These events are held rain or shine! \n\n	Notice: JavaScript is required for this content.\nNo Fields Found.
URL:https://shadowhabitat.org/event/restoration-work-party-96/
LOCATION:Shadow Lake Nature Preserve\, 21656 184th Ave SE\, Renton\, WA\, 98058\, United States
ATTACH;FMTTYPE=image/jpeg:https://shadowhabitat.org/wp-content/uploads/2022/06/P4184452.jpg
END:VEVENT
BEGIN:VEVENT
DTSTART;TZID=America/Los_Angeles:20220917T100000
DTEND;TZID=America/Los_Angeles:20220917T140000
DTSTAMP:20260425T211031
CREATED:20220902T000241Z
LAST-MODIFIED:20220902T000241Z
UID:9508-1663408800-1663423200@shadowhabitat.org
SUMMARY:Restoration Work Party
DESCRIPTION:Registration Required\n  \nHelp SHADOW Lake Nature Preserve beautify our grounds and maintain our trails by removing invasive weeds and pruning native species. No previous experience or tools are required\, simply arrive with weather-proof clothing for working outside\, a water bottle\, and a smile. Please be aware that you may encounter muddy areas and plants with thorns. These events are held rain or shine! \n\n	Notice: JavaScript is required for this content.\nNo Fields Found.
URL:https://shadowhabitat.org/event/restoration-work-party-97/
LOCATION:Shadow Lake Nature Preserve\, 21656 184th Ave SE\, Renton\, WA\, 98058\, United States
ATTACH;FMTTYPE=image/jpeg:https://shadowhabitat.org/wp-content/uploads/2022/06/P4184452.jpg
END:VEVENT
BEGIN:VEVENT
DTSTART;TZID=America/Los_Angeles:20220917T183000
DTEND;TZID=America/Los_Angeles:20220917T200000
DTSTAMP:20260425T211031
CREATED:20220830T165940Z
LAST-MODIFIED:20220831T214954Z
UID:9423-1663439400-1663444800@shadowhabitat.org
SUMMARY:Woodland Park Zoo - Bat Activity Trends sunset meetup
DESCRIPTION:Before the days get too much shorter please join us here at SHADOW Lake Nature Preserve to observe some of our marvelous and mysterious native bat species. We are partnering with the Woodland Park Zoo to host their ongoing summer Bat Activity Trends citizen science program. Zoo representatives will give an informational presentation about the importance of bats to our ecosystem\, and then we will head to the observation sites to monitor bat activity for an ongoing study. This may be the last event of the season\, so be sure to sign up! For more information about Bat Activity Trends visit https://www.zoo.org/batactivity We will ideally be split into two groups\, one near the water and one in the uplands. Preliminary reports show several active species out foraging at sunset! This is a FREE event\, just follow the link below to get signed up. \n	Notice: JavaScript is required for this content.\nNo Fields Found.
URL:https://shadowhabitat.org/event/woodland-park-zoo-bat-activity-trends-sunset-meetup/
LOCATION:Shadow Lake Nature Preserve\, 21656 184th Ave SE\, Renton\, WA\, 98058\, United States
CATEGORIES:Community Class
ATTACH;FMTTYPE=image/png:https://shadowhabitat.org/wp-content/uploads/2022/08/BAT.png
END:VEVENT
BEGIN:VEVENT
DTSTART;VALUE=DATE:20220924
DTEND;VALUE=DATE:20220925
DTSTAMP:20260425T211031
CREATED:20220923T182453Z
LAST-MODIFIED:20220923T182453Z
UID:9589-1663977600-1664063999@shadowhabitat.org
SUMMARY:Frog Frolic 2022 Cancelled!!!
DESCRIPTION:Sad news! We have had to cancel this year’s Frog Frolic\, our beloved end-of-summer celebration. For those who had been planning to attend\, we sincerely apologize for the inconvenience and disappointment. We hope to see everyone at next year’s Frolic\, and don’t forget to check our our events calendar for other great opportunities to visit SHADOW!
URL:https://shadowhabitat.org/event/frog-frolic-2022-cancelled/
LOCATION:Shadow Lake Nature Preserve\, 21656 184th Ave SE\, Renton\, WA\, 98058\, United States
ATTACH;FMTTYPE=image/png:https://shadowhabitat.org/wp-content/uploads/2022/09/Frog-Frolic-Generic-cancelled.png
END:VEVENT
BEGIN:VEVENT
DTSTART;TZID=America/Los_Angeles:20220924T100000
DTEND;TZID=America/Los_Angeles:20220924T140000
DTSTAMP:20260425T211031
CREATED:20220902T002951Z
LAST-MODIFIED:20220902T002951Z
UID:9510-1664013600-1664028000@shadowhabitat.org
SUMMARY:Restoration Work Party
DESCRIPTION:Registration Required\n  \nHelp SHADOW Lake Nature Preserve beautify our grounds and maintain our trails by removing invasive weeds and pruning native species. No previous experience or tools are required\, simply arrive with weather-proof clothing for working outside\, a water bottle\, and a smile. Please be aware that you may encounter muddy areas and plants with thorns. These events are held rain or shine! \n\n	Notice: JavaScript is required for this content.\nNo Fields Found.
URL:https://shadowhabitat.org/event/restoration-work-party-98/
LOCATION:Shadow Lake Nature Preserve\, 21656 184th Ave SE\, Renton\, WA\, 98058\, United States
CATEGORIES:Restoration Work Parties
ATTACH;FMTTYPE=image/jpeg:https://shadowhabitat.org/wp-content/uploads/2022/06/P4184452.jpg
END:VEVENT
END:VCALENDAR