BEGIN:VCALENDAR
VERSION:2.0
PRODID:-//SHADOW - ECPv6.15.20//NONSGML v1.0//EN
CALSCALE:GREGORIAN
METHOD:PUBLISH
X-WR-CALNAME:SHADOW
X-ORIGINAL-URL:https://shadowhabitat.org
X-WR-CALDESC:Events for SHADOW
REFRESH-INTERVAL;VALUE=DURATION:PT1H
X-Robots-Tag:noindex
X-PUBLISHED-TTL:PT1H
BEGIN:VTIMEZONE
TZID:America/Los_Angeles
BEGIN:DAYLIGHT
TZOFFSETFROM:-0800
TZOFFSETTO:-0700
TZNAME:PDT
DTSTART:20220313T100000
END:DAYLIGHT
BEGIN:STANDARD
TZOFFSETFROM:-0700
TZOFFSETTO:-0800
TZNAME:PST
DTSTART:20221106T090000
END:STANDARD
BEGIN:DAYLIGHT
TZOFFSETFROM:-0800
TZOFFSETTO:-0700
TZNAME:PDT
DTSTART:20230312T100000
END:DAYLIGHT
BEGIN:STANDARD
TZOFFSETFROM:-0700
TZOFFSETTO:-0800
TZNAME:PST
DTSTART:20231105T090000
END:STANDARD
BEGIN:DAYLIGHT
TZOFFSETFROM:-0800
TZOFFSETTO:-0700
TZNAME:PDT
DTSTART:20240310T100000
END:DAYLIGHT
BEGIN:STANDARD
TZOFFSETFROM:-0700
TZOFFSETTO:-0800
TZNAME:PST
DTSTART:20241103T090000
END:STANDARD
END:VTIMEZONE
BEGIN:VEVENT
DTSTART;TZID=America/Los_Angeles:20230805T090000
DTEND;TZID=America/Los_Angeles:20230805T120000
DTSTAMP:20260425T164221
CREATED:20230719T234025Z
LAST-MODIFIED:20230719T234025Z
UID:14715-1691226000-1691236800@shadowhabitat.org
SUMMARY:Mindful Restoration Work Party with Cascadia Forest Therapy!
DESCRIPTION:Help SHADOW Lake Nature Preserve thoughtfully restore and preserve the biodiversity of the land we steward by removing invasive weeds and pruning native species so that new\, native plantings thrive.  This work party will be facilitated with our partners\, Cascadia Forest Therapy\, to bring mindful intention to the restoration work. Basing the experience on the principles of Forest Bathing\, the work party will have a deeper connection to the plants and restorative intention than in our usual work parties. Your sensory-focused time in the natural world will culminate in a closing ceremony.\nNo previous experience or tools are required\, simply arrive with weather-proof clothing for working outside (closed toed shoes are a must)\, a water bottle\, and be ready to have fun while making a difference. Please be aware that you may encounter muddy areas\, plants with thorns\, or areas where native pollinators (bees) are thriving. \nThese events are held rain or shine! \nWe will meet at SHADOW’s Richter Education Center parking lot and then head to the restoration location. \n\n	Notice: JavaScript is required for this content.\nNo Fields Found.
URL:https://shadowhabitat.org/event/mindful-restoration-work-party-with-cascadia-forest-therapy/
LOCATION:Shadow Lake Nature Preserve\, 21656 184th Ave SE\, Renton\, WA\, 98058\, United States
CATEGORIES:Partner Workshop,Restoration Work Parties
ATTACH;FMTTYPE=image/png:https://shadowhabitat.org/wp-content/uploads/2023/07/Forest-Therapy-FB-post.png
END:VEVENT
BEGIN:VEVENT
DTSTART;TZID=America/Los_Angeles:20230819T100000
DTEND;TZID=America/Los_Angeles:20230819T120000
DTSTAMP:20260425T164222
CREATED:20230718T235410Z
LAST-MODIFIED:20230718T235410Z
UID:14616-1692439200-1692446400@shadowhabitat.org
SUMMARY:Forest Bathing at SHADOW with Cascadia Forest Therapy August 19th 2023
DESCRIPTION:The art of forest bathing is the art of connecting with nature through our senses. All we have to do is accept the invitation.  Engage mindfully with the world around you on one of SHADOW’s beautiful upland trails on a two hour guided Forest Therapy Nature Walk experience with our new partner Cascadia Forest Therapy! Your sensory-focused time in the natural world will culminate in a lovely tea ceremony.\nThis event is fee based on a sliding scale with a per person cost of $50.00.\nTo pay for the class in advance please go to this link and pay what you can for the event.  Payment will be accepted the day of the event by SHADOW staff via check or online payment at the preserve.\nNo one will be turned away for inability to pay the full fee\, however we do need a minimum of 7 full-price paying participants to have this Forest Therapy experience.  A maximum of 15 participants will be allowed per session.  If there are not enough participants prior to class 72 hours prior to the experience\, the class will be cancelled and participants can either get a full refund for pre-payments or they can apply it to a future session.\n  \n\n	Notice: JavaScript is required for this content.\nNo Fields Found.
URL:https://shadowhabitat.org/event/forest-bathing-at-shadow-with-cascadia-forest-therapy-august-19th-2023/
LOCATION:WA
CATEGORIES:Community Class,Partner Workshop
ATTACH;FMTTYPE=image/png:https://shadowhabitat.org/wp-content/uploads/2023/05/3-1.png
END:VEVENT
END:VCALENDAR