BEGIN:VCALENDAR
VERSION:2.0
PRODID:-//SHADOW - ECPv6.15.20//NONSGML v1.0//EN
CALSCALE:GREGORIAN
METHOD:PUBLISH
X-ORIGINAL-URL:https://shadowhabitat.org
X-WR-CALDESC:Events for SHADOW
REFRESH-INTERVAL;VALUE=DURATION:PT1H
X-Robots-Tag:noindex
X-PUBLISHED-TTL:PT1H
BEGIN:VTIMEZONE
TZID:America/Los_Angeles
BEGIN:DAYLIGHT
TZOFFSETFROM:-0800
TZOFFSETTO:-0700
TZNAME:PDT
DTSTART:20220313T100000
END:DAYLIGHT
BEGIN:STANDARD
TZOFFSETFROM:-0700
TZOFFSETTO:-0800
TZNAME:PST
DTSTART:20221106T090000
END:STANDARD
BEGIN:DAYLIGHT
TZOFFSETFROM:-0800
TZOFFSETTO:-0700
TZNAME:PDT
DTSTART:20230312T100000
END:DAYLIGHT
BEGIN:STANDARD
TZOFFSETFROM:-0700
TZOFFSETTO:-0800
TZNAME:PST
DTSTART:20231105T090000
END:STANDARD
BEGIN:DAYLIGHT
TZOFFSETFROM:-0800
TZOFFSETTO:-0700
TZNAME:PDT
DTSTART:20240310T100000
END:DAYLIGHT
BEGIN:STANDARD
TZOFFSETFROM:-0700
TZOFFSETTO:-0800
TZNAME:PST
DTSTART:20241103T090000
END:STANDARD
END:VTIMEZONE
BEGIN:VEVENT
DTSTART;TZID=America/Los_Angeles:20231014T100000
DTEND;TZID=America/Los_Angeles:20231014T120000
DTSTAMP:20260425T071953
CREATED:20230719T000913Z
LAST-MODIFIED:20230719T000913Z
UID:14642-1697277600-1697284800@shadowhabitat.org
SUMMARY:Forest Bathing with Cascadia Forest Therapy - October
DESCRIPTION:The art of forest bathing is the art of connecting with nature through our senses. All we have to do is accept the invitation.  Engage mindfully with the world around you on one of SHADOW’s beautiful upland trails on a two hour guided Forest Therapy Nature Walk experience with our new partner Cascadia Forest Therapy! Your sensory-focused time in the natural world will culminate in a lovely tea ceremony.\nThis event is fee based on a sliding scale with a per person cost of $50.00.\nTo pay for the class in advance please go to this link and pay what you can for the event.  Payment will be accepted the day of the event by SHADOW staff via check or online payment at the preserve.\nNo one will be turned away for inability to pay the full fee\, however we do need a minimum of 7 full-price paying participants to have this Forest Therapy experience.  A maximum of 15 participants will be allowed per session.  If there are not enough participants prior to class 72 hours prior to the experience\, the class will be cancelled and participants can either get a full refund for pre-payments or they can apply it to a future session.\n  \n\n	Notice: JavaScript is required for this content.\nNo Fields Found.
URL:https://shadowhabitat.org/event/forest-bathing-with-cascadia-forest-therapy-october/
LOCATION:WA
CATEGORIES:Community Class,Partner Workshop
ATTACH;FMTTYPE=image/png:https://shadowhabitat.org/wp-content/uploads/2023/05/3-1.png
END:VEVENT
END:VCALENDAR