BEGIN:VCALENDAR
VERSION:2.0
PRODID:-//SHADOW - ECPv6.15.20//NONSGML v1.0//EN
CALSCALE:GREGORIAN
METHOD:PUBLISH
X-WR-CALNAME:SHADOW
X-ORIGINAL-URL:https://shadowhabitat.org
X-WR-CALDESC:Events for SHADOW
REFRESH-INTERVAL;VALUE=DURATION:PT1H
X-Robots-Tag:noindex
X-PUBLISHED-TTL:PT1H
BEGIN:VTIMEZONE
TZID:America/Los_Angeles
BEGIN:DAYLIGHT
TZOFFSETFROM:-0800
TZOFFSETTO:-0700
TZNAME:PDT
DTSTART:20220313T100000
END:DAYLIGHT
BEGIN:STANDARD
TZOFFSETFROM:-0700
TZOFFSETTO:-0800
TZNAME:PST
DTSTART:20221106T090000
END:STANDARD
BEGIN:DAYLIGHT
TZOFFSETFROM:-0800
TZOFFSETTO:-0700
TZNAME:PDT
DTSTART:20230312T100000
END:DAYLIGHT
BEGIN:STANDARD
TZOFFSETFROM:-0700
TZOFFSETTO:-0800
TZNAME:PST
DTSTART:20231105T090000
END:STANDARD
BEGIN:DAYLIGHT
TZOFFSETFROM:-0800
TZOFFSETTO:-0700
TZNAME:PDT
DTSTART:20240310T100000
END:DAYLIGHT
BEGIN:STANDARD
TZOFFSETFROM:-0700
TZOFFSETTO:-0800
TZNAME:PST
DTSTART:20241103T090000
END:STANDARD
END:VTIMEZONE
BEGIN:VEVENT
DTSTART;TZID=America/Los_Angeles:20230805T090000
DTEND;TZID=America/Los_Angeles:20230805T120000
DTSTAMP:20260425T180220
CREATED:20230719T234025Z
LAST-MODIFIED:20230719T234025Z
UID:14715-1691226000-1691236800@shadowhabitat.org
SUMMARY:Mindful Restoration Work Party with Cascadia Forest Therapy!
DESCRIPTION:Help SHADOW Lake Nature Preserve thoughtfully restore and preserve the biodiversity of the land we steward by removing invasive weeds and pruning native species so that new\, native plantings thrive.  This work party will be facilitated with our partners\, Cascadia Forest Therapy\, to bring mindful intention to the restoration work. Basing the experience on the principles of Forest Bathing\, the work party will have a deeper connection to the plants and restorative intention than in our usual work parties. Your sensory-focused time in the natural world will culminate in a closing ceremony.\nNo previous experience or tools are required\, simply arrive with weather-proof clothing for working outside (closed toed shoes are a must)\, a water bottle\, and be ready to have fun while making a difference. Please be aware that you may encounter muddy areas\, plants with thorns\, or areas where native pollinators (bees) are thriving. \nThese events are held rain or shine! \nWe will meet at SHADOW’s Richter Education Center parking lot and then head to the restoration location. \n\n	Notice: JavaScript is required for this content.\nNo Fields Found.
URL:https://shadowhabitat.org/event/mindful-restoration-work-party-with-cascadia-forest-therapy/
LOCATION:Shadow Lake Nature Preserve\, 21656 184th Ave SE\, Renton\, WA\, 98058\, United States
CATEGORIES:Partner Workshop,Restoration Work Parties
ATTACH;FMTTYPE=image/png:https://shadowhabitat.org/wp-content/uploads/2023/07/Forest-Therapy-FB-post.png
END:VEVENT
BEGIN:VEVENT
DTSTART;TZID=America/Los_Angeles:20230812T100000
DTEND;TZID=America/Los_Angeles:20230812T130000
DTSTAMP:20260425T180220
CREATED:20230726T210635Z
LAST-MODIFIED:20230726T210635Z
UID:15115-1691834400-1691845200@shadowhabitat.org
SUMMARY:Restoration Work Party at SHADOW!
DESCRIPTION:Help SHADOW Lake Nature Preserve thoughtfully restore and preserve the biodiversity of the land we steward!  \nWe need help with tasks like trail maintenance\, grounds enhancement\, invasive plant removal\, and planting\, pruning\, and protecting native species so they thrive.  \nNo previous experience or tools are required\, simply arrive with weather-proof clothing for working outside (closed toed shoes are a must)\, a water bottle\, and be ready to have fun and learn while making a difference. Please be aware that you may encounter muddy areas\, plants with thorns\, or areas where native pollinators (bees) are thriving.\nThese events are held rain or shine!\nWe will meet at SHADOW’s Richter Education Center parking lot and then head to the restoration location after a briefing about the work for the day and tour of the bog.\n\n	Notice: JavaScript is required for this content.\nNo Fields Found.
URL:https://shadowhabitat.org/event/restoration-work-party-at-shadow/
LOCATION:Shadow Lake Nature Preserve\, 21656 184th Ave SE\, Renton\, WA\, 98058\, United States
CATEGORIES:Restoration Work Parties
ATTACH;FMTTYPE=image/png:https://shadowhabitat.org/wp-content/uploads/2023/07/Restoration-Work-Part-At-SHADOW.png
ORGANIZER;CN="Stephanie":MAILTO:stephanie@shadowhabitat.org
END:VEVENT
BEGIN:VEVENT
DTSTART;TZID=America/Los_Angeles:20230817T123000
DTEND;TZID=America/Los_Angeles:20230817T153000
DTSTAMP:20260425T180220
CREATED:20230726T211414Z
LAST-MODIFIED:20230726T211414Z
UID:15129-1692275400-1692286200@shadowhabitat.org
SUMMARY:Restoration Work Party at SHADOW! Give Habitat a Helping Hand!
DESCRIPTION:We need help with tasks like trail maintenance\, grounds enhancement\, invasive plant removal\, and planting\, pruning\, and protecting native species so they thrive.  \nNo previous experience or tools are required\, simply arrive with weather-proof clothing for working outside (closed toed shoes are a must)\, a water bottle\, and be ready to have fun and learn while making a difference. Please be aware that you may encounter muddy areas\, plants with thorns\, or areas where native pollinators (bees) are thriving.\nThese events are held rain or shine!\nWe will meet at SHADOW’s Richter Education Center parking lot and then head to the restoration location after a briefing about the work for the day and tour of the bog.\n\n	Notice: JavaScript is required for this content.\nNo Fields Found.
URL:https://shadowhabitat.org/event/restoration-work-party-at-shadow-give-habitat-a-helping-hand/
LOCATION:Shadow Lake Nature Preserve\, 21656 184th Ave SE\, Renton\, WA\, 98058\, United States
CATEGORIES:Restoration Work Parties
ATTACH;FMTTYPE=image/png:https://shadowhabitat.org/wp-content/uploads/2023/07/Restoration-Work-Part-At-SHADOW.png
END:VEVENT
BEGIN:VEVENT
DTSTART;TZID=America/Los_Angeles:20230826T173000
DTEND;TZID=America/Los_Angeles:20230826T213000
DTSTAMP:20260425T180220
CREATED:20230809T211423Z
LAST-MODIFIED:20230823T232748Z
UID:15615-1693071000-1693085400@shadowhabitat.org
SUMMARY:Backyard Bat Conservation! Bat Activity Trends
DESCRIPTION:Got bats?  We do\, and we couldn’t be happier!  Did you know that Washington State has 15 of the 47 species of bats found in the US?  Here at SHADOW we have been able to document that 8 of those species call our habitats home! Want to find out how you can help bat populations and become a citizen scientist at the same time?  Well then join us here at SHADOW Lake Nature Preserve before the days get too much shorter to observe some of our marvelous and mysterious native bat species. We are partnering with the Woodland Park Zoo to host their ongoing summer 🦇Bat Activity Trends 🦇citizen science program!  Jennifer Tallman from Woodland Park Zoo and Stephanie Miller from SHADOW will be on hand to give an informational presentation about the importance of bats to our ecosystem\, and then we will head to the observation sites to monitor bat activity for an ongoing study.  We will also be joined by Girl Scout Maya Gibbens who will share fascinating fact about bats and how to house them in your yard as part of her Silver Award project! At this event you can sign up for a follow up bat box building workshop as well!  Depending on group size\, we may split into two groups to cover more habitat areas to survey.  Preliminary reports show several active species out foraging at sunset! \nPlease consider a $5 per person donation to attend this event to support SHADOW’s wildlife monitoring and conservation programs. \n🦇To register and donate\, please click the link below and come get batty with us!🦇 \n\n	Notice: JavaScript is required for this content.\nNo Fields Found.
URL:https://shadowhabitat.org/event/backyard-bat-conservation-bat-activity-trends/
LOCATION:Shadow Lake Nature Preserve\, 21656 184th Ave SE\, Renton\, WA\, 98058\, United States
CATEGORIES:Community Class,Partner Workshop,Summer Programs
ATTACH;FMTTYPE=image/png:https://shadowhabitat.org/wp-content/uploads/2023/08/little-brown-Bat-Merlin-Tuttle.png
END:VEVENT
END:VCALENDAR