BEGIN:VCALENDAR
VERSION:2.0
PRODID:-//SHADOW - ECPv6.15.20//NONSGML v1.0//EN
CALSCALE:GREGORIAN
METHOD:PUBLISH
X-WR-CALNAME:SHADOW
X-ORIGINAL-URL:https://shadowhabitat.org
X-WR-CALDESC:Events for SHADOW
REFRESH-INTERVAL;VALUE=DURATION:PT1H
X-Robots-Tag:noindex
X-PUBLISHED-TTL:PT1H
BEGIN:VTIMEZONE
TZID:America/Los_Angeles
BEGIN:DAYLIGHT
TZOFFSETFROM:-0800
TZOFFSETTO:-0700
TZNAME:PDT
DTSTART:20220313T100000
END:DAYLIGHT
BEGIN:STANDARD
TZOFFSETFROM:-0700
TZOFFSETTO:-0800
TZNAME:PST
DTSTART:20221106T090000
END:STANDARD
BEGIN:DAYLIGHT
TZOFFSETFROM:-0800
TZOFFSETTO:-0700
TZNAME:PDT
DTSTART:20230312T100000
END:DAYLIGHT
BEGIN:STANDARD
TZOFFSETFROM:-0700
TZOFFSETTO:-0800
TZNAME:PST
DTSTART:20231105T090000
END:STANDARD
BEGIN:DAYLIGHT
TZOFFSETFROM:-0800
TZOFFSETTO:-0700
TZNAME:PDT
DTSTART:20240310T100000
END:DAYLIGHT
BEGIN:STANDARD
TZOFFSETFROM:-0700
TZOFFSETTO:-0800
TZNAME:PST
DTSTART:20241103T090000
END:STANDARD
END:VTIMEZONE
BEGIN:VEVENT
DTSTART;TZID=America/Los_Angeles:20231007T100000
DTEND;TZID=America/Los_Angeles:20231007T133000
DTSTAMP:20260425T065731
CREATED:20230928T215557Z
LAST-MODIFIED:20230928T215601Z
UID:17983-1696672800-1696685400@shadowhabitat.org
SUMMARY:Restoration Work Party Saturday\, October 7th
DESCRIPTION:We need help with tasks like trail maintenance\, grounds enhancement\, invasive plant removal\, and planting\, pruning\, and protecting native species so they thrive.  \nNo previous experience or tools are required\, simply arrive with weather-proof clothing for working outside (closed toed shoes are a must)\, a water bottle\, and be ready to have fun and learn while making a difference. Please be aware that you may encounter muddy areas\, plants with thorns\, or areas where native pollinators (bees) are thriving.\nThese events are held rain or shine!\nWe will meet at SHADOW’s Richter Education Center parking lot and then head to the restoration location after a briefing about the work for the day and tour of the bog.\n  \n\n\n\n\n\n	Notice: JavaScript is required for this content.\nNo Fields Found.
URL:https://shadowhabitat.org/event/restoration-work-party-saturday-october-7th/
LOCATION:Shadow Lake Nature Preserve\, 21656 184th Ave SE\, Renton\, WA\, 98058\, United States
CATEGORIES:Restoration Work Parties
ATTACH;FMTTYPE=image/png:https://shadowhabitat.org/wp-content/uploads/2023/07/Restoration-Work-Part-At-SHADOW.png
END:VEVENT
BEGIN:VEVENT
DTSTART;TZID=America/Los_Angeles:20231019T130000
DTEND;TZID=America/Los_Angeles:20231019T160000
DTSTAMP:20260425T065732
CREATED:20230928T230413Z
LAST-MODIFIED:20230928T230417Z
UID:18074-1697720400-1697731200@shadowhabitat.org
SUMMARY:Restoration Work Party Thursday\, October 19th
DESCRIPTION:We need help with tasks like trail maintenance\, grounds enhancement\, invasive plant removal\, and planting\, pruning\, and protecting native species so they thrive.  \nNo previous experience or tools are required\, simply arrive with weather-proof clothing for working outside (closed toed shoes are a must)\, a water bottle\, and be ready to have fun and learn while making a difference. Please be aware that you may encounter muddy areas\, plants with thorns\, or areas where native pollinators (bees) are thriving.\nThese events are held rain or shine!\nWe will meet at SHADOW’s Richter Education Center parking lot and then head to the restoration location after a briefing about the work for the day and tour of the bog.\n  \n\n	Notice: JavaScript is required for this content.\nNo Fields Found.\n\n    \n\n\n        \n        \n        \n\n\n\n\n\n\n\n\n\n\n        \n\n        \n\n         \n 
URL:https://shadowhabitat.org/event/restoration-work-party-thursday-october-19th/
LOCATION:Shadow Lake Nature Preserve\, 21656 184th Ave SE\, Renton\, WA\, 98058\, United States
CATEGORIES:Restoration Work Parties
ATTACH;FMTTYPE=image/png:https://shadowhabitat.org/wp-content/uploads/2023/07/Restoration-Work-Part-At-SHADOW.png
END:VEVENT
BEGIN:VEVENT
DTSTART;TZID=America/Los_Angeles:20231021T100000
DTEND;TZID=America/Los_Angeles:20231021T130000
DTSTAMP:20260425T065732
CREATED:20230928T231304Z
LAST-MODIFIED:20230928T231308Z
UID:18079-1697882400-1697893200@shadowhabitat.org
SUMMARY:Restoration Work Party Saturday\, October 21st
DESCRIPTION:We need help with tasks like trail maintenance\, grounds enhancement\, invasive plant removal\, and planting\, pruning\, and protecting native species so they thrive.  \nNo previous experience or tools are required\, simply arrive with weather-proof clothing for working outside (closed toed shoes are a must)\, a water bottle\, and be ready to have fun and learn while making a difference. Please be aware that you may encounter muddy areas\, plants with thorns\, or areas where native pollinators (bees) are thriving.\nThese events are held rain or shine!\nWe will meet at SHADOW’s Richter Education Center parking lot and then head to the restoration location after a briefing about the work for the day and tour of the bog.\n  \n\n	Notice: JavaScript is required for this content.\nNo Fields Found.\n\n    \n\n\n        \n        \n        \n\n\n\n\n\n\n\n\n\n\n        \n\n        \n\n         \n 
URL:https://shadowhabitat.org/event/restoration-work-party-saturday-october-21st/
LOCATION:Shadow Lake Nature Preserve\, 21656 184th Ave SE\, Renton\, WA\, 98058\, United States
CATEGORIES:Restoration Work Parties
ATTACH;FMTTYPE=image/png:https://shadowhabitat.org/wp-content/uploads/2023/07/Restoration-Work-Part-At-SHADOW.png
END:VEVENT
END:VCALENDAR