BEGIN:VCALENDAR
VERSION:2.0
PRODID:-//SHADOW - ECPv6.15.20//NONSGML v1.0//EN
CALSCALE:GREGORIAN
METHOD:PUBLISH
X-ORIGINAL-URL:https://shadowhabitat.org
X-WR-CALDESC:Events for SHADOW
REFRESH-INTERVAL;VALUE=DURATION:PT1H
X-Robots-Tag:noindex
X-PUBLISHED-TTL:PT1H
BEGIN:VTIMEZONE
TZID:America/Los_Angeles
BEGIN:DAYLIGHT
TZOFFSETFROM:-0800
TZOFFSETTO:-0700
TZNAME:PDT
DTSTART:20230312T100000
END:DAYLIGHT
BEGIN:STANDARD
TZOFFSETFROM:-0700
TZOFFSETTO:-0800
TZNAME:PST
DTSTART:20231105T090000
END:STANDARD
BEGIN:DAYLIGHT
TZOFFSETFROM:-0800
TZOFFSETTO:-0700
TZNAME:PDT
DTSTART:20240310T100000
END:DAYLIGHT
BEGIN:STANDARD
TZOFFSETFROM:-0700
TZOFFSETTO:-0800
TZNAME:PST
DTSTART:20241103T090000
END:STANDARD
BEGIN:DAYLIGHT
TZOFFSETFROM:-0800
TZOFFSETTO:-0700
TZNAME:PDT
DTSTART:20250309T100000
END:DAYLIGHT
BEGIN:STANDARD
TZOFFSETFROM:-0700
TZOFFSETTO:-0800
TZNAME:PST
DTSTART:20251102T090000
END:STANDARD
END:VTIMEZONE
BEGIN:VEVENT
DTSTART;TZID=America/Los_Angeles:20240720T190000
DTEND;TZID=America/Los_Angeles:20240720T230000
DTSTAMP:20260422T135542
CREATED:20240619T000556Z
LAST-MODIFIED:20240710T190949Z
UID:29024-1721502000-1721516400@shadowhabitat.org
SUMMARY:SHADOW Moth Night! July 20\, 2024
DESCRIPTION:Registration Required\nNational Moth Week celebrates the beauty\, life cycles\, and habitats of moths. “Moth-ers” of all ages and abilities are encouraged to learn about\, observe\, and document moths in their backyards\, parks\, and neighborhoods. National Moth Week is being held\, worldwide\, during the last full week of July. \nNMW offers everyone\, everywhere a unique opportunity to become a Citizen Scientist and contribute scientific data about moths. Through partnerships with major online biological data depositories\, NMW participants can help map moth distribution and provide needed information on other life history aspects around the globe. \nJoin us at 7:00 to identify and count our native moths!Please be sure and register so we know how many people to expect. (Arrive at 6:30 for a bog tour before our moth-venture.) \nWhy Moths?\nMoths are important pollinators for crops and flowers\, and serve as a food source for birds\, bats\, and other animals. \nMoths are among the most diverse and successful organisms on earth. \nScientists estimate that there are 150\,000\, and possibly more than 500\,000 moth species globally. \nTheir colors and patterns may be dazzling\, or plain\, or cryptically camouflaged. Shapes and sizes range from small as a pinhead (micro-moths) to as large as an adult hand (macro moths). \nWhy So Late?\nMost moths are nocturnal\, they fly at night\, so we look for them at night to see them. But some fly during the day as well. We’ll be using special lights and a bait station to attract them for our observations.Learn more at NationalMothWeek.org \n\n\n\n	Notice: JavaScript is required for this content.\nNo Fields Found.
URL:https://shadowhabitat.org/event/moth-week-2024/
LOCATION:Shadow Lake Nature Preserve\, 21656 184th Ave SE\, Renton\, WA\, 98058\, United States
CATEGORIES:Community Class,Summer Programs
ATTACH;FMTTYPE=image/jpeg:https://shadowhabitat.org/wp-content/uploads/2024/06/IMG_4466-e1718754751630.jpg
ORGANIZER;CN="Shelley":MAILTO:shelley@shadowhabitat.org
END:VEVENT
BEGIN:VEVENT
DTSTART;TZID=America/Los_Angeles:20240727T130000
DTEND;TZID=America/Los_Angeles:20240727T153000
DTSTAMP:20260422T135542
CREATED:20240614T204934Z
LAST-MODIFIED:20240725T222804Z
UID:28853-1722085200-1722094200@shadowhabitat.org
SUMMARY:Bat Box Building Workshop July 27
DESCRIPTION:Join us at our Bat Biology & Box Building Class! You will start off by learning about bat biology\, bat facts and conservation. Then\, you will learn how YOU can help bat conservation in your own backyard by constructing your very own bat box to take home! One bat box per family\, material & supplies provided.  \n*Children under 16 years old must have a parent or guardian present due to the use of hand tools for box construction.    \nThere is a $20 suggest program fee per bat box for this class. All program fee donations help continue SHADOW’s Community Class Program and supports education programs at the Nature Preserve. \n  \n\n	Notice: JavaScript is required for this content.\nNo Fields Found.
URL:https://shadowhabitat.org/event/bat-box-building-workshop/
LOCATION:Shadow Lake Nature Preserve\, 21656 184th Ave SE\, Renton\, WA\, 98058\, United States
CATEGORIES:Community Class,Community Event,Outreach
ATTACH;FMTTYPE=image/jpeg:https://shadowhabitat.org/wp-content/uploads/2022/09/25990474208_2272896d49_b.jpg
ORGANIZER;CN="Shelley":MAILTO:shelley@shadowhabitat.org
END:VEVENT
END:VCALENDAR