BEGIN:VCALENDAR
VERSION:2.0
PRODID:-//SHADOW - ECPv6.15.20//NONSGML v1.0//EN
CALSCALE:GREGORIAN
METHOD:PUBLISH
X-ORIGINAL-URL:https://shadowhabitat.org
X-WR-CALDESC:Events for SHADOW
REFRESH-INTERVAL;VALUE=DURATION:PT1H
X-Robots-Tag:noindex
X-PUBLISHED-TTL:PT1H
BEGIN:VTIMEZONE
TZID:America/Los_Angeles
BEGIN:DAYLIGHT
TZOFFSETFROM:-0800
TZOFFSETTO:-0700
TZNAME:PDT
DTSTART:20220313T100000
END:DAYLIGHT
BEGIN:STANDARD
TZOFFSETFROM:-0700
TZOFFSETTO:-0800
TZNAME:PST
DTSTART:20221106T090000
END:STANDARD
BEGIN:DAYLIGHT
TZOFFSETFROM:-0800
TZOFFSETTO:-0700
TZNAME:PDT
DTSTART:20230312T100000
END:DAYLIGHT
BEGIN:STANDARD
TZOFFSETFROM:-0700
TZOFFSETTO:-0800
TZNAME:PST
DTSTART:20231105T090000
END:STANDARD
BEGIN:DAYLIGHT
TZOFFSETFROM:-0800
TZOFFSETTO:-0700
TZNAME:PDT
DTSTART:20240310T100000
END:DAYLIGHT
BEGIN:STANDARD
TZOFFSETFROM:-0700
TZOFFSETTO:-0800
TZNAME:PST
DTSTART:20241103T090000
END:STANDARD
END:VTIMEZONE
BEGIN:VEVENT
DTSTART;TZID=America/Los_Angeles:20231104T090000
DTEND;TZID=America/Los_Angeles:20231104T120000
DTSTAMP:20260425T052653
CREATED:20230719T234657Z
LAST-MODIFIED:20230719T234657Z
UID:14734-1699088400-1699099200@shadowhabitat.org
SUMMARY:Mindful Restoration Workparty with Cascadia Forest Therapy!
DESCRIPTION:Help SHADOW Lake Nature Preserve thoughtfully restore and preserve the biodiversity of the land we steward by removing invasive weeds and pruning native species so that new\, native plantings thrive.  This work party will be facilitated with our partners\, Cascadia Forest Therapy\, to bring mindful intention to the restoration work. Basing the experience on the principles of Forest Bathing\, the work party will have a deeper connection to the plants and restorative intention than in our usual work parties. Your sensory-focused time in the natural world will culminate in a closing ceremony.\nNo previous experience or tools are required\, simply arrive with weather-proof clothing for working outside (closed toed shoes are a must)\, a water bottle\, and be ready to have fun while making a difference. Please be aware that you may encounter muddy areas\, plants with thorns\, or areas where native pollinators (bees) are thriving. \nThese events are held rain or shine! \nWe will meet at SHADOW’s Richter Education Center parking lot and then head to the restoration location. \n\n	Notice: JavaScript is required for this content.\nNo Fields Found.
URL:https://shadowhabitat.org/event/mindful-restoration-workparty-with-cascadia-forest-therapy-2/
LOCATION:Shadow Lake Nature Preserve\, 21656 184th Ave SE\, Renton\, WA\, 98058\, United States
CATEGORIES:Partner Workshop,Restoration Work Parties
ATTACH;FMTTYPE=image/png:https://shadowhabitat.org/wp-content/uploads/2023/07/Forest-Therapy-FB-post.png
END:VEVENT
END:VCALENDAR