BEGIN:VCALENDAR
VERSION:2.0
PRODID:-//SHADOW - ECPv6.15.20//NONSGML v1.0//EN
CALSCALE:GREGORIAN
METHOD:PUBLISH
X-WR-CALNAME:SHADOW
X-ORIGINAL-URL:https://shadowhabitat.org
X-WR-CALDESC:Events for SHADOW
REFRESH-INTERVAL;VALUE=DURATION:PT1H
X-Robots-Tag:noindex
X-PUBLISHED-TTL:PT1H
BEGIN:VTIMEZONE
TZID:America/Los_Angeles
BEGIN:DAYLIGHT
TZOFFSETFROM:-0800
TZOFFSETTO:-0700
TZNAME:PDT
DTSTART:20230312T100000
END:DAYLIGHT
BEGIN:STANDARD
TZOFFSETFROM:-0700
TZOFFSETTO:-0800
TZNAME:PST
DTSTART:20231105T090000
END:STANDARD
BEGIN:DAYLIGHT
TZOFFSETFROM:-0800
TZOFFSETTO:-0700
TZNAME:PDT
DTSTART:20240310T100000
END:DAYLIGHT
BEGIN:STANDARD
TZOFFSETFROM:-0700
TZOFFSETTO:-0800
TZNAME:PST
DTSTART:20241103T090000
END:STANDARD
BEGIN:DAYLIGHT
TZOFFSETFROM:-0800
TZOFFSETTO:-0700
TZNAME:PDT
DTSTART:20250309T100000
END:DAYLIGHT
BEGIN:STANDARD
TZOFFSETFROM:-0700
TZOFFSETTO:-0800
TZNAME:PST
DTSTART:20251102T090000
END:STANDARD
END:VTIMEZONE
BEGIN:VEVENT
DTSTART;TZID=America/Los_Angeles:20240119T144500
DTEND;TZID=America/Los_Angeles:20240119T160000
DTSTAMP:20260424T093342
CREATED:20231213T185809Z
LAST-MODIFIED:20231213T185814Z
UID:21232-1705675500-1705680000@shadowhabitat.org
SUMMARY:Guided Nature Walk: Winter Plant Identification
DESCRIPTION:Learning the names of plants gives you a completely different lens while walking in the woods. It is almost a mindfulness practice in how it can take your mind off every day worries. Winter is an underrated time of year to begin or improve your plant identification skills because there are actually fewer to seem and you will find that the tress leafing out in spring becomes that much more exciting with a knowledge of their names. Join Shadow Naturalist Cecilia to learn identification tips and tricks for these plants\, I guarantee  that you will find yourself marveling at the nuances you never noticed before! \nGuided nature walks happen rain or shine\, so please dress to keep yourself warm and dry. We will walk slowly to allow time for observation\, but the path is uneven or uphill in some places. \nThis is a free event\, but please consider making a donation to help support our education and restoration efforts! \n\n	Notice: JavaScript is required for this content.\nNo Fields Found.
URL:https://shadowhabitat.org/event/guided-nature-walk-winter-plant-identification/
LOCATION:Shadow Lake Nature Preserve\, 21656 184th Ave SE\, Renton\, WA\, 98058\, United States
CATEGORIES:Guided Nature Walks
ATTACH;FMTTYPE=image/jpeg:https://shadowhabitat.org/wp-content/uploads/2023/05/Shutterstock_690254473-1024x682-1.jpg
END:VEVENT
END:VCALENDAR