BEGIN:VCALENDAR
VERSION:2.0
PRODID:-//SHADOW - ECPv6.15.20//NONSGML v1.0//EN
CALSCALE:GREGORIAN
METHOD:PUBLISH
X-WR-CALNAME:SHADOW
X-ORIGINAL-URL:https://shadowhabitat.org
X-WR-CALDESC:Events for SHADOW
REFRESH-INTERVAL;VALUE=DURATION:PT1H
X-Robots-Tag:noindex
X-PUBLISHED-TTL:PT1H
BEGIN:VTIMEZONE
TZID:America/Los_Angeles
BEGIN:DAYLIGHT
TZOFFSETFROM:-0800
TZOFFSETTO:-0700
TZNAME:PDT
DTSTART:20230312T100000
END:DAYLIGHT
BEGIN:STANDARD
TZOFFSETFROM:-0700
TZOFFSETTO:-0800
TZNAME:PST
DTSTART:20231105T090000
END:STANDARD
BEGIN:DAYLIGHT
TZOFFSETFROM:-0800
TZOFFSETTO:-0700
TZNAME:PDT
DTSTART:20240310T100000
END:DAYLIGHT
BEGIN:STANDARD
TZOFFSETFROM:-0700
TZOFFSETTO:-0800
TZNAME:PST
DTSTART:20241103T090000
END:STANDARD
BEGIN:DAYLIGHT
TZOFFSETFROM:-0800
TZOFFSETTO:-0700
TZNAME:PDT
DTSTART:20250309T100000
END:DAYLIGHT
BEGIN:STANDARD
TZOFFSETFROM:-0700
TZOFFSETTO:-0800
TZNAME:PST
DTSTART:20251102T090000
END:STANDARD
END:VTIMEZONE
BEGIN:VEVENT
DTSTART;TZID=America/Los_Angeles:20240216T145000
DTEND;TZID=America/Los_Angeles:20240216T160000
DTSTAMP:20260423T162018
CREATED:20240119T003225Z
LAST-MODIFIED:20240202T194801Z
UID:22375-1708095000-1708099200@shadowhabitat.org
SUMMARY:Guided Nature Walk: Great Backyard Bird Count
DESCRIPTION:Birds are one wildlife sighting we often take for granted\, but birders have long known the excitement of discovery and the beauty of common species we don’t often stop to observe. Join the naturalists on a guided walk in the mossy woods of Shadow to learn about some of the birds that call our forests home! We have recently begun a community science project to catalog birds present\, through which we hope to learn seasonal patterns and even practices to increase habitat for birds in decline. This ties into the annual global event happening this weekend: the Great Backyard Bird Count. Participants spend time in their favorite places observing and counting as many birds as they can find and report their findings. This helps scientists better understand global bird populations. \nGuided nature walks happen rain or shine\, so please dress to keep yourself warm and dry. We will walk slowly to allow time for observation\, but the path is uneven or uphill in some places. \nThis is a free event\, but please consider making a donation to help support our education and restoration efforts! \n\n	Notice: JavaScript is required for this content.\nNo Fields Found.
URL:https://shadowhabitat.org/event/guided-nature-walk-great-backyard-bird-count/
LOCATION:Shadow Lake Nature Preserve\, 21656 184th Ave SE\, Renton\, WA\, 98058\, United States
CATEGORIES:Guided Nature Walks
ATTACH;FMTTYPE=image/jpeg:https://shadowhabitat.org/wp-content/uploads/2024/01/GBBC_Web_Square_2024_EN_Spotted-Towhee.jpg
END:VEVENT
END:VCALENDAR