BEGIN:VCALENDAR
VERSION:2.0
PRODID:-//SHADOW - ECPv6.15.20//NONSGML v1.0//EN
CALSCALE:GREGORIAN
METHOD:PUBLISH
X-ORIGINAL-URL:https://shadowhabitat.org
X-WR-CALDESC:Events for SHADOW
REFRESH-INTERVAL;VALUE=DURATION:PT1H
X-Robots-Tag:noindex
X-PUBLISHED-TTL:PT1H
BEGIN:VTIMEZONE
TZID:America/Los_Angeles
BEGIN:DAYLIGHT
TZOFFSETFROM:-0800
TZOFFSETTO:-0700
TZNAME:PDT
DTSTART:20230312T100000
END:DAYLIGHT
BEGIN:STANDARD
TZOFFSETFROM:-0700
TZOFFSETTO:-0800
TZNAME:PST
DTSTART:20231105T090000
END:STANDARD
BEGIN:DAYLIGHT
TZOFFSETFROM:-0800
TZOFFSETTO:-0700
TZNAME:PDT
DTSTART:20240310T100000
END:DAYLIGHT
BEGIN:STANDARD
TZOFFSETFROM:-0700
TZOFFSETTO:-0800
TZNAME:PST
DTSTART:20241103T090000
END:STANDARD
BEGIN:DAYLIGHT
TZOFFSETFROM:-0800
TZOFFSETTO:-0700
TZNAME:PDT
DTSTART:20250309T100000
END:DAYLIGHT
BEGIN:STANDARD
TZOFFSETFROM:-0700
TZOFFSETTO:-0800
TZNAME:PST
DTSTART:20251102T090000
END:STANDARD
END:VTIMEZONE
BEGIN:VEVENT
DTSTART;TZID=America/Los_Angeles:20240511T130000
DTEND;TZID=America/Los_Angeles:20240511T140000
DTSTAMP:20260422T234940
CREATED:20240411T212613Z
LAST-MODIFIED:20240411T214517Z
UID:26530-1715432400-1715436000@shadowhabitat.org
SUMMARY:Guided Nature Walk: Amphibians
DESCRIPTION: Join us for a guided nature walk in Shadow’s wetlands. Learn about the tips and tricks to find and identify some of the awesome amphibians at Shadow Lake Nature preserve while we Celebrate National Amphibian Week! \nGuided nature walks happen rain or shine\, so please dress to keep yourself warm and dry. We will walk slowly to allow time for observation\, but the path is uneven or uphill in some places. \nThis is a free event\, but please consider making a donation to help support our education and restoration efforts! \n\n	Notice: JavaScript is required for this content.\nNo Fields Found.
URL:https://shadowhabitat.org/event/guided-nature-walk-amphibians/
LOCATION:Shadow Lake Nature Preserve\, 21656 184th Ave SE\, Renton\, WA\, 98058\, United States
CATEGORIES:Guided Nature Walks
ATTACH;FMTTYPE=image/jpeg:https://shadowhabitat.org/wp-content/uploads/2019/09/frog.jpg
ORGANIZER;CN="Cecilia":MAILTO:cecilia@shadowhabitat.org
END:VEVENT
END:VCALENDAR