BEGIN:VCALENDAR
VERSION:2.0
PRODID:-//SHADOW - ECPv6.15.20//NONSGML v1.0//EN
CALSCALE:GREGORIAN
METHOD:PUBLISH
X-WR-CALNAME:SHADOW
X-ORIGINAL-URL:https://shadowhabitat.org
X-WR-CALDESC:Events for SHADOW
REFRESH-INTERVAL;VALUE=DURATION:PT1H
X-Robots-Tag:noindex
X-PUBLISHED-TTL:PT1H
BEGIN:VTIMEZONE
TZID:America/Los_Angeles
BEGIN:DAYLIGHT
TZOFFSETFROM:-0800
TZOFFSETTO:-0700
TZNAME:PDT
DTSTART:20230312T100000
END:DAYLIGHT
BEGIN:STANDARD
TZOFFSETFROM:-0700
TZOFFSETTO:-0800
TZNAME:PST
DTSTART:20231105T090000
END:STANDARD
BEGIN:DAYLIGHT
TZOFFSETFROM:-0800
TZOFFSETTO:-0700
TZNAME:PDT
DTSTART:20240310T100000
END:DAYLIGHT
BEGIN:STANDARD
TZOFFSETFROM:-0700
TZOFFSETTO:-0800
TZNAME:PST
DTSTART:20241103T090000
END:STANDARD
BEGIN:DAYLIGHT
TZOFFSETFROM:-0800
TZOFFSETTO:-0700
TZNAME:PDT
DTSTART:20250309T100000
END:DAYLIGHT
BEGIN:STANDARD
TZOFFSETFROM:-0700
TZOFFSETTO:-0800
TZNAME:PST
DTSTART:20251102T090000
END:STANDARD
END:VTIMEZONE
BEGIN:VEVENT
DTSTART;TZID=America/Los_Angeles:20240330T110000
DTEND;TZID=America/Los_Angeles:20240330T120000
DTSTAMP:20260424T062419
CREATED:20240302T232915Z
LAST-MODIFIED:20240302T233017Z
UID:25042-1711796400-1711800000@shadowhabitat.org
SUMMARY:Guided Nature Walk: Unique Plant Adaptations for Bog Living
DESCRIPTION:Let’s explore the fascinating world of bog plants during a guided nature walk through the only sphagnum-hemlock peat bog under protection in our region. Peat bogs are a rare and extreme ecosystem that host a variety of plants you often don’t see elsewhere\, like the Rhododendron-related Bog Labrador Tea (pictured above). As we traverse the boardwalk trail through the bog\, we’ll delve into the unique adaptations that allow plants to thrive in this challenging environment. \nGuided Nature Walks happen rain or shine\, so make sure you dress for the weather. While the event is free\, consider making a donation to support the preservation of this delicate habitat. \n\n	Notice: JavaScript is required for this content.\nNo Fields Found.
URL:https://shadowhabitat.org/event/guided-nature-walk-unique-plant-adaptations-for-bog-living/
LOCATION:Shadow Lake Nature Preserve\, 21656 184th Ave SE\, Renton\, WA\, 98058\, United States
CATEGORIES:Guided Nature Walks
ATTACH;FMTTYPE=image/jpeg:https://shadowhabitat.org/wp-content/uploads/2024/03/Labrador_tea.jpg
ORGANIZER;CN="Cecilia":MAILTO:cecilia@shadowhabitat.org
END:VEVENT
END:VCALENDAR