BEGIN:VCALENDAR
VERSION:2.0
PRODID:-//SHADOW - ECPv6.15.20//NONSGML v1.0//EN
CALSCALE:GREGORIAN
METHOD:PUBLISH
X-ORIGINAL-URL:https://shadowhabitat.org
X-WR-CALDESC:Events for SHADOW
REFRESH-INTERVAL;VALUE=DURATION:PT1H
X-Robots-Tag:noindex
X-PUBLISHED-TTL:PT1H
BEGIN:VTIMEZONE
TZID:America/Los_Angeles
BEGIN:DAYLIGHT
TZOFFSETFROM:-0800
TZOFFSETTO:-0700
TZNAME:PDT
DTSTART:20230312T100000
END:DAYLIGHT
BEGIN:STANDARD
TZOFFSETFROM:-0700
TZOFFSETTO:-0800
TZNAME:PST
DTSTART:20231105T090000
END:STANDARD
BEGIN:DAYLIGHT
TZOFFSETFROM:-0800
TZOFFSETTO:-0700
TZNAME:PDT
DTSTART:20240310T100000
END:DAYLIGHT
BEGIN:STANDARD
TZOFFSETFROM:-0700
TZOFFSETTO:-0800
TZNAME:PST
DTSTART:20241103T090000
END:STANDARD
BEGIN:DAYLIGHT
TZOFFSETFROM:-0800
TZOFFSETTO:-0700
TZNAME:PDT
DTSTART:20250309T100000
END:DAYLIGHT
BEGIN:STANDARD
TZOFFSETFROM:-0700
TZOFFSETTO:-0800
TZNAME:PST
DTSTART:20251102T090000
END:STANDARD
END:VTIMEZONE
BEGIN:VEVENT
DTSTART;VALUE=DATE:20241203
DTEND;VALUE=DATE:20241204
DTSTAMP:20260420T002156
CREATED:20241125T225250Z
LAST-MODIFIED:20241125T225257Z
UID:40149-1733184000-1733270399@shadowhabitat.org
SUMMARY:Giving Tuesday!
DESCRIPTION:Why We Need Your Support\nAt SHADOW\, we are dedicated to preserving the beauty\, biodiversity\, and tranquility of our natural spaces. On this Giving Tuesday\, we invite you to join us in supporting the future of the preserve. Your donation will directly fund critical environmental protection projects\, education programs\, and maintenance efforts to ensure that SHADOW remains a sanctuary for wildlife and visitors for generations to come. Donate online and spread the word about Giving Tuesday to inspire others to join the cause!\n			\n			\n				\n				\n				\n				\n			\n				\n				\n				\n				\n				\n				\n				I want to donate!\n			\n			\n				\n				\n				\n				\n			\n				\n				\n				\n				\n				\n				\n				\n				\n				\n				\n				Every gift\, big or small\, helps preserve our forest. No contribution is too small to make a difference. \n  \nWhat Your Donation Supports\n			\n			\n				\n				\n				\n				\n			\n				\n				\n				\n				\n				\n				\n				\n				\n				\n				\n				\n					\n					\n						\n						Grow Green Minds 📚 \nFund environmental education programs for all ages\, such as hands-on workshops\, classes\, and school fieldtrips. \n					\n				\n			\n			\n				\n				\n				\n				\n				\n				\n				\n				\n				\n				\n					\n					\n						\n						Heal the Forest 🌳 \nSupport our ecological restoration projects throughout the preserve which create native habitat! \n					\n				\n			\n			\n				\n				\n				\n				\n				\n				\n				\n				\n				\n				\n					\n					\n						\n						Expand the Preserve 🏞️ \nHelp us purchase and protect more land for native wildlife and people to enjoy.\n					\n				\n			\n			\n				\n				\n				\n				\n			\n				\n				\n				\n				\n				\n				\n				\n				\n				\n				\n				Thank You for Your Support\nEvery contribution you make helps secure the future of Shadow Lake Nature Preserve. Your generosity ensures that this precious natural space remains intact in a rapidly urbanizing world. Thank you for being a part of this special day!
URL:https://shadowhabitat.org/event/giving-tuesday/
CATEGORIES:Fundraiser
ATTACH;FMTTYPE=image/jpeg:https://shadowhabitat.org/wp-content/uploads/2024/11/Untitled-40-x-57-in.jpg
END:VEVENT
END:VCALENDAR