BEGIN:VCALENDAR
VERSION:2.0
PRODID:-//SHADOW - ECPv6.15.20//NONSGML v1.0//EN
CALSCALE:GREGORIAN
METHOD:PUBLISH
X-WR-CALNAME:SHADOW
X-ORIGINAL-URL:https://shadowhabitat.org
X-WR-CALDESC:Events for SHADOW
REFRESH-INTERVAL;VALUE=DURATION:PT1H
X-Robots-Tag:noindex
X-PUBLISHED-TTL:PT1H
BEGIN:VTIMEZONE
TZID:America/Los_Angeles
BEGIN:DAYLIGHT
TZOFFSETFROM:-0800
TZOFFSETTO:-0700
TZNAME:PDT
DTSTART:20230312T100000
END:DAYLIGHT
BEGIN:STANDARD
TZOFFSETFROM:-0700
TZOFFSETTO:-0800
TZNAME:PST
DTSTART:20231105T090000
END:STANDARD
BEGIN:DAYLIGHT
TZOFFSETFROM:-0800
TZOFFSETTO:-0700
TZNAME:PDT
DTSTART:20240310T100000
END:DAYLIGHT
BEGIN:STANDARD
TZOFFSETFROM:-0700
TZOFFSETTO:-0800
TZNAME:PST
DTSTART:20241103T090000
END:STANDARD
BEGIN:DAYLIGHT
TZOFFSETFROM:-0800
TZOFFSETTO:-0700
TZNAME:PDT
DTSTART:20250309T100000
END:DAYLIGHT
BEGIN:STANDARD
TZOFFSETFROM:-0700
TZOFFSETTO:-0800
TZNAME:PST
DTSTART:20251102T090000
END:STANDARD
END:VTIMEZONE
BEGIN:VEVENT
DTSTART;TZID=America/Los_Angeles:20241018T130000
DTEND;TZID=America/Los_Angeles:20241018T140000
DTSTAMP:20260422T090247
CREATED:20241011T192658Z
LAST-MODIFIED:20241011T235746Z
UID:37601-1729256400-1729260000@shadowhabitat.org
SUMMARY:Guided Nature Walk: Fall Forest Fungi
DESCRIPTION:A beautiful rainy fall is a mushroom enthusiast’s dream! Join fungi enthusiast Cecilia for an exploration of mushrooms visible from our trails. Understanding how to identify and differentiate mushrooms is an important part of staying safe while foraging. This guided nature walk will be fun for beginners and mycophiles interested in sharing their knowledge with a group. \nGuided nature walks happen rain or shine\, so please dress to keep yourself warm and dry. We will walk slowly to allow time for observation\, but the path is uneven or uphill in some places. \nAlthough this is a free event\, we always welcome donations to help support our education and restoration efforts. \nAt Shadow we ask that you leave organic materials where you find them. Our wildlife needs all the resources that the forest provides! \n\n\n\n	Notice: JavaScript is required for this content.\nNo Fields Found.
URL:https://shadowhabitat.org/event/guided-nature-walk-fall-forest-fungi/
LOCATION:Shadow Lake Nature Preserve\, 21656 184th Ave SE\, Renton\, WA\, 98058\, United States
CATEGORIES:Community Class,Guided Nature Walks
ATTACH;FMTTYPE=image/jpeg:https://shadowhabitat.org/wp-content/uploads/2024/10/Attachment-1-4-e1728673527510.jpeg
ORGANIZER;CN="Cecilia":MAILTO:cecilia@shadowhabitat.org
END:VEVENT
END:VCALENDAR