BEGIN:VCALENDAR
VERSION:2.0
PRODID:-//SHADOW - ECPv6.15.20//NONSGML v1.0//EN
CALSCALE:GREGORIAN
METHOD:PUBLISH
X-ORIGINAL-URL:https://shadowhabitat.org
X-WR-CALDESC:Events for SHADOW
REFRESH-INTERVAL;VALUE=DURATION:PT1H
X-Robots-Tag:noindex
X-PUBLISHED-TTL:PT1H
BEGIN:VTIMEZONE
TZID:America/Los_Angeles
BEGIN:DAYLIGHT
TZOFFSETFROM:-0800
TZOFFSETTO:-0700
TZNAME:PDT
DTSTART:20230312T100000
END:DAYLIGHT
BEGIN:STANDARD
TZOFFSETFROM:-0700
TZOFFSETTO:-0800
TZNAME:PST
DTSTART:20231105T090000
END:STANDARD
BEGIN:DAYLIGHT
TZOFFSETFROM:-0800
TZOFFSETTO:-0700
TZNAME:PDT
DTSTART:20240310T100000
END:DAYLIGHT
BEGIN:STANDARD
TZOFFSETFROM:-0700
TZOFFSETTO:-0800
TZNAME:PST
DTSTART:20241103T090000
END:STANDARD
BEGIN:DAYLIGHT
TZOFFSETFROM:-0800
TZOFFSETTO:-0700
TZNAME:PDT
DTSTART:20250309T100000
END:DAYLIGHT
BEGIN:STANDARD
TZOFFSETFROM:-0700
TZOFFSETTO:-0800
TZNAME:PST
DTSTART:20251102T090000
END:STANDARD
END:VTIMEZONE
BEGIN:VEVENT
DTSTART;TZID=America/Los_Angeles:20240427T150000
DTEND;TZID=America/Los_Angeles:20240427T163000
DTSTAMP:20260423T043826
CREATED:20240124T211630Z
LAST-MODIFIED:20240424T223240Z
UID:22956-1714230000-1714235400@shadowhabitat.org
SUMMARY:Herpetology & Nature- Based Learning For Educators
DESCRIPTION:Unfortunately this event has been cancelled\, check back in for more events soon!\nJoin Alison Webb PhD\, Program Director of Pacific Northwest Biology to learn about incorporating herpetology in youth education. Reptiles and amphibians play a critical role in the environment’s health; incorporating them into a nature-based curriculum can be both valuable and exciting! This workshop will discuss strategies for identifying and interacting with reptiles and amphibians while focusing on safety and respect. We will discuss inclusive and comfortable ways to approach animals physically and how to advocate for and participate in their conservation. Participants will learn about many of these animal groups’ unique\, observable traits and how gentle observation techniques can allow us to develop a deeper understanding of their biology and natural history. This course intends to give educators of all kinds easy-to-use tools to guide and encourage their students to understand and explore the field of herpetology. \nFind out more about Dr. Alison Webb and her environmental education programs \nThis is a fee-based program\, your $25 contribution will help us continue to provide engaging environmental education opportunities for all! (If this fee is prohibitive to you\, please feel free to contribute at a level more comfortable to you). \n\n	Notice: JavaScript is required for this content.\nNo Fields Found.
URL:https://shadowhabitat.org/event/herpetology-nature-based-learning-for-educators/
LOCATION:Shadow Lake Nature Preserve\, 21656 184th Ave SE\, Renton\, WA\, 98058\, United States
CATEGORIES:Community Class
ATTACH;FMTTYPE=image/jpeg:https://shadowhabitat.org/wp-content/uploads/2023/05/Ambystoma_macrodactylum_sigillatum_Plumas_County_CA-scaled.jpg
END:VEVENT
END:VCALENDAR